{"text_format":"1","workbook":"xlsx","n_sheets":7,"sheets":["Matriz de busqueda de los cod","FERIAS 3 DIAS","FERIAS DE 4 A 6 DIAS","FERIAS DE 7 DIAS EN ADELANTE","SOLICITUD DE SERVICIOS","TARIFAS SERVICIOS","TERMINOS Y CONDICIONES"],"not_rendered":{"charts":0,"images":4,"macros":1,"external_links":0,"defined_names":8,"comments":0,"pivot_tables":0},"unopened":[],"bounds":{"document_bytes":16777216,"sheet_cells":100000,"rows_first":2000,"rows_last":500,"rows_between":2000,"halvings":0,"cell_chars":16384,"cell_head_chars":4096},"cells_cut":0,"cells_raw":0,"read":"whole","date_system":"1900"}

{"sheet":"Matriz de busqueda de los cod","index":0,"n_rows":417,"n_cols":3,"rows_kept":417,"cut":false,"hidden":true,"merged":[]}
["Codigo"," ","Clave"]
[3070101,"Instalación Monofásica (Toma corriente doble, consumo hasta 2KW/110V) valor de 1 a 6 dias",{"$f":"CONCATENATE(A2:A414,\" \",B2:B417)","v":"3070101 Instalación Monofásica (Toma corriente doble, consumo hasta 2KW/110V) valor de 1 a 6 dias"}]
[3070101,"Instalación Monofásica (Toma corriente doble, consumo hasta 2KW/110V) valor de 7 dias en adelante",{"$f":"CONCATENATE(A3:A414,\" \",B3:B417)","v":"3070101 Instalación Monofásica (Toma corriente doble, consumo hasta 2KW/110V) valor de 7 dias en adelante"}]
[3070103,"Instalación kilovatio adicional monofásico (Debe contar con punto principal, MAX 2KW por punto)",{"$f":"CONCATENATE(A4:A414,\" \",B4:B417)","v":"3070103 Instalación kilovatio adicional monofásico (Debe contar con punto principal, MAX 2KW por punto)"}]
[3070102,"Instalación trifásica (Regleta plastica, consumo hasta 4KW/208V)",{"$f":"CONCATENATE(A5:A415,\" \",B5:B418)","v":"3070102 Instalación trifásica (Regleta plastica, consumo hasta 4KW/208V)"}]
[3070104,"Instalación kilovatio adicional trifásico (Debe contar con punto principal)",{"$f":"CONCATENATE(A6:A416,\" \",B6:B419)","v":"3070104 Instalación kilovatio adicional trifásico (Debe contar con punto principal)"}]
[3071372,"De 21 a 50 kilovatios adicionales trifásicos (Valor por KW) (Debe contar con punto principal)",{"$f":"CONCATENATE(A7:A417,\" \",B7:B420)","v":"3071372 De 21 a 50 kilovatios adicionales trifásicos (Valor por KW) (Debe contar con punto principal)"}]
[3071373,"De 51 a 100 kilovatios adicionales trifásicos (Valor por KW) (Debe contar con punto principal)",{"$f":"CONCATENATE(A8:A418,\" \",B8:B421)","v":"3071373 De 51 a 100 kilovatios adicionales trifásicos (Valor por KW) (Debe contar con punto principal)"}]
[3071374,"Mas de100 kilovatios adicionales trifásicos (Valor por KW) (Debe contar con punto principal)",{"$f":"CONCATENATE(A9:A419,\" \",B9:B422)","v":"3071374 Mas de100 kilovatios adicionales trifásicos (Valor por KW) (Debe contar con punto principal)"}]
[3070402,"Lampara de pared ajustable (150W/110V)",{"$f":"CONCATENATE(A10:A420,\" \",B10:B423)","v":"3070402 Lampara de pared ajustable (150W/110V)"}]
[3070405,"Reflector Led (50W- mltV)",{"$f":"CONCATENATE(A11:A421,\" \",B11:B424)","v":"3070405 Reflector Led (50W- mltV)"}]
[3070403,"Extensión – tomacorriente doble con polo a tierra (1500W/110V) MAX 6mts ",{"$f":"CONCATENATE(A12:A422,\" \",B12:B425)","v":"3070403 Extensión – tomacorriente doble con polo a tierra (1500W/110V) MAX 6mts "}]
[3071345,"Lavaplatos 90XL* 60XH* 90 (No incluye agua y desague) valor de 1 a 6 dias",{"$f":"CONCATENATE(A13:A423,\" \",B13:B426)","v":"3071345 Lavaplatos 90XL* 60XH* 90 (No incluye agua y desague) valor de 1 a 6 dias"}]
[3071345,"Lavaplatos 90XL* 60XH* 90 (No incluye agua y desague) valor de 7 dias en adelante",{"$f":"CONCATENATE(A14:A424,\" \",B14:B427)","v":"3071345 Lavaplatos 90XL* 60XH* 90 (No incluye agua y desague) valor de 7 dias en adelante"}]
[3070301,"Punto de Agua en 1/2\" (incluye consumo) valor de 1 a 6 dias",{"$f":"CONCATENATE(A15:A425,\" \",B15:B428)","v":"3070301 Punto de Agua en 1/2\" (incluye consumo) valor de 1 a 6 dias"}]
[3070301,"Punto de Agua en 1/2\" (incluye consumo) valor de 7 dias en adelante",{"$f":"CONCATENATE(A16:A426,\" \",B16:B429)","v":"3070301 Punto de Agua en 1/2\" (incluye consumo) valor de 7 dias en adelante"}]
[3070302,"Desagüe en 1 1/2\" Por toda la feria (Ubicación asignada por Corferias en su stand) valor de 1 a 6 dias",{"$f":"CONCATENATE(A17:A427,\" \",B17:B430)","v":"3070302 Desagüe en 1 1/2\" Por toda la feria (Ubicación asignada por Corferias en su stand) valor de 1 a 6 dias"}]
[3070302,"Desagüe en 1 1/2\" Por toda la feria (Ubicación asignada por Corferias en su stand) valor de 7 dias en adelante",{"$f":"CONCATENATE(A18:A428,\" \",B18:B431)","v":"3070302 Desagüe en 1 1/2\" Por toda la feria (Ubicación asignada por Corferias en su stand) valor de 7 dias en adelante"}]
[3071341,"Aire comprimido para punto con presión máx. de 100 PSI, y caudal máx. 35CFM. valor de 1 a 6 dias",{"$f":"CONCATENATE(A19:A429,\" \",B19:B432)","v":"3071341 Aire comprimido para punto con presión máx. de 100 PSI, y caudal máx. 35CFM. valor de 1 a 6 dias"}]
[3071341,"Aire comprimido para punto con presión máx. de 100 PSI, y caudal máx. 35CFM. valor de 7 dias en adelante",{"$f":"CONCATENATE(A20:A430,\" \",B20:B433)","v":"3071341 Aire comprimido para punto con presión máx. de 100 PSI, y caudal máx. 35CFM. valor de 7 dias en adelante"}]
[3070307,"Punto de Agua en 1/2\" (Incluye consumo)  + Desagüe en 1 1/2\" + Lavaplatos valor de 1 a 6 dias",{"$f":"CONCATENATE(A21:A431,\" \",B21:B434)","v":"3070307 Punto de Agua en 1/2\" (Incluye consumo)  + Desagüe en 1 1/2\" + Lavaplatos valor de 1 a 6 dias"}]
[3070307,"Punto de Agua en 1/2\" (Incluye consumo)  + Desagüe en 1 1/2\" + Lavaplatos valor de 7 dias en adelante",{"$f":"CONCATENATE(A22:A432,\" \",B22:B435)","v":"3070307 Punto de Agua en 1/2\" (Incluye consumo)  + Desagüe en 1 1/2\" + Lavaplatos valor de 7 dias en adelante"}]
[3071321,"Instalación de UN (1) punto de gas propano por UN (1) Equipo (Incluye materiales y mano de obra) (No incluye consumo de gas, este será liquidado a través de un medidor una vez finalice la feria y/o evento)",{"$f":"CONCATENATE(A23:A433,\" \",B23:B436)","v":"3071321 Instalación de UN (1) punto de gas propano por UN (1) Equipo (Incluye materiales y mano de obra) (No incluye consumo de gas, este será liquidado a través de un medidor una vez finalice la feria y/o evento)"}]
[3070601,"Panel adicional sistema cfe 100cm x 240cm",{"$f":"CONCATENATE(A24:A434,\" \",B24:B437)","v":"3070601 Panel adicional sistema cfe 100cm x 240cm"}]
[3070801,"Puerta sistema cfe 90cm x 240cm",{"$f":"CONCATENATE(A25:A435,\" \",B25:B438)","v":"3070801 Puerta sistema cfe 90cm x 240cm"}]
[3070803,"Bodega estándar con puerta 150cm x 150cm (Sistema Corferias)",{"$f":"CONCATENATE(A26:A436,\" \",B26:B439)","v":"3070803 Bodega estándar con puerta 150cm x 150cm (Sistema Corferias)"}]
[3071418,"Servicio de Internet Cableado \"PARA UN EQUIPO - DURANTE UN DÍA\"  ",{"$f":"CONCATENATE(A27:A453,\" \",B27:B456)","v":"3071418 Servicio de Internet Cableado \"PARA UN EQUIPO - DURANTE UN DÍA\"  "}]
[3071419,"Clave de acceso para la red WiFi  \"PARA UN EQUIPO - DURANTE UN DÍA\"",{"$f":"CONCATENATE(A28:A454,\" \",B28:B457)","v":"3071419 Clave de acceso para la red WiFi  \"PARA UN EQUIPO - DURANTE UN DÍA\""}]
[3071417,"Servicio de Internet Cableado \"PARA UN EQUIPO - DURANTE TODA LA FERIA\" valor de 3 dias",{"$f":"CONCATENATE(A29:A455,\" \",B29:B458)","v":"3071417 Servicio de Internet Cableado \"PARA UN EQUIPO - DURANTE TODA LA FERIA\" valor de 3 dias"}]
[3071417,"Servicio de Internet Cableado \"PARA UN EQUIPO - DURANTE TODA LA FERIA\" valor de 4 a 6 dias",{"$f":"CONCATENATE(A30:A456,\" \",B30:B459)","v":"3071417 Servicio de Internet Cableado \"PARA UN EQUIPO - DURANTE TODA LA FERIA\" valor de 4 a 6 dias"}]
[3071417,"Servicio de Internet Cableado \"PARA UN EQUIPO - DURANTE TODA LA FERIA\" valor a partir de 7 dias",{"$f":"CONCATENATE(A31:A457,\" \",B31:B460)","v":"3071417 Servicio de Internet Cableado \"PARA UN EQUIPO - DURANTE TODA LA FERIA\" valor a partir de 7 dias"}]
[3071420,"Clave de acceso para la Red WiFi \"PARA UN EQUIPO - DURANTE TODA LA FERIA\" valor de 3 dias",{"$f":"CONCATENATE(A32:A458,\" \",B32:B461)","v":"3071420 Clave de acceso para la Red WiFi \"PARA UN EQUIPO - DURANTE TODA LA FERIA\" valor de 3 dias"}]
[3071420,"Clave de acceso para la Red WiFi \"PARA UN EQUIPO - DURANTE TODA LA FERIA\" valor de 4 a 6 dias",{"$f":"CONCATENATE(A33:A459,\" \",B33:B462)","v":"3071420 Clave de acceso para la Red WiFi \"PARA UN EQUIPO - DURANTE TODA LA FERIA\" valor de 4 a 6 dias"}]
[3071420,"Clave de acceso para la Red WiFi \"PARA UN EQUIPO - DURANTE TODA LA FERIA\" valor a partir de 7 dias",{"$f":"CONCATENATE(A34:A460,\" \",B34:B463)","v":"3071420 Clave de acceso para la Red WiFi \"PARA UN EQUIPO - DURANTE TODA LA FERIA\" valor a partir de 7 dias"}]
[3071423,"Conexión para Datafono + Clave de acceso WIFI (Para un equipo durante toda la feria) valor de 3 dias ",{"$f":"CONCATENATE(A35:A461,\" \",B35:B464)","v":"3071423 Conexión para Datafono + Clave de acceso WIFI (Para un equipo durante toda la feria) valor de 3 dias "}]
[3071423,"Conexión para Datafono + Clave de acceso WIFI (Para un equipo durante toda la feria)  valor de 4 a 6 dias",{"$f":"CONCATENATE(A36:A462,\" \",B36:B465)","v":"3071423 Conexión para Datafono + Clave de acceso WIFI (Para un equipo durante toda la feria)  valor de 4 a 6 dias"}]
[3071423,"Conexión para Datafono + Clave de acceso WIFI (Para un equipo durante toda la feria) valor a partir de 7 dias",{"$f":"CONCATENATE(A37:A463,\" \",B37:B466)","v":"3071423 Conexión para Datafono + Clave de acceso WIFI (Para un equipo durante toda la feria) valor a partir de 7 dias"}]
[3071424,"Conexión para Datafono + Servicio de Internet Cableado (Para un equipo durante toda la feria) valor de 3 dias ",{"$f":"CONCATENATE(A38:A464,\" \",B38:B467)","v":"3071424 Conexión para Datafono + Servicio de Internet Cableado (Para un equipo durante toda la feria) valor de 3 dias "}]
[3071424,"Conexión para Datafono + Servicio de Internet Cableado (Para un equipo durante toda la feria)  valor de 4 a 6 dias",{"$f":"CONCATENATE(A39:A465,\" \",B39:B468)","v":"3071424 Conexión para Datafono + Servicio de Internet Cableado (Para un equipo durante toda la feria)  valor de 4 a 6 dias"}]
[3071424,"Conexión para Datafono + Servicio de Internet Cableado (Para un equipo durante toda la feria) valor a partir de 7 dias",{"$f":"CONCATENATE(A40:A466,\" \",B40:B469)","v":"3071424 Conexión para Datafono + Servicio de Internet Cableado (Para un equipo durante toda la feria) valor a partir de 7 dias"}]
[3071425,"Servicio de Internet Cableado + Clave de acceso WIFI (Para un equipo durante toda la feria) valor de 3 dias ",{"$f":"CONCATENATE(A41:A467,\" \",B41:B470)","v":"3071425 Servicio de Internet Cableado + Clave de acceso WIFI (Para un equipo durante toda la feria) valor de 3 dias "}]
[3071425,"Servicio de Internet Cableado + Clave de acceso WIFI (Para un equipo durante toda la feria)  valor de 4 a 6 dias",{"$f":"CONCATENATE(A42:A468,\" \",B42:B471)","v":"3071425 Servicio de Internet Cableado + Clave de acceso WIFI (Para un equipo durante toda la feria)  valor de 4 a 6 dias"}]
[3071425,"Servicio de Internet Cableado + Clave de acceso WIFI (Para un equipo durante toda la feria) valor a partir de 7 dias",{"$f":"CONCATENATE(A43:A469,\" \",B43:B472)","v":"3071425 Servicio de Internet Cableado + Clave de acceso WIFI (Para un equipo durante toda la feria) valor a partir de 7 dias"}]
[3071437,"Internet Dedicado: Si requiere conexión banda ancha para diferentes servicios o redes locales, contáctese con serviciosplus@corferias.com para brindarle asesoria y cotización.",{"$f":"CONCATENATE(A44:A470,\" \",B44:B473)","v":"3071437 Internet Dedicado: Si requiere conexión banda ancha para diferentes servicios o redes locales, contáctese con serviciosplus@corferias.com para brindarle asesoria y cotización."}]
[3071406,"Instalación Punto de Red:Incluye un cable UTP por punto",{"$f":"CONCATENATE(A45:A471,\" \",B45:B474)","v":"3071406 Instalación Punto de Red:Incluye un cable UTP por punto"}]
[3071407,"Switch VALOR POR FERIA ",{"$f":"CONCATENATE(A46:A472,\" \",B46:B475)","v":"3071407 Switch VALOR POR FERIA "}]
[3071402,"Servicio de VLAN: Servicio virtual de red.  VALOR POR FERIA",{"$f":"CONCATENATE(A47:A473,\" \",B47:B476)","v":"3071402 Servicio de VLAN: Servicio virtual de red.  VALOR POR FERIA"}]
[3071430,"Extension LAN VALOR POR FERIA  (Incluye punto de red y aplica para extender el servicio de internet contratado con terceros)",{"$f":"CONCATENATE(A48:A474,\" \",B48:B477)","v":"3071430 Extension LAN VALOR POR FERIA  (Incluye punto de red y aplica para extender el servicio de internet contratado con terceros)"}]
[3071442,"Soporte técnico permanente (Por espacio de 8 horas) de un técnico. VALOR DÍARIO ",{"$f":"CONCATENATE(A49:A475,\" \",B49:B478)","v":"3071442 Soporte técnico permanente (Por espacio de 8 horas) de un técnico. VALOR DÍARIO "}]
[3070202,"Servicio Telefónico Urbano con Aparato (Incluye consumo local ilimitado)",{"$f":"CONCATENATE(A50:A476,\" \",B50:B479)","v":"3070202 Servicio Telefónico Urbano con Aparato (Incluye consumo local ilimitado)"}]
[3070203,"Servicio Telefónico Larga Distancia con aparato",{"$f":"CONCATENATE(A51:A477,\" \",B51:B480)","v":"3070203 Servicio Telefónico Larga Distancia con aparato"}]
[3070201,"Línea Externa no conmutada (Previa solicitud a Etb, Claro, EPM, Colomsat u otro operador)",{"$f":"CONCATENATE(A52:A478,\" \",B52:B481)","v":"3070201 Línea Externa no conmutada (Previa solicitud a Etb, Claro, EPM, Colomsat u otro operador)"}]
[3070207,"Conexión cableada para Datafono:(No incluye Datafono)",{"$f":"CONCATENATE(A53:A479,\" \",B53:B482)","v":"3070207 Conexión cableada para Datafono:(No incluye Datafono)"}]
[3071107,"Archivador Regina (70cm x 37cm x50cm)",{"$f":"CONCATENATE(A54:A480,\" \",B54:B483)","v":"3071107 Archivador Regina (70cm x 37cm x50cm)"}]
[3070954,"Counter Mónaco (Melaminico) (100cm x 100cm x 30cm)",{"$f":"CONCATENATE(A55:A481,\" \",B55:B484)","v":"3070954 Counter Mónaco (Melaminico) (100cm x 100cm x 30cm)"}]
[3070954,"Counter Mónaco (Miel) (100cm x 100cm x 30cm)",{"$f":"CONCATENATE(A56:A482,\" \",B56:B485)","v":"3070954 Counter Mónaco (Miel) (100cm x 100cm x 30cm)"}]
[3070954,"Counter Mónaco (Roble Gris) (100cm x 100cm x 30cm)",{"$f":"CONCATENATE(A57:A483,\" \",B57:B486)","v":"3070954 Counter Mónaco (Roble Gris) (100cm x 100cm x 30cm)"}]
[3070954,"Counter Mónaco (Rovere) (100cm x 100cm x 30cm)",{"$f":"CONCATENATE(A58:A484,\" \",B58:B487)","v":"3070954 Counter Mónaco (Rovere) (100cm x 100cm x 30cm)"}]
[3070714,"Cubo de exhibición (40cm x 40cm x 25cm)",{"$f":"CONCATENATE(A59:A485,\" \",B59:B488)","v":"3070714 Cubo de exhibición (40cm x 40cm x 25cm)"}]
[3070503,"Estantería Polo (Melaminico)   (200cm x 93cm x 35cm)",{"$f":"CONCATENATE(A60:A486,\" \",B60:B489)","v":"3070503 Estantería Polo (Melaminico)   (200cm x 93cm x 35cm)"}]
[3070503,"Estantería Polo (Miel)  (200cm x 93cm x 35cm)",{"$f":"CONCATENATE(A61:A487,\" \",B61:B490)","v":"3070503 Estantería Polo (Miel)  (200cm x 93cm x 35cm)"}]
[3070503,"Estantería Polo (OSB)  (200cm x 93cm x 35cm)",{"$f":"CONCATENATE(A62:A488,\" \",B62:B491)","v":"3070503 Estantería Polo (OSB)  (200cm x 93cm x 35cm)"}]
[3070503,"Estantería Polo (Roble Gris)  (200cm x 93cm x 35cm)",{"$f":"CONCATENATE(A63:A489,\" \",B63:B492)","v":"3070503 Estantería Polo (Roble Gris)  (200cm x 93cm x 35cm)"}]
[3070503,"Estantería Polo (Rovere)  (200cm x 93cm x 35cm)",{"$f":"CONCATENATE(A64:A490,\" \",B64:B493)","v":"3070503 Estantería Polo (Rovere)  (200cm x 93cm x 35cm)"}]
[3071108,"Estantería Shelf 4E (190cm x 125cm x 41cm)",{"$f":"CONCATENATE(A65:A491,\" \",B65:B494)","v":"3071108 Estantería Shelf 4E (190cm x 125cm x 41cm)"}]
[3071105,"KIT básico oficina 2 (2 sillas interlocutoras negras, 1 silla ejecutiva cuero, 1 mesa oficina)",{"$f":"CONCATENATE(A66:A493,\" \",B66:B496)","v":"3071105 KIT básico oficina 2 (2 sillas interlocutoras negras, 1 silla ejecutiva cuero, 1 mesa oficina)"}]
[3070512,"Locker 12 puestos",{"$f":"CONCATENATE(A67:A494,\" \",B67:B497)","v":"3070512 Locker 12 puestos"}]
[3070512,"Mesa alta Daysa (Melaminico) (100cm x 60cm)",{"$f":"CONCATENATE(A68:A496,\" \",B68:B499)","v":"3070512 Mesa alta Daysa (Melaminico) (100cm x 60cm)"}]
[3071115,"Mesa alta Daysa (Miel) (100cm x 60cm)",{"$f":"CONCATENATE(A69:A497,\" \",B69:B500)","v":"3071115 Mesa alta Daysa (Miel) (100cm x 60cm)"}]
[3071115,"Mesa alta Daysa (Roble Gris) (100cm x 60cm)",{"$f":"CONCATENATE(A70:A498,\" \",B70:B501)","v":"3071115 Mesa alta Daysa (Roble Gris) (100cm x 60cm)"}]
[3071115,"Mesa alta Daysa (Rovere) (100cm x 60cm)",{"$f":"CONCATENATE(A71:A499,\" \",B71:B502)","v":"3071115 Mesa alta Daysa (Rovere) (100cm x 60cm)"}]
[3071039,"Mesa alta Daysa + 2 sillas neumaticas altas marsella",{"$f":"CONCATENATE(A72:A500,\" \",B72:B503)","v":"3071039 Mesa alta Daysa + 2 sillas neumaticas altas marsella"}]
[3071093,"Mesa alta Daysa vidrio (100cm x 60cm)",{"$f":"CONCATENATE(A73:A501,\" \",B73:B504)","v":"3071093 Mesa alta Daysa vidrio (100cm x 60cm)"}]
[3071100,"Mesa Centro Circular doble nivel (melaminico) (50cm x 110cm x 60cm)",{"$f":"CONCATENATE(A74:A502,\" \",B74:B505)","v":"3071100 Mesa Centro Circular doble nivel (melaminico) (50cm x 110cm x 60cm)"}]
[3071104,"Mesa Centro Cuadrada 2 Niveles (melaminico) (50cm x 60cm x 60)",{"$f":"CONCATENATE(A75:A503,\" \",B75:B506)","v":"3071104 Mesa Centro Cuadrada 2 Niveles (melaminico) (50cm x 60cm x 60)"}]
[3071068,"Mesa Centro Rectangular doble nivel (melaminico) (50cm x 75cm x 50cm)",{"$f":"CONCATENATE(A76:A504,\" \",B76:B507)","v":"3071068 Mesa Centro Rectangular doble nivel (melaminico) (50cm x 75cm x 50cm)"}]
[3071098,"Mesa estandar Chia Blanca",{"$f":"CONCATENATE(A77:A505,\" \",B77:B508)","v":"3071098 Mesa estandar Chia Blanca"}]
[3071098,"Mesa estandar Chia Negra",{"$f":"CONCATENATE(A78:A506,\" \",B78:B509)","v":"3071098 Mesa estandar Chia Negra"}]
[3071097,"Mesa estandar Daysa (76cm x 60cm)",{"$f":"CONCATENATE(A79:A507,\" \",B79:B510)","v":"3071097 Mesa estandar Daysa (76cm x 60cm)"}]
[3071116,"Mesa estandar Lotus (70cm x 64cm x 81cm)",{"$f":"CONCATENATE(A80:A508,\" \",B80:B511)","v":"3071116 Mesa estandar Lotus (70cm x 64cm x 81cm)"}]
[3071054,"Mesa estandar lotus vidrio + 2 sillas tipo huevo",{"$f":"CONCATENATE(A81:A509,\" \",B81:B512)","v":"3071054 Mesa estandar lotus vidrio + 2 sillas tipo huevo"}]
[30713200,"Mesa Oficina (78cm x 120cm x 50cm)",{"$f":"CONCATENATE(A82:A510,\" \",B82:B513)","v":"30713200 Mesa Oficina (78cm x 120cm x 50cm)"}]
[3071036,"Mesa plegable plastico + 2 sillas interlocutoras negras",{"$f":"CONCATENATE(A83:A511,\" \",B83:B514)","v":"3071036 Mesa plegable plastico + 2 sillas interlocutoras negras"}]
[3070936,"Mesón plegable plástico (Gris o blanco) (73cm x 182cm x 76cm)",{"$f":"CONCATENATE(A84:A512,\" \",B84:B515)","v":"3070936 Mesón plegable plástico (Gris o blanco) (73cm x 182cm x 76cm)"}]
[3071103,"Nevera Estandar 230LT ( 55.6cm X 157.6cm X 67cm)",{"$f":"CONCATENATE(A85:A513,\" \",B85:B516)","v":"3071103 Nevera Estandar 230LT ( 55.6cm X 157.6cm X 67cm)"}]
[3071103,"Nevera Minibar 121 LT (48.5cm X 85.1cm X 60cm)",{"$f":"CONCATENATE(A86:A514,\" \",B86:B517)","v":"3071103 Nevera Minibar 121 LT (48.5cm X 85.1cm X 60cm)"}]
[3071302,"Papelera plastica negra",{"$f":"CONCATENATE(A87:A515,\" \",B87:B518)","v":"3071302 Papelera plastica negra"}]
[3070957,"Pedestal cuadrado (30cm x 30cm x 30cm)",{"$f":"CONCATENATE(A88:A516,\" \",B88:B519)","v":"3070957 Pedestal cuadrado (30cm x 30cm x 30cm)"}]
[3070956,"Pedestal rectangular 60cm (60cm x 30cm x 30cm)",{"$f":"CONCATENATE(A89:A517,\" \",B89:B520)","v":"3070956 Pedestal rectangular 60cm (60cm x 30cm x 30cm)"}]
[3070955,"Pedestal rectangular 90cm (90cm x 30cm x 30cm)",{"$f":"CONCATENATE(A90:A518,\" \",B90:B521)","v":"3070955 Pedestal rectangular 90cm (90cm x 30cm x 30cm)"}]
[3070521,"Perchero básico 1 pedestal (120cm Ancho - Altura) graduable + 5 ganchos",{"$f":"CONCATENATE(A91:A519,\" \",B91:B522)","v":"3070521 Perchero básico 1 pedestal (120cm Ancho - Altura) graduable + 5 ganchos"}]
[3070521,"Perchero doble 2 pedestal (120cm Ancho-Altura) graduable + 5 ganchos",{"$f":"CONCATENATE(A92:A520,\" \",B92:B523)","v":"3070521 Perchero doble 2 pedestal (120cm Ancho-Altura) graduable + 5 ganchos"}]
[30713201,"Poltrona Buggy (72cm x 64cm)",{"$f":"CONCATENATE(A93:A521,\" \",B93:B524)","v":"30713201 Poltrona Buggy (72cm x 64cm)"}]
[3071059,"Poltrona Levis (73cm x 86cm x 73cm)",{"$f":"CONCATENATE(A94:A522,\" \",B94:B525)","v":"3071059 Poltrona Levis (73cm x 86cm x 73cm)"}]
[3071325,"Poste separador 120cm de alto",{"$f":"CONCATENATE(A95:A523,\" \",B95:B526)","v":"3071325 Poste separador 120cm de alto"}]
[3071090,"Puff estandar cuadrado (43cm x 43cm x 43cm)",{"$f":"CONCATENATE(A96:A524,\" \",B96:B527)","v":"3071090 Puff estandar cuadrado (43cm x 43cm x 43cm)"}]
[3071091,"Puff Trunk 2 cuerpos (48cm x 81cm x 40cm)",{"$f":"CONCATENATE(A97:A525,\" \",B97:B528)","v":"3071091 Puff Trunk 2 cuerpos (48cm x 81cm x 40cm)"}]
[3071114,"Puff Trunk 3 cuerpos (46cm x 120cm x 54cm)",{"$f":"CONCATENATE(A98:A526,\" \",B98:B529)","v":"3071114 Puff Trunk 3 cuerpos (46cm x 120cm x 54cm)"}]
[3071370,"Revistero plegable (140cm x 25cm x 29cm)",{"$f":"CONCATENATE(A99:A527,\" \",B99:B530)","v":"3071370 Revistero plegable (140cm x 25cm x 29cm)"}]
[null,"Sala de Juntas",{"$f":"CONCATENATE(A100:A528,\" \",B100:B531)","v":" Sala de Juntas"}]
[3071113,"Sala Osaka (1 sofá Toronto, 2 puffs Donna, 1 mesa centro cuadrada 2 niveles)",{"$f":"CONCATENATE(A101:A529,\" \",B101:B532)","v":"3071113 Sala Osaka (1 sofá Toronto, 2 puffs Donna, 1 mesa centro cuadrada 2 niveles)"}]
[3071095,"Sala VIP (1 sofá Victoria derecho, 1 sofá Victoria izquierdo, 2 poltronas, 1 mesa centro cuadrada 2 niveles)",{"$f":"CONCATENATE(A102:A530,\" \",B102:B533)","v":"3071095 Sala VIP (1 sofá Victoria derecho, 1 sofá Victoria izquierdo, 2 poltronas, 1 mesa centro cuadrada 2 niveles)"}]
[null,"Silla Bombonera Roja",{"$f":"CONCATENATE(A103:A531,\" \",B103:B534)","v":" Silla Bombonera Roja"}]
[3071081,"Silla Ejecutiva Cuero (57cm x 93cm x 52cm)",{"$f":"CONCATENATE(A104:A532,\" \",B104:B535)","v":"3071081 Silla Ejecutiva Cuero (57cm x 93cm x 52cm)"}]
[3071081,"Silla Ejecutiva Malla",{"$f":"CONCATENATE(A105:A533,\" \",B105:B536)","v":"3071081 Silla Ejecutiva Malla"}]
[3071061,"Silla estandar Suiza (48cm x 46cm x 45cm)",{"$f":"CONCATENATE(A106:A534,\" \",B106:B537)","v":"3071061 Silla estandar Suiza (48cm x 46cm x 45cm)"}]
[3071008,"Silla estandar Tipo Huevo (48cm x 46cm x 45cm)",{"$f":"CONCATENATE(A107:A535,\" \",B107:B538)","v":"3071008 Silla estandar Tipo Huevo (48cm x 46cm x 45cm)"}]
[30713198,"Silla Gerencial (100cm x 49cm x 49cm)",{"$f":"CONCATENATE(A108:A536,\" \",B108:B539)","v":"30713198 Silla Gerencial (100cm x 49cm x 49cm)"}]
[3071006,"Silla Interlocutora Negra (79cm x 53cm x 42cm)",{"$f":"CONCATENATE(A109:A537,\" \",B109:B540)","v":"3071006 Silla Interlocutora Negra (79cm x 53cm x 42cm)"}]
[3071077,"Silla Neumática alta Marsella (80cm x 40cm x 40cm)",{"$f":"CONCATENATE(A110:A538,\" \",B110:B541)","v":"3071077 Silla Neumática alta Marsella (80cm x 40cm x 40cm)"}]
[3071022,"Silla Neumatica alta Versalles (80cm x 40 cm x 40cm",{"$f":"CONCATENATE(A111:A539,\" \",B111:B542)","v":"3071022 Silla Neumatica alta Versalles (80cm x 40 cm x 40cm"}]
[null,"Silla Oslo Blanca",{"$f":"CONCATENATE(A112:A540,\" \",B112:B543)","v":" Silla Oslo Blanca"}]
[null,"Silla Tipo Bar Madera",{"$f":"CONCATENATE(A113:A541,\" \",B113:B544)","v":" Silla Tipo Bar Madera"}]
[3071085,"Sofa Otawa 2 cuerpos (85cm x 120cm x 76cm)",{"$f":"CONCATENATE(A114:A542,\" \",B114:B545)","v":"3071085 Sofa Otawa 2 cuerpos (85cm x 120cm x 76cm)"}]
[3071031,"Sofa Terranova 2 cuerpos (88cm x 173cm x 80cm)",{"$f":"CONCATENATE(A115:A543,\" \",B115:B546)","v":"3071031 Sofa Terranova 2 cuerpos (88cm x 173cm x 80cm)"}]
[3071083,"Sofa Toronto 3 cuerpos (88cm x 173cm x 80cm)",{"$f":"CONCATENATE(A116:A578,\" \",B116:B581)","v":"3071083 Sofa Toronto 3 cuerpos (88cm x 173cm x 80cm)"}]
[3071013,"Sofa Victoria derecho (70cm x 100cm x 75cm)",{"$f":"CONCATENATE(A117:A579,\" \",B117:B582)","v":"3071013 Sofa Victoria derecho (70cm x 100cm x 75cm)"}]
[3071023,"Sofa Victoria izquierdo (70cm x 100cm x 75cm)",{"$f":"CONCATENATE(A118:A580,\" \",B118:B583)","v":"3071023 Sofa Victoria izquierdo (70cm x 100cm x 75cm)"}]
[3070505,"Tarima 120x120x60, (Previa verificación con área de montaje)",{"$f":"CONCATENATE(A119:A581,\" \",B119:B584)","v":"3070505 Tarima 120x120x60, (Previa verificación con área de montaje)"}]
[3070535,"Vitrina Isla 2E (200cm x 50cm x 50cm)",{"$f":"CONCATENATE(A120:A582,\" \",B120:B585)","v":"3070535 Vitrina Isla 2E (200cm x 50cm x 50cm)"}]
[3070517,"Vitrina Mostrador 2E (100cm x 100cm x 40cm)",{"$f":"CONCATENATE(A121:A583,\" \",B121:B586)","v":"3070517 Vitrina Mostrador 2E (100cm x 100cm x 40cm)"}]
[3070518,"Vitrina Mostrador Tipo 2 1E (92cm x 90 cm x 40cm)",{"$f":"CONCATENATE(A122:A584,\" \",B122:B587)","v":"3070518 Vitrina Mostrador Tipo 2 1E (92cm x 90 cm x 40cm)"}]
[3071111,"Vitrina Rectangular 2E (200cm x 100cm x 40cm)",{"$f":"CONCATENATE(A123:A585,\" \",B123:B588)","v":"3071111 Vitrina Rectangular 2E (200cm x 100cm x 40cm)"}]
[3071346,"Base para Tv Led - LCD adaptable  (No Incluye Instalacion) Valor evento 1 día",{"$f":"CONCATENATE(A124:A586,\" \",B124:B589)","v":"3071346 Base para Tv Led - LCD adaptable  (No Incluye Instalacion) Valor evento 1 día"}]
[3071346,"Base para Tv Led - LCD adaptable  (No Incluye Instalacion) Valor evento 2 dias (Valor dia)",{"$f":"CONCATENATE(A125:A587,\" \",B125:B590)","v":"3071346 Base para Tv Led - LCD adaptable  (No Incluye Instalacion) Valor evento 2 dias (Valor dia)"}]
[3071346,"Base para Tv Led - LCD adaptable  (No Incluye Instalacion) Valor de 3 a 6 dias (Valor dia)",{"$f":"CONCATENATE(A126:A588,\" \",B126:B591)","v":"3071346 Base para Tv Led - LCD adaptable  (No Incluye Instalacion) Valor de 3 a 6 dias (Valor dia)"}]
[3071346,"Base para Tv Led - LCD adaptable  (No Incluye Instalacion) Valor de 7 a 18 días (Valor feria)",{"$f":"CONCATENATE(A127:A589,\" \",B127:B592)","v":"3071346 Base para Tv Led - LCD adaptable  (No Incluye Instalacion) Valor de 7 a 18 días (Valor feria)"}]
[3071204,"Tv Smart  42\" 106cms ( Incluye base para tv / cable de corriente / 1 cable HDMI) IN: HDMI, USB Valor evento 1 día",{"$f":"CONCATENATE(A128:A590,\" \",B128:B593)","v":"3071204 Tv Smart  42\" 106cms ( Incluye base para tv / cable de corriente / 1 cable HDMI) IN: HDMI, USB Valor evento 1 día"}]
[3071204,"Tv Smart  42\" 106cms ( Incluye base para tv / cable de corriente / 1 cable HDMI) IN: HDMI, USB Valor evento 2 dias (Valor dia)",{"$f":"CONCATENATE(A129:A591,\" \",B129:B594)","v":"3071204 Tv Smart  42\" 106cms ( Incluye base para tv / cable de corriente / 1 cable HDMI) IN: HDMI, USB Valor evento 2 dias (Valor dia)"}]
[3071204,"Tv Smart  42\" 106cms ( Incluye base para tv / cable de corriente / 1 cable HDMI) IN: HDMI, USB Valor de 3 a 6 dias (Valor dia)",{"$f":"CONCATENATE(A130:A592,\" \",B130:B595)","v":"3071204 Tv Smart  42\" 106cms ( Incluye base para tv / cable de corriente / 1 cable HDMI) IN: HDMI, USB Valor de 3 a 6 dias (Valor dia)"}]
[3071204,"Tv Smart  42\" 106cms ( Incluye base para tv / cable de corriente / 1 cable HDMI) IN: HDMI, USB Valor de 7 a 18 días (Valor feria)",{"$f":"CONCATENATE(A131:A593,\" \",B131:B596)","v":"3071204 Tv Smart  42\" 106cms ( Incluye base para tv / cable de corriente / 1 cable HDMI) IN: HDMI, USB Valor de 7 a 18 días (Valor feria)"}]
[3071206,"Tv Smart  55\" 140cms ( Incluye base para tv / cable de corriente / 1 cable HDMI) IN: HDMI, USB Valor evento 1 día",{"$f":"CONCATENATE(A132:A586,\" \",B132:B589)","v":"3071206 Tv Smart  55\" 140cms ( Incluye base para tv / cable de corriente / 1 cable HDMI) IN: HDMI, USB Valor evento 1 día"}]
[3071206,"Tv Smart  55\" 140cms ( Incluye base para tv / cable de corriente / 1 cable HDMI) IN: HDMI, USB Valor evento 2 dias (Valor dia)",{"$f":"CONCATENATE(A133:A587,\" \",B133:B590)","v":"3071206 Tv Smart  55\" 140cms ( Incluye base para tv / cable de corriente / 1 cable HDMI) IN: HDMI, USB Valor evento 2 dias (Valor dia)"}]
[3071206,"Tv Smart  55\" 140cms ( Incluye base para tv / cable de corriente / 1 cable HDMI) IN: HDMI, USB Valor de 3 a 6 dias (Valor dia)",{"$f":"CONCATENATE(A134:A588,\" \",B134:B591)","v":"3071206 Tv Smart  55\" 140cms ( Incluye base para tv / cable de corriente / 1 cable HDMI) IN: HDMI, USB Valor de 3 a 6 dias (Valor dia)"}]
[3071206,"Tv Smart  55\" 140cms ( Incluye base para tv / cable de corriente / 1 cable HDMI) IN: HDMI, USB Valor de 7 a 18 días (Valor feria)",{"$f":"CONCATENATE(A135:A589,\" \",B135:B592)","v":"3071206 Tv Smart  55\" 140cms ( Incluye base para tv / cable de corriente / 1 cable HDMI) IN: HDMI, USB Valor de 7 a 18 días (Valor feria)"}]
[30713202,"Tv Smart  65\" 165cms ( Incluye base para tv / cable de corriente /1 cable HDMI) IN: HDMI, USB Valor evento 1 día",{"$f":"CONCATENATE(A136:A590,\" \",B136:B593)","v":"30713202 Tv Smart  65\" 165cms ( Incluye base para tv / cable de corriente /1 cable HDMI) IN: HDMI, USB Valor evento 1 día"}]
[30713202,"Tv Smart  65\" 165cms ( Incluye base para tv / cable de corriente /1 cable HDMI) IN: HDMI, USB Valor evento 2 dias (Valor dia)",{"$f":"CONCATENATE(A137:A591,\" \",B137:B594)","v":"30713202 Tv Smart  65\" 165cms ( Incluye base para tv / cable de corriente /1 cable HDMI) IN: HDMI, USB Valor evento 2 dias (Valor dia)"}]
[30713202,"Tv Smart  65\" 165cms ( Incluye base para tv / cable de corriente /1 cable HDMI) IN: HDMI, USB Valor de 3 a 6 dias (Valor dia)",{"$f":"CONCATENATE(A138:A592,\" \",B138:B595)","v":"30713202 Tv Smart  65\" 165cms ( Incluye base para tv / cable de corriente /1 cable HDMI) IN: HDMI, USB Valor de 3 a 6 dias (Valor dia)"}]
[30713202,"Tv Smart  65\" 165cms ( Incluye base para tv / cable de corriente /1 cable HDMI) IN: HDMI, USB Valor de 7 a 18 días (Valor feria)",{"$f":"CONCATENATE(A139:A593,\" \",B139:B596)","v":"30713202 Tv Smart  65\" 165cms ( Incluye base para tv / cable de corriente /1 cable HDMI) IN: HDMI, USB Valor de 7 a 18 días (Valor feria)"}]
[3071279,"Tv Smart  70\" 177,8cms ( Incluye base para tv / cable de corriente /1 cable HDMI) IN: HDMI, USB Valor evento 1 día",{"$f":"CONCATENATE(A140:A594,\" \",B140:B597)","v":"3071279 Tv Smart  70\" 177,8cms ( Incluye base para tv / cable de corriente /1 cable HDMI) IN: HDMI, USB Valor evento 1 día"}]
[3071279,"Tv Smart  70\" 177,8cms ( Incluye base para tv / cable de corriente /1 cable HDMI) IN: HDMI, USB Valor evento 2 dias (Valor dia)",{"$f":"CONCATENATE(A141:A595,\" \",B141:B598)","v":"3071279 Tv Smart  70\" 177,8cms ( Incluye base para tv / cable de corriente /1 cable HDMI) IN: HDMI, USB Valor evento 2 dias (Valor dia)"}]
[3071279,"Tv Smart  70\" 177,8cms ( Incluye base para tv / cable de corriente /1 cable HDMI) IN: HDMI, USB Valor de 3 a 6 dias (Valor dia)",{"$f":"CONCATENATE(A142:A596,\" \",B142:B599)","v":"3071279 Tv Smart  70\" 177,8cms ( Incluye base para tv / cable de corriente /1 cable HDMI) IN: HDMI, USB Valor de 3 a 6 dias (Valor dia)"}]
[3071279,"Tv Smart  70\" 177,8cms ( Incluye base para tv / cable de corriente /1 cable HDMI) IN: HDMI, USB Valor de 7 a 18 días (Valor feria)",{"$f":"CONCATENATE(A143:A597,\" \",B143:B600)","v":"3071279 Tv Smart  70\" 177,8cms ( Incluye base para tv / cable de corriente /1 cable HDMI) IN: HDMI, USB Valor de 7 a 18 días (Valor feria)"}]
[3071222,"Tv Smart  82\" 204cms ( Incluye base para tv / cable de corriente /1 cable HDMI) IN: HDMI, USB Valor evento 1 día",{"$f":"CONCATENATE(A144:A598,\" \",B144:B601)","v":"3071222 Tv Smart  82\" 204cms ( Incluye base para tv / cable de corriente /1 cable HDMI) IN: HDMI, USB Valor evento 1 día"}]
[3071222,"Tv Smart  82\" 204cms ( Incluye base para tv / cable de corriente /1 cable HDMI) IN: HDMI, USB Valor evento 2 dias (Valor dia)",{"$f":"CONCATENATE(A145:A599,\" \",B145:B602)","v":"3071222 Tv Smart  82\" 204cms ( Incluye base para tv / cable de corriente /1 cable HDMI) IN: HDMI, USB Valor evento 2 dias (Valor dia)"}]
[3071222,"Tv Smart  82\" 204cms ( Incluye base para tv / cable de corriente /1 cable HDMI) IN: HDMI, USB Valor de 3 a 6 dias (Valor dia)",{"$f":"CONCATENATE(A146:A600,\" \",B146:B603)","v":"3071222 Tv Smart  82\" 204cms ( Incluye base para tv / cable de corriente /1 cable HDMI) IN: HDMI, USB Valor de 3 a 6 dias (Valor dia)"}]
[3071222,"Tv Smart  82\" 204cms ( Incluye base para tv / cable de corriente /1 cable HDMI) IN: HDMI, USB Valor de 7 a 18 días (Valor feria)",{"$f":"CONCATENATE(A147:A601,\" \",B147:B604)","v":"3071222 Tv Smart  82\" 204cms ( Incluye base para tv / cable de corriente /1 cable HDMI) IN: HDMI, USB Valor de 7 a 18 días (Valor feria)"}]
[3071261,"Monitor tactil 65\" 165cms ( Incluye base para monitor / cableado) IN: HDMI Valor evento 1 día",{"$f":"CONCATENATE(A148:A602,\" \",B148:B605)","v":"3071261 Monitor tactil 65\" 165cms ( Incluye base para monitor / cableado) IN: HDMI Valor evento 1 día"}]
[3071261,"Monitor tactil 65\" 165cms ( Incluye base para monitor / cableado) IN: HDMI Valor evento 2 dias (Valor dia)",{"$f":"CONCATENATE(A149:A603,\" \",B149:B606)","v":"3071261 Monitor tactil 65\" 165cms ( Incluye base para monitor / cableado) IN: HDMI Valor evento 2 dias (Valor dia)"}]
[3071261,"Monitor tactil 65\" 165cms ( Incluye base para monitor / cableado) IN: HDMI Valor de 3 a 6 dias (Valor dia)",{"$f":"CONCATENATE(A150:A604,\" \",B150:B607)","v":"3071261 Monitor tactil 65\" 165cms ( Incluye base para monitor / cableado) IN: HDMI Valor de 3 a 6 dias (Valor dia)"}]
[3071261,"Monitor tactil 65\" 165cms ( Incluye base para monitor / cableado) IN: HDMI Valor de 7 a 18 días (Valor feria)",{"$f":"CONCATENATE(A151:A605,\" \",B151:B608)","v":"3071261 Monitor tactil 65\" 165cms ( Incluye base para monitor / cableado) IN: HDMI Valor de 7 a 18 días (Valor feria)"}]
[3071284,"Tablet tactil 7\" RAM:1GB / Conectividad: 3G / Sistema Operativo Android 9.0 Valor evento 1 día",{"$f":"CONCATENATE(A152:A606,\" \",B152:B609)","v":"3071284 Tablet tactil 7\" RAM:1GB / Conectividad: 3G / Sistema Operativo Android 9.0 Valor evento 1 día"}]
[3071284,"Tablet tactil 7\" RAM:1GB / Conectividad: 3G / Sistema Operativo Android 9.0 Valor evento 2 dias (Valor dia)",{"$f":"CONCATENATE(A153:A607,\" \",B153:B610)","v":"3071284 Tablet tactil 7\" RAM:1GB / Conectividad: 3G / Sistema Operativo Android 9.0 Valor evento 2 dias (Valor dia)"}]
[3071284,"Tablet tactil 7\" RAM:1GB / Conectividad: 3G / Sistema Operativo Android 9.0 Valor de 3 a 6 dias (Valor dia)",{"$f":"CONCATENATE(A154:A608,\" \",B154:B611)","v":"3071284 Tablet tactil 7\" RAM:1GB / Conectividad: 3G / Sistema Operativo Android 9.0 Valor de 3 a 6 dias (Valor dia)"}]
[3071284,"Tablet tactil 7\" RAM:1GB / Conectividad: 3G / Sistema Operativo Android 9.0 Valor de 7 a 18 días (Valor feria)",{"$f":"CONCATENATE(A155:A609,\" \",B155:B612)","v":"3071284 Tablet tactil 7\" RAM:1GB / Conectividad: 3G / Sistema Operativo Android 9.0 Valor de 7 a 18 días (Valor feria)"}]
[3071260,"Pantalla Led Full Hd Indoor / Medida 3,20mts x 2,96mts / Pitch 3,9 / No incluye estructura para montaje Valor evento 1 día",{"$f":"CONCATENATE(A156:A610,\" \",B156:B613)","v":"3071260 Pantalla Led Full Hd Indoor / Medida 3,20mts x 2,96mts / Pitch 3,9 / No incluye estructura para montaje Valor evento 1 día"}]
[3071260,"Pantalla Led Full Hd Indoor / Medida 3,20mts x 2,96mts / Pitch 3,9 / No incluye estructura para montaje Valor evento 2 dias (Valor dia)",{"$f":"CONCATENATE(A157:A611,\" \",B157:B614)","v":"3071260 Pantalla Led Full Hd Indoor / Medida 3,20mts x 2,96mts / Pitch 3,9 / No incluye estructura para montaje Valor evento 2 dias (Valor dia)"}]
[3071260,"Pantalla Led Full Hd Indoor / Medida 3,20mts x 2,96mts / Pitch 3,9 / No incluye estructura para montaje Valor de 3 a 6 dias (Valor dia)",{"$f":"CONCATENATE(A158:A612,\" \",B158:B615)","v":"3071260 Pantalla Led Full Hd Indoor / Medida 3,20mts x 2,96mts / Pitch 3,9 / No incluye estructura para montaje Valor de 3 a 6 dias (Valor dia)"}]
[3071260,"Pantalla Led Full Hd Indoor / Medida 3,20mts x 2,96mts / Pitch 3,9 / No incluye estructura para montaje Valor de 7 a 18 días (Valor feria)",{"$f":"CONCATENATE(A159:A613,\" \",B159:B616)","v":"3071260 Pantalla Led Full Hd Indoor / Medida 3,20mts x 2,96mts / Pitch 3,9 / No incluye estructura para montaje Valor de 7 a 18 días (Valor feria)"}]
[3071260,"Pantalla Led Full Hd Indoor / Medida 4,48mts x 3,20mts / Pitch 3,9 / No incluye estructura para montaje Valor evento 1 día",{"$f":"CONCATENATE(A160:A614,\" \",B160:B617)","v":"3071260 Pantalla Led Full Hd Indoor / Medida 4,48mts x 3,20mts / Pitch 3,9 / No incluye estructura para montaje Valor evento 1 día"}]
[3071260,"Pantalla Led Full Hd Indoor / Medida 4,48mts x 3,20mts / Pitch 3,9 / No incluye estructura para montaje Valor evento 2 dias (Valor dia)",{"$f":"CONCATENATE(A161:A615,\" \",B161:B618)","v":"3071260 Pantalla Led Full Hd Indoor / Medida 4,48mts x 3,20mts / Pitch 3,9 / No incluye estructura para montaje Valor evento 2 dias (Valor dia)"}]
[3071260,"Pantalla Led Full Hd Indoor / Medida 4,48mts x 3,20mts / Pitch 3,9 / No incluye estructura para montaje Valor de 3 a 6 dias (Valor dia)",{"$f":"CONCATENATE(A162:A616,\" \",B162:B619)","v":"3071260 Pantalla Led Full Hd Indoor / Medida 4,48mts x 3,20mts / Pitch 3,9 / No incluye estructura para montaje Valor de 3 a 6 dias (Valor dia)"}]
[3071260,"Pantalla Led Full Hd Indoor / Medida 4,48mts x 3,20mts / Pitch 3,9 / No incluye estructura para montaje Valor de 7 a 18 días (Valor feria)",{"$f":"CONCATENATE(A163:A617,\" \",B163:B620)","v":"3071260 Pantalla Led Full Hd Indoor / Medida 4,48mts x 3,20mts / Pitch 3,9 / No incluye estructura para montaje Valor de 7 a 18 días (Valor feria)"}]
[3071260,"Pantalla Led Full Hd Indoor / Medida 6,4mts x 3,20mts /mts2: 20,48 / Pitch 3,9 / No incluye estructura para montaje Valor evento 1 día",{"$f":"CONCATENATE(A164:A618,\" \",B164:B621)","v":"3071260 Pantalla Led Full Hd Indoor / Medida 6,4mts x 3,20mts /mts2: 20,48 / Pitch 3,9 / No incluye estructura para montaje Valor evento 1 día"}]
[3071260,"Pantalla Led Full Hd Indoor / Medida 6,4mts x 3,20mts /mts2: 20,48 / Pitch 3,9 / No incluye estructura para montaje Valor evento 2 dias (Valor dia)",{"$f":"CONCATENATE(A165:A619,\" \",B165:B622)","v":"3071260 Pantalla Led Full Hd Indoor / Medida 6,4mts x 3,20mts /mts2: 20,48 / Pitch 3,9 / No incluye estructura para montaje Valor evento 2 dias (Valor dia)"}]
[3071260,"Pantalla Led Full Hd Indoor / Medida 6,4mts x 3,20mts /mts2: 20,48 / Pitch 3,9 / No incluye estructura para montaje Valor de 3 a 6 dias (Valor dia)",{"$f":"CONCATENATE(A166:A620,\" \",B166:B623)","v":"3071260 Pantalla Led Full Hd Indoor / Medida 6,4mts x 3,20mts /mts2: 20,48 / Pitch 3,9 / No incluye estructura para montaje Valor de 3 a 6 dias (Valor dia)"}]
[3071260,"Pantalla Led Full Hd Indoor / Medida 6,4mts x 3,20mts /mts2: 20,48 / Pitch 3,9 / No incluye estructura para montaje Valor de 7 a 18 días (Valor feria)",{"$f":"CONCATENATE(A167:A613,\" \",B167:B616)","v":"3071260 Pantalla Led Full Hd Indoor / Medida 6,4mts x 3,20mts /mts2: 20,48 / Pitch 3,9 / No incluye estructura para montaje Valor de 7 a 18 días (Valor feria)"}]
[3071264,"Pantalla Led Full Hd Indoor / Medida 6,4mts x 4,48mts /mts2: 28,67 / Pitch 3,9 / No incluye estructura para montaje Valor evento 1 día",{"$f":"CONCATENATE(A168:A614,\" \",B168:B617)","v":"3071264 Pantalla Led Full Hd Indoor / Medida 6,4mts x 4,48mts /mts2: 28,67 / Pitch 3,9 / No incluye estructura para montaje Valor evento 1 día"}]
[3071264,"Pantalla Led Full Hd Indoor / Medida 6,4mts x 4,48mts /mts2: 28,67 / Pitch 3,9 / No incluye estructura para montaje Valor evento 2 dias (Valor dia)",{"$f":"CONCATENATE(A169:A615,\" \",B169:B618)","v":"3071264 Pantalla Led Full Hd Indoor / Medida 6,4mts x 4,48mts /mts2: 28,67 / Pitch 3,9 / No incluye estructura para montaje Valor evento 2 dias (Valor dia)"}]
[3071264,"Pantalla Led Full Hd Indoor / Medida 6,4mts x 4,48mts /mts2: 28,67 / Pitch 3,9 / No incluye estructura para montaje Valor de 3 a 6 dias (Valor dia)",{"$f":"CONCATENATE(A170:A616,\" \",B170:B619)","v":"3071264 Pantalla Led Full Hd Indoor / Medida 6,4mts x 4,48mts /mts2: 28,67 / Pitch 3,9 / No incluye estructura para montaje Valor de 3 a 6 dias (Valor dia)"}]
[3071264,"Pantalla Led Full Hd Indoor / Medida 6,4mts x 4,48mts /mts2: 28,67 / Pitch 3,9 / No incluye estructura para montaje Valor de 7 a 18 días (Valor feria)",{"$f":"CONCATENATE(A171:A617,\" \",B171:B620)","v":"3071264 Pantalla Led Full Hd Indoor / Medida 6,4mts x 4,48mts /mts2: 28,67 / Pitch 3,9 / No incluye estructura para montaje Valor de 7 a 18 días (Valor feria)"}]
[3071265,"Pantalla Led Full Hd Indoor / Medida 7,4mts x 5,12mts /mts2: 36,04 / Pitch 3,9 / No incluye estructura para montaje Valor evento 1 día",{"$f":"CONCATENATE(A172:A618,\" \",B172:B621)","v":"3071265 Pantalla Led Full Hd Indoor / Medida 7,4mts x 5,12mts /mts2: 36,04 / Pitch 3,9 / No incluye estructura para montaje Valor evento 1 día"}]
[3071265,"Pantalla Led Full Hd Indoor / Medida 7,4mts x 5,12mts /mts2: 36,04 / Pitch 3,9 / No incluye estructura para montaje Valor evento 2 dias (Valor dia)",{"$f":"CONCATENATE(A173:A619,\" \",B173:B622)","v":"3071265 Pantalla Led Full Hd Indoor / Medida 7,4mts x 5,12mts /mts2: 36,04 / Pitch 3,9 / No incluye estructura para montaje Valor evento 2 dias (Valor dia)"}]
[3071265,"Pantalla Led Full Hd Indoor / Medida 7,4mts x 5,12mts /mts2: 36,04 / Pitch 3,9 / No incluye estructura para montaje Valor de 3 a 6 dias (Valor dia)",{"$f":"CONCATENATE(A174:A620,\" \",B174:B623)","v":"3071265 Pantalla Led Full Hd Indoor / Medida 7,4mts x 5,12mts /mts2: 36,04 / Pitch 3,9 / No incluye estructura para montaje Valor de 3 a 6 dias (Valor dia)"}]
[3071265,"Pantalla Led Full Hd Indoor / Medida 7,4mts x 5,12mts /mts2: 36,04 / Pitch 3,9 / No incluye estructura para montaje Valor de 7 a 18 días (Valor feria)",{"$f":"CONCATENATE(A175:A621,\" \",B175:B624)","v":"3071265 Pantalla Led Full Hd Indoor / Medida 7,4mts x 5,12mts /mts2: 36,04 / Pitch 3,9 / No incluye estructura para montaje Valor de 7 a 18 días (Valor feria)"}]
[3071266,"Pantalla Led Full Hd Indoor / Medida 8,32mts x 6,40mts /mts2: 53,25 / Pitch 3,9 / No incluye estructura para montaje Valor evento 1 día",{"$f":"CONCATENATE(A176:A622,\" \",B176:B625)","v":"3071266 Pantalla Led Full Hd Indoor / Medida 8,32mts x 6,40mts /mts2: 53,25 / Pitch 3,9 / No incluye estructura para montaje Valor evento 1 día"}]
[3071266,"Pantalla Led Full Hd Indoor / Medida 8,32mts x 6,40mts /mts2: 53,25 / Pitch 3,9 / No incluye estructura para montaje Valor evento 2 dias (Valor dia)",{"$f":"CONCATENATE(A177:A623,\" \",B177:B626)","v":"3071266 Pantalla Led Full Hd Indoor / Medida 8,32mts x 6,40mts /mts2: 53,25 / Pitch 3,9 / No incluye estructura para montaje Valor evento 2 dias (Valor dia)"}]
[3071266,"Pantalla Led Full Hd Indoor / Medida 8,32mts x 6,40mts /mts2: 53,25 / Pitch 3,9 / No incluye estructura para montaje Valor de 3 a 6 dias (Valor dia)",{"$f":"CONCATENATE(A178:A624,\" \",B178:B627)","v":"3071266 Pantalla Led Full Hd Indoor / Medida 8,32mts x 6,40mts /mts2: 53,25 / Pitch 3,9 / No incluye estructura para montaje Valor de 3 a 6 dias (Valor dia)"}]
[3071266,"Pantalla Led Full Hd Indoor / Medida 8,32mts x 6,40mts /mts2: 53,25 / Pitch 3,9 / No incluye estructura para montaje Valor de 7 a 18 días (Valor feria)",{"$f":"CONCATENATE(A179:A625,\" \",B179:B628)","v":"3071266 Pantalla Led Full Hd Indoor / Medida 8,32mts x 6,40mts /mts2: 53,25 / Pitch 3,9 / No incluye estructura para montaje Valor de 7 a 18 días (Valor feria)"}]
[3071267,"Pantalla Led Full Hd Outdoor / Medida 6,4mts x 4,48mts  /mts2: 28,67 / Pitch 4,8 / No incluye estructura para montaje Valor evento 1 día",{"$f":"CONCATENATE(A180:A626,\" \",B180:B629)","v":"3071267 Pantalla Led Full Hd Outdoor / Medida 6,4mts x 4,48mts  /mts2: 28,67 / Pitch 4,8 / No incluye estructura para montaje Valor evento 1 día"}]
[3071267,"Pantalla Led Full Hd Outdoor / Medida 6,4mts x 4,48mts  /mts2: 28,67 / Pitch 4,8 / No incluye estructura para montaje Valor evento 2 dias (Valor dia)",{"$f":"CONCATENATE(A181:A627,\" \",B181:B630)","v":"3071267 Pantalla Led Full Hd Outdoor / Medida 6,4mts x 4,48mts  /mts2: 28,67 / Pitch 4,8 / No incluye estructura para montaje Valor evento 2 dias (Valor dia)"}]
[3071267,"Pantalla Led Full Hd Outdoor / Medida 6,4mts x 4,48mts  /mts2: 28,67 / Pitch 4,8 / No incluye estructura para montaje Valor de 3 a 6 dias (Valor dia)",{"$f":"CONCATENATE(A182:A628,\" \",B182:B631)","v":"3071267 Pantalla Led Full Hd Outdoor / Medida 6,4mts x 4,48mts  /mts2: 28,67 / Pitch 4,8 / No incluye estructura para montaje Valor de 3 a 6 dias (Valor dia)"}]
[3071267,"Pantalla Led Full Hd Outdoor / Medida 6,4mts x 4,48mts  /mts2: 28,67 / Pitch 4,8 / No incluye estructura para montaje Valor de 7 a 18 días (Valor feria)",{"$f":"CONCATENATE(A183:A629,\" \",B183:B632)","v":"3071267 Pantalla Led Full Hd Outdoor / Medida 6,4mts x 4,48mts  /mts2: 28,67 / Pitch 4,8 / No incluye estructura para montaje Valor de 7 a 18 días (Valor feria)"}]
[3071268,"Pantalla Led Full Hd Outdoor / Medida 7,4mts x 5,12mts /mts2: 36,04/ Pitch 4,8 / No incluye estructura para montaje Valor evento 1 día",{"$f":"CONCATENATE(A184:A630,\" \",B184:B633)","v":"3071268 Pantalla Led Full Hd Outdoor / Medida 7,4mts x 5,12mts /mts2: 36,04/ Pitch 4,8 / No incluye estructura para montaje Valor evento 1 día"}]
[3071268,"Pantalla Led Full Hd Outdoor / Medida 7,4mts x 5,12mts /mts2: 36,04/ Pitch 4,8 / No incluye estructura para montaje Valor evento 2 dias (Valor dia)",{"$f":"CONCATENATE(A185:A631,\" \",B185:B634)","v":"3071268 Pantalla Led Full Hd Outdoor / Medida 7,4mts x 5,12mts /mts2: 36,04/ Pitch 4,8 / No incluye estructura para montaje Valor evento 2 dias (Valor dia)"}]
[3071268,"Pantalla Led Full Hd Outdoor / Medida 7,4mts x 5,12mts /mts2: 36,04/ Pitch 4,8 / No incluye estructura para montaje Valor de 3 a 6 dias (Valor dia)",{"$f":"CONCATENATE(A186:A632,\" \",B186:B635)","v":"3071268 Pantalla Led Full Hd Outdoor / Medida 7,4mts x 5,12mts /mts2: 36,04/ Pitch 4,8 / No incluye estructura para montaje Valor de 3 a 6 dias (Valor dia)"}]
[3071268,"Pantalla Led Full Hd Outdoor / Medida 7,4mts x 5,12mts /mts2: 36,04/ Pitch 4,8 / No incluye estructura para montaje Valor de 7 a 18 días (Valor feria)",{"$f":"CONCATENATE(A187:A633,\" \",B187:B636)","v":"3071268 Pantalla Led Full Hd Outdoor / Medida 7,4mts x 5,12mts /mts2: 36,04/ Pitch 4,8 / No incluye estructura para montaje Valor de 7 a 18 días (Valor feria)"}]
[3071269,"Pantalla Led Full Hd Outdoor / Medida 8,32mts x 6,40mts /mts2: 53,25/ Pitch 4,8 / No incluye estructura para montaje Valor evento 1 día",{"$f":"CONCATENATE(A188:A634,\" \",B188:B637)","v":"3071269 Pantalla Led Full Hd Outdoor / Medida 8,32mts x 6,40mts /mts2: 53,25/ Pitch 4,8 / No incluye estructura para montaje Valor evento 1 día"}]
[3071269,"Pantalla Led Full Hd Outdoor / Medida 8,32mts x 6,40mts /mts2: 53,25/ Pitch 4,8 / No incluye estructura para montaje Valor evento 2 dias (Valor dia)",{"$f":"CONCATENATE(A189:A635,\" \",B189:B638)","v":"3071269 Pantalla Led Full Hd Outdoor / Medida 8,32mts x 6,40mts /mts2: 53,25/ Pitch 4,8 / No incluye estructura para montaje Valor evento 2 dias (Valor dia)"}]
[3071269,"Pantalla Led Full Hd Outdoor / Medida 8,32mts x 6,40mts /mts2: 53,25/ Pitch 4,8 / No incluye estructura para montaje Valor de 3 a 6 dias (Valor dia)",{"$f":"CONCATENATE(A190:A636,\" \",B190:B639)","v":"3071269 Pantalla Led Full Hd Outdoor / Medida 8,32mts x 6,40mts /mts2: 53,25/ Pitch 4,8 / No incluye estructura para montaje Valor de 3 a 6 dias (Valor dia)"}]
[3071269,"Pantalla Led Full Hd Outdoor / Medida 8,32mts x 6,40mts /mts2: 53,25/ Pitch 4,8 / No incluye estructura para montaje Valor de 7 a 18 días (Valor feria)",{"$f":"CONCATENATE(A191:A637,\" \",B191:B640)","v":"3071269 Pantalla Led Full Hd Outdoor / Medida 8,32mts x 6,40mts /mts2: 53,25/ Pitch 4,8 / No incluye estructura para montaje Valor de 7 a 18 días (Valor feria)"}]
[3071234,"Video Proyector de 4.500 Lumens HD - El lugar de Proyeccion debe estar lo mas oscuro posible Valor evento 1 día",{"$f":"CONCATENATE(A192:A638,\" \",B192:B641)","v":"3071234 Video Proyector de 4.500 Lumens HD - El lugar de Proyeccion debe estar lo mas oscuro posible Valor evento 1 día"}]
[3071234,"Video Proyector de 4.500 Lumens HD - El lugar de Proyeccion debe estar lo mas oscuro posible Valor evento 2 dias (Valor dia)",{"$f":"CONCATENATE(A193:A639,\" \",B193:B642)","v":"3071234 Video Proyector de 4.500 Lumens HD - El lugar de Proyeccion debe estar lo mas oscuro posible Valor evento 2 dias (Valor dia)"}]
[3071234,"Video Proyector de 4.500 Lumens HD - El lugar de Proyeccion debe estar lo mas oscuro posible Valor de 3 a 6 dias (Valor dia)",{"$f":"CONCATENATE(A194:A640,\" \",B194:B643)","v":"3071234 Video Proyector de 4.500 Lumens HD - El lugar de Proyeccion debe estar lo mas oscuro posible Valor de 3 a 6 dias (Valor dia)"}]
[3071234,"Video Proyector de 4.500 Lumens HD - El lugar de Proyeccion debe estar lo mas oscuro posible Valor de 7 a 18 días (Valor feria)",{"$f":"CONCATENATE(A195:A641,\" \",B195:B644)","v":"3071234 Video Proyector de 4.500 Lumens HD - El lugar de Proyeccion debe estar lo mas oscuro posible Valor de 7 a 18 días (Valor feria)"}]
[3071244,"Video Proyector de 6.000 Lumens HD - El lugar de Proyeccion debe estar lo mas oscuro posible Valor evento 1 día",{"$f":"CONCATENATE(A196:A642,\" \",B196:B645)","v":"3071244 Video Proyector de 6.000 Lumens HD - El lugar de Proyeccion debe estar lo mas oscuro posible Valor evento 1 día"}]
[3071244,"Video Proyector de 6.000 Lumens HD - El lugar de Proyeccion debe estar lo mas oscuro posible Valor evento 2 dias (Valor dia)",{"$f":"CONCATENATE(A197:A643,\" \",B197:B646)","v":"3071244 Video Proyector de 6.000 Lumens HD - El lugar de Proyeccion debe estar lo mas oscuro posible Valor evento 2 dias (Valor dia)"}]
[3071244,"Video Proyector de 6.000 Lumens HD - El lugar de Proyeccion debe estar lo mas oscuro posible Valor de 3 a 6 dias (Valor dia)",{"$f":"CONCATENATE(A198:A644,\" \",B198:B647)","v":"3071244 Video Proyector de 6.000 Lumens HD - El lugar de Proyeccion debe estar lo mas oscuro posible Valor de 3 a 6 dias (Valor dia)"}]
[3071244,"Video Proyector de 6.000 Lumens HD - El lugar de Proyeccion debe estar lo mas oscuro posible Valor de 7 a 18 días (Valor feria)",{"$f":"CONCATENATE(A199:A645,\" \",B199:B648)","v":"3071244 Video Proyector de 6.000 Lumens HD - El lugar de Proyeccion debe estar lo mas oscuro posible Valor de 7 a 18 días (Valor feria)"}]
[3071271,"Video Proyector de 10.000 Lumens HD - El lugar de Proyeccion debe estar lo mas oscuro posible Valor evento 1 día",{"$f":"CONCATENATE(A200:A646,\" \",B200:B649)","v":"3071271 Video Proyector de 10.000 Lumens HD - El lugar de Proyeccion debe estar lo mas oscuro posible Valor evento 1 día"}]
[3071271,"Video Proyector de 10.000 Lumens HD - El lugar de Proyeccion debe estar lo mas oscuro posible Valor evento 2 dias (Valor dia)",{"$f":"CONCATENATE(A201:A647,\" \",B201:B650)","v":"3071271 Video Proyector de 10.000 Lumens HD - El lugar de Proyeccion debe estar lo mas oscuro posible Valor evento 2 dias (Valor dia)"}]
[3071271,"Video Proyector de 10.000 Lumens HD - El lugar de Proyeccion debe estar lo mas oscuro posible Valor de 3 a 6 dias (Valor dia)",{"$f":"CONCATENATE(A202:A648,\" \",B202:B651)","v":"3071271 Video Proyector de 10.000 Lumens HD - El lugar de Proyeccion debe estar lo mas oscuro posible Valor de 3 a 6 dias (Valor dia)"}]
[3071271,"Video Proyector de 10.000 Lumens HD - El lugar de Proyeccion debe estar lo mas oscuro posible Valor de 7 a 18 días (Valor feria)",{"$f":"CONCATENATE(A203:A649,\" \",B203:B652)","v":"3071271 Video Proyector de 10.000 Lumens HD - El lugar de Proyeccion debe estar lo mas oscuro posible Valor de 7 a 18 días (Valor feria)"}]
[3071232,"Telon proyección estructura profesional tela frontal y retro 1,80x1,20 cms Valor evento 1 día",{"$f":"CONCATENATE(A204:A650,\" \",B204:B653)","v":"3071232 Telon proyección estructura profesional tela frontal y retro 1,80x1,20 cms Valor evento 1 día"}]
[3071232,"Telon proyección estructura profesional tela frontal y retro 1,80x1,20 cms Valor evento 2 dias (Valor dia)",{"$f":"CONCATENATE(A205:A651,\" \",B205:B654)","v":"3071232 Telon proyección estructura profesional tela frontal y retro 1,80x1,20 cms Valor evento 2 dias (Valor dia)"}]
[3071232,"Telon proyección estructura profesional tela frontal y retro 1,80x1,20 cms Valor de 3 a 6 dias (Valor dia)",{"$f":"CONCATENATE(A206:A652,\" \",B206:B655)","v":"3071232 Telon proyección estructura profesional tela frontal y retro 1,80x1,20 cms Valor de 3 a 6 dias (Valor dia)"}]
[3071232,"Telon proyección estructura profesional tela frontal y retro 1,80x1,20 cms Valor de 7 a 18 días (Valor feria)",{"$f":"CONCATENATE(A207:A653,\" \",B207:B656)","v":"3071232 Telon proyección estructura profesional tela frontal y retro 1,80x1,20 cms Valor de 7 a 18 días (Valor feria)"}]
[3071231,"Telon proyección estructura profesional tela frontal y retro 3,05x2,29 cms Valor evento 1 día",{"$f":"CONCATENATE(A208:A654,\" \",B208:B657)","v":"3071231 Telon proyección estructura profesional tela frontal y retro 3,05x2,29 cms Valor evento 1 día"}]
[3071231,"Telon proyección estructura profesional tela frontal y retro 3,05x2,29 cms Valor evento 2 dias (Valor dia)",{"$f":"CONCATENATE(A209:A655,\" \",B209:B658)","v":"3071231 Telon proyección estructura profesional tela frontal y retro 3,05x2,29 cms Valor evento 2 dias (Valor dia)"}]
[3071231,"Telon proyección estructura profesional tela frontal y retro 3,05x2,29 cms Valor de 3 a 6 dias (Valor dia)",{"$f":"CONCATENATE(A210:A656,\" \",B210:B659)","v":"3071231 Telon proyección estructura profesional tela frontal y retro 3,05x2,29 cms Valor de 3 a 6 dias (Valor dia)"}]
[3071231,"Telon proyección estructura profesional tela frontal y retro 3,05x2,29 cms Valor de 7 a 18 días (Valor feria)",{"$f":"CONCATENATE(A211:A657,\" \",B211:B660)","v":"3071231 Telon proyección estructura profesional tela frontal y retro 3,05x2,29 cms Valor de 7 a 18 días (Valor feria)"}]
[3071219,"Telon proyección estructura profesional tela frontal y retro 3,66x2,74 cms Valor evento 1 día",{"$f":"CONCATENATE(A212:A658,\" \",B212:B661)","v":"3071219 Telon proyección estructura profesional tela frontal y retro 3,66x2,74 cms Valor evento 1 día"}]
[3071219,"Telon proyección estructura profesional tela frontal y retro 3,66x2,74 cms Valor evento 2 dias (Valor dia)",{"$f":"CONCATENATE(A213:A659,\" \",B213:B662)","v":"3071219 Telon proyección estructura profesional tela frontal y retro 3,66x2,74 cms Valor evento 2 dias (Valor dia)"}]
[3071219,"Telon proyección estructura profesional tela frontal y retro 3,66x2,74 cms Valor de 3 a 6 dias (Valor dia)",{"$f":"CONCATENATE(A214:A660,\" \",B214:B663)","v":"3071219 Telon proyección estructura profesional tela frontal y retro 3,66x2,74 cms Valor de 3 a 6 dias (Valor dia)"}]
[3071219,"Telon proyección estructura profesional tela frontal y retro 3,66x2,74 cms Valor de 7 a 18 días (Valor feria)",{"$f":"CONCATENATE(A215:A661,\" \",B215:B664)","v":"3071219 Telon proyección estructura profesional tela frontal y retro 3,66x2,74 cms Valor de 7 a 18 días (Valor feria)"}]
[3071217,"Telon proyección estructura profesional tela frontal y retro 4,27x3,20 cms Valor evento 1 día",{"$f":"CONCATENATE(A216:A662,\" \",B216:B665)","v":"3071217 Telon proyección estructura profesional tela frontal y retro 4,27x3,20 cms Valor evento 1 día"}]
[3071217,"Telon proyección estructura profesional tela frontal y retro 4,27x3,20 cms Valor evento 2 dias (Valor dia)",{"$f":"CONCATENATE(A217:A663,\" \",B217:B666)","v":"3071217 Telon proyección estructura profesional tela frontal y retro 4,27x3,20 cms Valor evento 2 dias (Valor dia)"}]
[3071217,"Telon proyección estructura profesional tela frontal y retro 4,27x3,20 cms Valor de 3 a 6 dias (Valor dia)",{"$f":"CONCATENATE(A218:A664,\" \",B218:B667)","v":"3071217 Telon proyección estructura profesional tela frontal y retro 4,27x3,20 cms Valor de 3 a 6 dias (Valor dia)"}]
[3071217,"Telon proyección estructura profesional tela frontal y retro 4,27x3,20 cms Valor de 7 a 18 días (Valor feria)",{"$f":"CONCATENATE(A219:A665,\" \",B219:B668)","v":"3071217 Telon proyección estructura profesional tela frontal y retro 4,27x3,20 cms Valor de 7 a 18 días (Valor feria)"}]
[3071273,"Telon proyección estructura profesional tela frontal y retro 4,87x2,74 cms Valor evento 1 día",{"$f":"CONCATENATE(A220:A666,\" \",B220:B669)","v":"3071273 Telon proyección estructura profesional tela frontal y retro 4,87x2,74 cms Valor evento 1 día"}]
[3071273,"Telon proyección estructura profesional tela frontal y retro 4,87x2,74 cms Valor evento 2 dias (Valor dia)",{"$f":"CONCATENATE(A221:A667,\" \",B221:B670)","v":"3071273 Telon proyección estructura profesional tela frontal y retro 4,87x2,74 cms Valor evento 2 dias (Valor dia)"}]
[3071273,"Telon proyección estructura profesional tela frontal y retro 4,87x2,74 cms Valor de 3 a 6 dias (Valor dia)",{"$f":"CONCATENATE(A222:A668,\" \",B222:B671)","v":"3071273 Telon proyección estructura profesional tela frontal y retro 4,87x2,74 cms Valor de 3 a 6 dias (Valor dia)"}]
[3071273,"Telon proyección estructura profesional tela frontal y retro 4,87x2,74 cms Valor de 7 a 18 días (Valor feria)",{"$f":"CONCATENATE(A223:A669,\" \",B223:B672)","v":"3071273 Telon proyección estructura profesional tela frontal y retro 4,87x2,74 cms Valor de 7 a 18 días (Valor feria)"}]
[3071288,"Scalador de presentaciones / HDMI / SDI Valor evento 1 día",{"$f":"CONCATENATE(A224:A670,\" \",B224:B673)","v":"3071288 Scalador de presentaciones / HDMI / SDI Valor evento 1 día"}]
[3071288,"Scalador de presentaciones / HDMI / SDI Valor evento 2 dias (Valor dia)",{"$f":"CONCATENATE(A225:A671,\" \",B225:B674)","v":"3071288 Scalador de presentaciones / HDMI / SDI Valor evento 2 dias (Valor dia)"}]
[3071288,"Scalador de presentaciones / HDMI / SDI Valor de 3 a 6 dias (Valor dia)",{"$f":"CONCATENATE(A226:A672,\" \",B226:B675)","v":"3071288 Scalador de presentaciones / HDMI / SDI Valor de 3 a 6 dias (Valor dia)"}]
[3071288,"Scalador de presentaciones / HDMI / SDI Valor de 7 a 18 días (Valor feria)",{"$f":"CONCATENATE(A227:A673,\" \",B227:B676)","v":"3071288 Scalador de presentaciones / HDMI / SDI Valor de 7 a 18 días (Valor feria)"}]
[3071289,"Switcher HDMI de 6 entradas Valor evento 1 día",{"$f":"CONCATENATE(A228:A674,\" \",B228:B677)","v":"3071289 Switcher HDMI de 6 entradas Valor evento 1 día"}]
[3071289,"Switcher HDMI de 6 entradas Valor evento 2 dias (Valor dia)",{"$f":"CONCATENATE(A229:A675,\" \",B229:B678)","v":"3071289 Switcher HDMI de 6 entradas Valor evento 2 dias (Valor dia)"}]
[3071289,"Switcher HDMI de 6 entradas Valor de 3 a 6 dias (Valor dia)",{"$f":"CONCATENATE(A230:A676,\" \",B230:B679)","v":"3071289 Switcher HDMI de 6 entradas Valor de 3 a 6 dias (Valor dia)"}]
[3071289,"Switcher HDMI de 6 entradas Valor de 7 a 18 días (Valor feria)",{"$f":"CONCATENATE(A231:A677,\" \",B231:B680)","v":"3071289 Switcher HDMI de 6 entradas Valor de 7 a 18 días (Valor feria)"}]
[3071290,"Distribuidor de señales HDMI / SDI  Valor evento 1 día",{"$f":"CONCATENATE(A232:A678,\" \",B232:B681)","v":"3071290 Distribuidor de señales HDMI / SDI  Valor evento 1 día"}]
[3071290,"Distribuidor de señales HDMI / SDI Valor evento 2 dias (Valor dia)",{"$f":"CONCATENATE(A233:A679,\" \",B233:B682)","v":"3071290 Distribuidor de señales HDMI / SDI Valor evento 2 dias (Valor dia)"}]
[3071290,"Distribuidor de señales HDMI / SDI Valor de 3 a 6 dias (Valor dia)",{"$f":"CONCATENATE(A234:A680,\" \",B234:B683)","v":"3071290 Distribuidor de señales HDMI / SDI Valor de 3 a 6 dias (Valor dia)"}]
[3071290,"Distribuidor de señales HDMI / SDI Valor de 7 a 18 días (Valor feria)",{"$f":"CONCATENATE(A235:A681,\" \",B235:B684)","v":"3071290 Distribuidor de señales HDMI / SDI Valor de 7 a 18 días (Valor feria)"}]
[3071387,"Punto Fijo de Video HD (Incluye: 1 Switcher de video / 1 computador portatil / 1 Monitor / 1 multi viewer/ 1 Tecnico de Video 8 horas) Valor evento 1 día",{"$f":"CONCATENATE(A236:A682,\" \",B236:B685)","v":"3071387 Punto Fijo de Video HD (Incluye: 1 Switcher de video / 1 computador portatil / 1 Monitor / 1 multi viewer/ 1 Tecnico de Video 8 horas) Valor evento 1 día"}]
[3071387,"Punto Fijo de Video HD (Incluye: 1 Switcher de video / 1 computador portatil / 1 Monitor / 1 multi viewer/ 1 Tecnico de Video 8 horas) Valor evento 2 dias (Valor dia)",{"$f":"CONCATENATE(A237:A683,\" \",B237:B686)","v":"3071387 Punto Fijo de Video HD (Incluye: 1 Switcher de video / 1 computador portatil / 1 Monitor / 1 multi viewer/ 1 Tecnico de Video 8 horas) Valor evento 2 dias (Valor dia)"}]
[3071387,"Punto Fijo de Video HD (Incluye: 1 Switcher de video / 1 computador portatil / 1 Monitor / 1 multi viewer/ 1 Tecnico de Video 8 horas) Valor de 3 a 6 dias (Valor dia)",{"$f":"CONCATENATE(A238:A684,\" \",B238:B687)","v":"3071387 Punto Fijo de Video HD (Incluye: 1 Switcher de video / 1 computador portatil / 1 Monitor / 1 multi viewer/ 1 Tecnico de Video 8 horas) Valor de 3 a 6 dias (Valor dia)"}]
[3071387,"Punto Fijo de Video HD (Incluye: 1 Switcher de video / 1 computador portatil / 1 Monitor / 1 multi viewer/ 1 Tecnico de Video 8 horas) Valor de 7 a 18 días (Valor feria)",{"$f":"CONCATENATE(A239:A685,\" \",B239:B688)","v":"3071387 Punto Fijo de Video HD (Incluye: 1 Switcher de video / 1 computador portatil / 1 Monitor / 1 multi viewer/ 1 Tecnico de Video 8 horas) Valor de 7 a 18 días (Valor feria)"}]
[3071291,"CCTV (Tipo 1) Valor evento 1 día",{"$f":"CONCATENATE(A240:A686,\" \",B240:B689)","v":"3071291 CCTV (Tipo 1) Valor evento 1 día"}]
[3071291,"CCTV (Tipo 1)  Valor evento 2 dias (Valor dia)",{"$f":"CONCATENATE(A241:A687,\" \",B241:B690)","v":"3071291 CCTV (Tipo 1)  Valor evento 2 dias (Valor dia)"}]
[3071291,"CCTV (Tipo 1)  Valor de 3 a 6 dias (Valor dia)",{"$f":"CONCATENATE(A242:A688,\" \",B242:B691)","v":"3071291 CCTV (Tipo 1)  Valor de 3 a 6 dias (Valor dia)"}]
[3071291,"CCTV (Tipo 1)  Valor de 7 a 18 días (Valor feria)",{"$f":"CONCATENATE(A243:A689,\" \",B243:B692)","v":"3071291 CCTV (Tipo 1)  Valor de 7 a 18 días (Valor feria)"}]
[30713203,"CCTV (Tipo 2) Valor evento 1 día",{"$f":"CONCATENATE(A244:A690,\" \",B244:B693)","v":"30713203 CCTV (Tipo 2) Valor evento 1 día"}]
[30713203,"CCTV (Tipo 2) Valor evento 2 dias (Valor dia)",{"$f":"CONCATENATE(A245:A691,\" \",B245:B694)","v":"30713203 CCTV (Tipo 2) Valor evento 2 dias (Valor dia)"}]
[30713203,"CCTV (Tipo 2) Valor de 3 a 6 dias (Valor dia)",{"$f":"CONCATENATE(A246:A692,\" \",B246:B695)","v":"30713203 CCTV (Tipo 2) Valor de 3 a 6 dias (Valor dia)"}]
[30713203,"CCTV (Tipo 2) Valor de 7 a 18 días (Valor feria)",{"$f":"CONCATENATE(A247:A693,\" \",B247:B696)","v":"30713203 CCTV (Tipo 2) Valor de 7 a 18 días (Valor feria)"}]
[3071292,"CCTV (Tipo 3) Valor evento 1 día",{"$f":"CONCATENATE(A248:A694,\" \",B248:B697)","v":"3071292 CCTV (Tipo 3) Valor evento 1 día"}]
[3071292,"CCTV (Tipo 3) Valor evento 2 dias (Valor dia)",{"$f":"CONCATENATE(A249:A695,\" \",B249:B698)","v":"3071292 CCTV (Tipo 3) Valor evento 2 dias (Valor dia)"}]
[3071292,"CCTV (Tipo 3) Valor de 3 a 6 dias (Valor dia)",{"$f":"CONCATENATE(A250:A696,\" \",B250:B699)","v":"3071292 CCTV (Tipo 3) Valor de 3 a 6 dias (Valor dia)"}]
[3071292,"CCTV (Tipo 3) Valor de 7 a 18 días (Valor feria)",{"$f":"CONCATENATE(A251:A697,\" \",B251:B700)","v":"3071292 CCTV (Tipo 3) Valor de 7 a 18 días (Valor feria)"}]
[3071236,"Sistema de Audio tipo Minicomponente / conexión Bluetooh / Usb  ( No aplica para microfono) Valor evento 1 día",{"$f":"CONCATENATE(A252:A698,\" \",B252:B701)","v":"3071236 Sistema de Audio tipo Minicomponente / conexión Bluetooh / Usb  ( No aplica para microfono) Valor evento 1 día"}]
[3071236,"Sistema de Audio tipo Minicomponente / conexión Bluetooh / Usb  ( No aplica para microfono) Valor evento 2 dias (Valor dia)",{"$f":"CONCATENATE(A253:A699,\" \",B253:B702)","v":"3071236 Sistema de Audio tipo Minicomponente / conexión Bluetooh / Usb  ( No aplica para microfono) Valor evento 2 dias (Valor dia)"}]
[3071236,"Sistema de Audio tipo Minicomponente / conexión Bluetooh / Usb  ( No aplica para microfono) Valor de 3 a 6 dias (Valor dia)",{"$f":"CONCATENATE(A254:A700,\" \",B254:B703)","v":"3071236 Sistema de Audio tipo Minicomponente / conexión Bluetooh / Usb  ( No aplica para microfono) Valor de 3 a 6 dias (Valor dia)"}]
[3071236,"Sistema de Audio tipo Minicomponente / conexión Bluetooh / Usb  ( No aplica para microfono) Valor de 7 a 18 días (Valor feria)",{"$f":"CONCATENATE(A255:A701,\" \",B255:B704)","v":"3071236 Sistema de Audio tipo Minicomponente / conexión Bluetooh / Usb  ( No aplica para microfono) Valor de 7 a 18 días (Valor feria)"}]
[30713204,"Sistema de Audio compacto Db Technologies Es 503 (Incluye 2 Sub / 2 Cabinas compacta de audio / Conexión Bluetooth / cable de corriente) Valor evento 1 día",{"$f":"CONCATENATE(A256:A702,\" \",B256:B705)","v":"30713204 Sistema de Audio compacto Db Technologies Es 503 (Incluye 2 Sub / 2 Cabinas compacta de audio / Conexión Bluetooth / cable de corriente) Valor evento 1 día"}]
[30713204,"Sistema de Audio compacto Db Technologies Es 503 (Incluye 2 Sub / 2 Cabinas compacta de audio / Conexión Bluetooth / cable de corriente) Valor evento 1 día",{"$f":"CONCATENATE(A257:A703,\" \",B257:B706)","v":"30713204 Sistema de Audio compacto Db Technologies Es 503 (Incluye 2 Sub / 2 Cabinas compacta de audio / Conexión Bluetooth / cable de corriente) Valor evento 1 día"}]
[30713204,"Sistema de Audio compacto Db Technologies Es 503 (Incluye 2 Sub / 2 Cabinas compacta de audio / Conexión Bluetooth / cable de corriente) Valor de 3 a 6 dias (Valor dia)",{"$f":"CONCATENATE(A258:A704,\" \",B258:B707)","v":"30713204 Sistema de Audio compacto Db Technologies Es 503 (Incluye 2 Sub / 2 Cabinas compacta de audio / Conexión Bluetooth / cable de corriente) Valor de 3 a 6 dias (Valor dia)"}]
[30713204,"Sistema de Audio compacto Db Technologies Es 503 (Incluye 2 Sub / 2 Cabinas compacta de audio / Conexión Bluetooth / cable de corriente) Valor de 7 a 18 días (Valor feria)",{"$f":"CONCATENATE(A259:A705,\" \",B259:B708)","v":"30713204 Sistema de Audio compacto Db Technologies Es 503 (Incluye 2 Sub / 2 Cabinas compacta de audio / Conexión Bluetooth / cable de corriente) Valor de 7 a 18 días (Valor feria)"}]
[30713205,"Sistema de Audio compacto Db Technologies Es 802 (Incluye 4 Sub / 2 Cabinas compacta de audio / cable de corriente) Valor evento 1 día",{"$f":"CONCATENATE(A260:A706,\" \",B260:B709)","v":"30713205 Sistema de Audio compacto Db Technologies Es 802 (Incluye 4 Sub / 2 Cabinas compacta de audio / cable de corriente) Valor evento 1 día"}]
[30713205,"Sistema de Audio compacto Db Technologies Es 802 (Incluye 4 Sub / 2 Cabinas compacta de audio / cable de corriente) Valor evento 2 dias (Valor dia)",{"$f":"CONCATENATE(A261:A707,\" \",B261:B710)","v":"30713205 Sistema de Audio compacto Db Technologies Es 802 (Incluye 4 Sub / 2 Cabinas compacta de audio / cable de corriente) Valor evento 2 dias (Valor dia)"}]
[30713205,"Sistema de Audio compacto Db Technologies Es 802 (Incluye 4 Sub / 2 Cabinas compacta de audio / cable de corriente) Valor de 3 a 6 dias (Valor dia)",{"$f":"CONCATENATE(A262:A708,\" \",B262:B711)","v":"30713205 Sistema de Audio compacto Db Technologies Es 802 (Incluye 4 Sub / 2 Cabinas compacta de audio / cable de corriente) Valor de 3 a 6 dias (Valor dia)"}]
[30713205,"Sistema de Audio compacto Db Technologies Es 802 (Incluye 4 Sub / 2 Cabinas compacta de audio / cable de corriente) Valor de 7 a 18 días (Valor feria)",{"$f":"CONCATENATE(A263:A709,\" \",B263:B712)","v":"30713205 Sistema de Audio compacto Db Technologies Es 802 (Incluye 4 Sub / 2 Cabinas compacta de audio / cable de corriente) Valor de 7 a 18 días (Valor feria)"}]
[3071348,"Microfono Inalambrico de mano (Incluye Receptor de señal / cable XLR/ 2 baterias AA, no incluye instalación) Valor evento 1 día",{"$f":"CONCATENATE(A264:A710,\" \",B264:B713)","v":"3071348 Microfono Inalambrico de mano (Incluye Receptor de señal / cable XLR/ 2 baterias AA, no incluye instalación) Valor evento 1 día"}]
[3071348,"Microfono Inalambrico de mano (Incluye Receptor de señal / cable XLR/ 2 baterias AA, no incluye instalación) Valor evento 2 dias (Valor dia)",{"$f":"CONCATENATE(A265:A711,\" \",B265:B714)","v":"3071348 Microfono Inalambrico de mano (Incluye Receptor de señal / cable XLR/ 2 baterias AA, no incluye instalación) Valor evento 2 dias (Valor dia)"}]
[3071348,"Microfono Inalambrico de mano (Incluye Receptor de señal / cable XLR/ 2 baterias AA, no incluye instalación) Valor de 3 a 6 dias (Valor dia)",{"$f":"CONCATENATE(A266:A712,\" \",B266:B715)","v":"3071348 Microfono Inalambrico de mano (Incluye Receptor de señal / cable XLR/ 2 baterias AA, no incluye instalación) Valor de 3 a 6 dias (Valor dia)"}]
[3071348,"Microfono Inalambrico de mano (Incluye Receptor de señal / cable XLR/ 2 baterias AA, no incluye instalación) Valor de 7 a 18 días (Valor feria)",{"$f":"CONCATENATE(A267:A713,\" \",B267:B716)","v":"3071348 Microfono Inalambrico de mano (Incluye Receptor de señal / cable XLR/ 2 baterias AA, no incluye instalación) Valor de 7 a 18 días (Valor feria)"}]
[3071349,"Microfono Inalambrico de diadema (Incluye Receptor de señal / cable XLR / 2 baterias AA, no incluye instalación) Valor evento 1 día",{"$f":"CONCATENATE(A268:A714,\" \",B268:B717)","v":"3071349 Microfono Inalambrico de diadema (Incluye Receptor de señal / cable XLR / 2 baterias AA, no incluye instalación) Valor evento 1 día"}]
[3071349,"Microfono Inalambrico de diadema (Incluye Receptor de señal / cable XLR / 2 baterias AA, no incluye instalación) Valor evento 2 dias (Valor dia)",{"$f":"CONCATENATE(A269:A715,\" \",B269:B718)","v":"3071349 Microfono Inalambrico de diadema (Incluye Receptor de señal / cable XLR / 2 baterias AA, no incluye instalación) Valor evento 2 dias (Valor dia)"}]
[3071349,"Microfono Inalambrico de diadema (Incluye Receptor de señal / cable XLR / 2 baterias AA, no incluye instalación) Valor de 3 a 6 dias (Valor dia)",{"$f":"CONCATENATE(A270:A716,\" \",B270:B719)","v":"3071349 Microfono Inalambrico de diadema (Incluye Receptor de señal / cable XLR / 2 baterias AA, no incluye instalación) Valor de 3 a 6 dias (Valor dia)"}]
[3071349,"Microfono Inalambrico de diadema (Incluye Receptor de señal / cable XLR / 2 baterias AA, no incluye instalación) Valor de 7 a 18 días (Valor feria)",{"$f":"CONCATENATE(A271:A717,\" \",B271:B720)","v":"3071349 Microfono Inalambrico de diadema (Incluye Receptor de señal / cable XLR / 2 baterias AA, no incluye instalación) Valor de 7 a 18 días (Valor feria)"}]
[30713206,"Microfono alambrico (Incluye cable XLR, no incluye instalación) Valor evento 1 día",{"$f":"CONCATENATE(A272:A718,\" \",B272:B721)","v":"30713206 Microfono alambrico (Incluye cable XLR, no incluye instalación) Valor evento 1 día"}]
[30713206,"Microfono alambrico (Incluye cable XLR, no incluye instalación) Valor evento 2 dias (Valor dia)",{"$f":"CONCATENATE(A273:A719,\" \",B273:B722)","v":"30713206 Microfono alambrico (Incluye cable XLR, no incluye instalación) Valor evento 2 dias (Valor dia)"}]
[30713206,"Microfono alambrico (Incluye cable XLR, no incluye instalación) Valor de 3 a 6 dias (Valor dia)",{"$f":"CONCATENATE(A274:A720,\" \",B274:B723)","v":"30713206 Microfono alambrico (Incluye cable XLR, no incluye instalación) Valor de 3 a 6 dias (Valor dia)"}]
[30713206,"Microfono alambrico (Incluye cable XLR, no incluye instalación) Valor de 7 a 18 días (Valor feria)",{"$f":"CONCATENATE(A275:A721,\" \",B275:B724)","v":"30713206 Microfono alambrico (Incluye cable XLR, no incluye instalación) Valor de 7 a 18 días (Valor feria)"}]
[30713207,"Microfono Country Man (Incluye Receptor de señal / cable XLR / 2 baterias AA, no incluye instalación) Valor evento 1 día",{"$f":"CONCATENATE(A276:A722,\" \",B276:B725)","v":"30713207 Microfono Country Man (Incluye Receptor de señal / cable XLR / 2 baterias AA, no incluye instalación) Valor evento 1 día"}]
[30713207,"Microfono Country Man (Incluye Receptor de señal / cable XLR / 2 baterias AA, no incluye instalación) Valor evento 2 dias (Valor dia)",{"$f":"CONCATENATE(A277:A723,\" \",B277:B726)","v":"30713207 Microfono Country Man (Incluye Receptor de señal / cable XLR / 2 baterias AA, no incluye instalación) Valor evento 2 dias (Valor dia)"}]
[30713207,"Microfono Country Man (Incluye Receptor de señal / cable XLR / 2 baterias AA, no incluye instalación) Valor de 3 a 6 dias (Valor dia)",{"$f":"CONCATENATE(A278:A724,\" \",B278:B727)","v":"30713207 Microfono Country Man (Incluye Receptor de señal / cable XLR / 2 baterias AA, no incluye instalación) Valor de 3 a 6 dias (Valor dia)"}]
[30713207,"Microfono Country Man (Incluye Receptor de señal / cable XLR / 2 baterias AA, no incluye instalación) Valor de 7 a 18 días (Valor feria)",{"$f":"CONCATENATE(A279:A725,\" \",B279:B728)","v":"30713207 Microfono Country Man (Incluye Receptor de señal / cable XLR / 2 baterias AA, no incluye instalación) Valor de 7 a 18 días (Valor feria)"}]
[3071283,"Microfono Cuello de Ganso  (Incluye cable XLR, no incluye instalación) Valor evento 1 día",{"$f":"CONCATENATE(A280:A726,\" \",B280:B729)","v":"3071283 Microfono Cuello de Ganso  (Incluye cable XLR, no incluye instalación) Valor evento 1 día"}]
[3071283,"Microfono Cuello de Ganso  (Incluye cable XLR, no incluye instalación) Valor evento 2 dias (Valor dia)",{"$f":"CONCATENATE(A281:A727,\" \",B281:B730)","v":"3071283 Microfono Cuello de Ganso  (Incluye cable XLR, no incluye instalación) Valor evento 2 dias (Valor dia)"}]
[3071283,"Microfono Cuello de Ganso  (Incluye cable XLR, no incluye instalación) Valor de 3 a 6 dias (Valor dia)",{"$f":"CONCATENATE(A282:A728,\" \",B282:B731)","v":"3071283 Microfono Cuello de Ganso  (Incluye cable XLR, no incluye instalación) Valor de 3 a 6 dias (Valor dia)"}]
[3071283,"Microfono Cuello de Ganso  (Incluye cable XLR, no incluye instalación) Valor de 7 a 18 días (Valor feria)",{"$f":"CONCATENATE(A283:A729,\" \",B283:B732)","v":"3071283 Microfono Cuello de Ganso  (Incluye cable XLR, no incluye instalación) Valor de 7 a 18 días (Valor feria)"}]
[30713208,"Consola de Audio Analoga de 4CH (Se Requiere Operario) Valor evento 1 día",{"$f":"CONCATENATE(A284:A730,\" \",B284:B733)","v":"30713208 Consola de Audio Analoga de 4CH (Se Requiere Operario) Valor evento 1 día"}]
[30713208,"Consola de Audio Analoga de 4CH (Se Requiere Operario) Valor evento 2 dias (Valor dia)",{"$f":"CONCATENATE(A285:A731,\" \",B285:B734)","v":"30713208 Consola de Audio Analoga de 4CH (Se Requiere Operario) Valor evento 2 dias (Valor dia)"}]
[30713208,"Consola de Audio Analoga de 4CH (Se Requiere Operario) Valor de 3 a 6 dias (Valor dia)",{"$f":"CONCATENATE(A286:A732,\" \",B286:B735)","v":"30713208 Consola de Audio Analoga de 4CH (Se Requiere Operario) Valor de 3 a 6 dias (Valor dia)"}]
[30713208,"Consola de Audio Analoga de 4CH (Se Requiere Operario) Valor de 7 a 18 días (Valor feria",{"$f":"CONCATENATE(A287:A733,\" \",B287:B736)","v":"30713208 Consola de Audio Analoga de 4CH (Se Requiere Operario) Valor de 7 a 18 días (Valor feria"}]
[30713208,"Consola de Audio Analoga de 8CH (Se Requiere Operiario) Valor evento 1 día",{"$f":"CONCATENATE(A288:A734,\" \",B288:B737)","v":"30713208 Consola de Audio Analoga de 8CH (Se Requiere Operiario) Valor evento 1 día"}]
[30713208,"Consola de Audio Analoga de 8CH (Se Requiere Operiario) Valor evento 2 dias (Valor dia)",{"$f":"CONCATENATE(A289:A735,\" \",B289:B738)","v":"30713208 Consola de Audio Analoga de 8CH (Se Requiere Operiario) Valor evento 2 dias (Valor dia)"}]
[30713208,"Consola de Audio Analoga de 8CH (Se Requiere Operiario) Valor de 3 a 6 dias (Valor dia)",{"$f":"CONCATENATE(A290:A736,\" \",B290:B739)","v":"30713208 Consola de Audio Analoga de 8CH (Se Requiere Operiario) Valor de 3 a 6 dias (Valor dia)"}]
[30713208,"Consola de Audio Analoga de 8CH (Se Requiere Operiario) Valor de 7 a 18 días (Valor feria",{"$f":"CONCATENATE(A291:A737,\" \",B291:B740)","v":"30713208 Consola de Audio Analoga de 8CH (Se Requiere Operiario) Valor de 7 a 18 días (Valor feria"}]
[30713208,"Cabina Activa (Incluye Cable conexión de audio RCA - Plug 1/4 / Cable de corriente) Valor evento 1 día",{"$f":"CONCATENATE(A292:A738,\" \",B292:B741)","v":"30713208 Cabina Activa (Incluye Cable conexión de audio RCA - Plug 1/4 / Cable de corriente) Valor evento 1 día"}]
[30713208,"Cabina Activa (Incluye Cable conexión de audio RCA - Plug 1/4 / Cable de corriente) Valor evento 2 dias (Valor dia)",{"$f":"CONCATENATE(A293:A739,\" \",B293:B742)","v":"30713208 Cabina Activa (Incluye Cable conexión de audio RCA - Plug 1/4 / Cable de corriente) Valor evento 2 dias (Valor dia)"}]
[30713208,"Cabina Activa (Incluye Cable conexión de audio RCA - Plug 1/4 / Cable de corriente) Valor de 3 a 6 dias (Valor dia)",{"$f":"CONCATENATE(A294:A740,\" \",B294:B743)","v":"30713208 Cabina Activa (Incluye Cable conexión de audio RCA - Plug 1/4 / Cable de corriente) Valor de 3 a 6 dias (Valor dia)"}]
[30713208,"Cabina Activa (Incluye Cable conexión de audio RCA - Plug 1/4 / Cable de corriente) Valor de 7 a 18 días (Valor feria)",{"$f":"CONCATENATE(A295:A741,\" \",B295:B744)","v":"30713208 Cabina Activa (Incluye Cable conexión de audio RCA - Plug 1/4 / Cable de corriente) Valor de 7 a 18 días (Valor feria)"}]
[3071293,"Caja para periodistas conexión canon de 10 CH / (No incluye operario permanente) Valor evento 1 día",{"$f":"CONCATENATE(A296:A742,\" \",B296:B745)","v":"3071293 Caja para periodistas conexión canon de 10 CH / (No incluye operario permanente) Valor evento 1 día"}]
[3071293,"Caja para periodistas conexión canon de 10 CH / (No incluye operario permanente) Valor evento 2 dias (Valor dia)",{"$f":"CONCATENATE(A297:A743,\" \",B297:B746)","v":"3071293 Caja para periodistas conexión canon de 10 CH / (No incluye operario permanente) Valor evento 2 dias (Valor dia)"}]
[3071293,"Caja para periodistas conexión canon de 10 CH / (No incluye operario permanente) Valor de 3 a 6 dias (Valor dia)",{"$f":"CONCATENATE(A298:A744,\" \",B298:B747)","v":"3071293 Caja para periodistas conexión canon de 10 CH / (No incluye operario permanente) Valor de 3 a 6 dias (Valor dia)"}]
[3071293,"Caja para periodistas conexión canon de 10 CH / (No incluye operario permanente) Valor de 7 a 18 días (Valor feria)",{"$f":"CONCATENATE(A299:A745,\" \",B299:B748)","v":"3071293 Caja para periodistas conexión canon de 10 CH / (No incluye operario permanente) Valor de 7 a 18 días (Valor feria)"}]
[3070411,"Sonido de 1 a 100 Pax (Incluye 2 cabinas activas / 1 Microfono alambrico / cable XLR / 2 tripodes) (No incluye operario permanente) Valor evento 1 día",{"$f":"CONCATENATE(A300:A746,\" \",B300:B749)","v":"3070411 Sonido de 1 a 100 Pax (Incluye 2 cabinas activas / 1 Microfono alambrico / cable XLR / 2 tripodes) (No incluye operario permanente) Valor evento 1 día"}]
[3070411,"Sonido de 1 a 100 Pax (Incluye 2 cabinas activas / 1 Microfono alambrico / cable XLR / 2 tripodes) (No incluye operario permanente) Valor evento 2 dias (Valor dia)",{"$f":"CONCATENATE(A301:A747,\" \",B301:B750)","v":"3070411 Sonido de 1 a 100 Pax (Incluye 2 cabinas activas / 1 Microfono alambrico / cable XLR / 2 tripodes) (No incluye operario permanente) Valor evento 2 dias (Valor dia)"}]
[3070411,"Sonido de 1 a 100 Pax (Incluye 2 cabinas activas / 1 Microfono alambrico / cable XLR / 2 tripodes) (No incluye operario permanente) Valor de 3 a 6 dias (Valor dia)",{"$f":"CONCATENATE(A302:A748,\" \",B302:B751)","v":"3070411 Sonido de 1 a 100 Pax (Incluye 2 cabinas activas / 1 Microfono alambrico / cable XLR / 2 tripodes) (No incluye operario permanente) Valor de 3 a 6 dias (Valor dia)"}]
[3070411,"Sonido de 1 a 100 Pax (Incluye 2 cabinas activas / 1 Microfono alambrico / cable XLR / 2 tripodes) (No incluye operario permanente) Valor de 7 a 18 días (Valor feria)",{"$f":"CONCATENATE(A303:A741,\" \",B303:B744)","v":"3070411 Sonido de 1 a 100 Pax (Incluye 2 cabinas activas / 1 Microfono alambrico / cable XLR / 2 tripodes) (No incluye operario permanente) Valor de 7 a 18 días (Valor feria)"}]
[3071347,"Sonido de 100 a 200 Pax (Incluye 4 cabinas activas / 2 Microfono alambrico / 2 cables XLR / 4 tripodes) (No incluye operario permanente) Valor evento 1 día",{"$f":"CONCATENATE(A304:A742,\" \",B304:B745)","v":"3071347 Sonido de 100 a 200 Pax (Incluye 4 cabinas activas / 2 Microfono alambrico / 2 cables XLR / 4 tripodes) (No incluye operario permanente) Valor evento 1 día"}]
[3071347,"Sonido de 100 a 200 Pax (Incluye 4 cabinas activas / 2 Microfono alambrico / 2 cables XLR / 4 tripodes) (No incluye operario permanente) Valor evento 2 dias (Valor dia)",{"$f":"CONCATENATE(A305:A743,\" \",B305:B746)","v":"3071347 Sonido de 100 a 200 Pax (Incluye 4 cabinas activas / 2 Microfono alambrico / 2 cables XLR / 4 tripodes) (No incluye operario permanente) Valor evento 2 dias (Valor dia)"}]
[3071347,"Sonido de 100 a 200 Pax (Incluye 4 cabinas activas / 2 Microfono alambrico / 2 cables XLR / 4 tripodes) (No incluye operario permanente) Valor de 3 a 6 dias (Valor dia)",{"$f":"CONCATENATE(A306:A744,\" \",B306:B747)","v":"3071347 Sonido de 100 a 200 Pax (Incluye 4 cabinas activas / 2 Microfono alambrico / 2 cables XLR / 4 tripodes) (No incluye operario permanente) Valor de 3 a 6 dias (Valor dia)"}]
[3071347,"Sonido de 100 a 200 Pax (Incluye 4 cabinas activas / 2 Microfono alambrico / 2 cables XLR / 4 tripodes) (No incluye operario permanente) Valor de 7 a 18 días (Valor feria)",{"$f":"CONCATENATE(A307:A745,\" \",B307:B748)","v":"3071347 Sonido de 100 a 200 Pax (Incluye 4 cabinas activas / 2 Microfono alambrico / 2 cables XLR / 4 tripodes) (No incluye operario permanente) Valor de 7 a 18 días (Valor feria)"}]
[3071294,"Sonido de 200 a 300 Pax (Incluye 6 cabinas activas / 2 Microfono alambrico / 2 cables XLR / 6 tripodes) (No incluye operario permanente) Valor evento 1 día",{"$f":"CONCATENATE(A308:A746,\" \",B308:B749)","v":"3071294 Sonido de 200 a 300 Pax (Incluye 6 cabinas activas / 2 Microfono alambrico / 2 cables XLR / 6 tripodes) (No incluye operario permanente) Valor evento 1 día"}]
[3071294,"Sonido de 200 a 300 Pax (Incluye 6 cabinas activas / 2 Microfono alambrico / 2 cables XLR / 6 tripodes) (No incluye operario permanente) Valor evento 2 dias (Valor dia)",{"$f":"CONCATENATE(A309:A747,\" \",B309:B750)","v":"3071294 Sonido de 200 a 300 Pax (Incluye 6 cabinas activas / 2 Microfono alambrico / 2 cables XLR / 6 tripodes) (No incluye operario permanente) Valor evento 2 dias (Valor dia)"}]
[3071294,"Sonido de 200 a 300 Pax (Incluye 6 cabinas activas / 2 Microfono alambrico / 2 cables XLR / 6 tripodes) (No incluye operario permanente) Valor de 3 a 6 dias (Valor dia)",{"$f":"CONCATENATE(A310:A748,\" \",B310:B751)","v":"3071294 Sonido de 200 a 300 Pax (Incluye 6 cabinas activas / 2 Microfono alambrico / 2 cables XLR / 6 tripodes) (No incluye operario permanente) Valor de 3 a 6 dias (Valor dia)"}]
[3071294,"Sonido de 200 a 300 Pax (Incluye 6 cabinas activas / 2 Microfono alambrico / 2 cables XLR / 6 tripodes) (No incluye operario permanente) Valor de 7 a 18 días (Valor feria)",{"$f":"CONCATENATE(A311:A749,\" \",B311:B752)","v":"3071294 Sonido de 200 a 300 Pax (Incluye 6 cabinas activas / 2 Microfono alambrico / 2 cables XLR / 6 tripodes) (No incluye operario permanente) Valor de 7 a 18 días (Valor feria)"}]
[3071295,"Sonido de 300 a 400 Pax (Incluye 8 cabinas activas / 3 Microfono alambrico / 3 cables XLR / 8 tripodes) (No incluye operario permanente) Valor evento 1 día",{"$f":"CONCATENATE(A312:A750,\" \",B312:B753)","v":"3071295 Sonido de 300 a 400 Pax (Incluye 8 cabinas activas / 3 Microfono alambrico / 3 cables XLR / 8 tripodes) (No incluye operario permanente) Valor evento 1 día"}]
[3071295,"Sonido de 300 a 400 Pax (Incluye 8 cabinas activas / 3 Microfono alambrico / 3 cables XLR / 8 tripodes) (No incluye operario permanente) Valor evento 2 dias (Valor dia)",{"$f":"CONCATENATE(A313:A751,\" \",B313:B754)","v":"3071295 Sonido de 300 a 400 Pax (Incluye 8 cabinas activas / 3 Microfono alambrico / 3 cables XLR / 8 tripodes) (No incluye operario permanente) Valor evento 2 dias (Valor dia)"}]
[3071295,"Sonido de 300 a 400 Pax (Incluye 8 cabinas activas / 3 Microfono alambrico / 3 cables XLR / 8 tripodes) (No incluye operario permanente) Valor de 3 a 6 dias (Valor dia)",{"$f":"CONCATENATE(A314:A752,\" \",B314:B755)","v":"3071295 Sonido de 300 a 400 Pax (Incluye 8 cabinas activas / 3 Microfono alambrico / 3 cables XLR / 8 tripodes) (No incluye operario permanente) Valor de 3 a 6 dias (Valor dia)"}]
[3071295,"Sonido de 300 a 400 Pax (Incluye 8 cabinas activas / 3 Microfono alambrico / 3 cables XLR / 8 tripodes) (No incluye operario permanente) Valor de 7 a 18 días (Valor feria)",{"$f":"CONCATENATE(A315:A753,\" \",B315:B756)","v":"3071295 Sonido de 300 a 400 Pax (Incluye 8 cabinas activas / 3 Microfono alambrico / 3 cables XLR / 8 tripodes) (No incluye operario permanente) Valor de 7 a 18 días (Valor feria)"}]
[3071296,"Sonido de 400 a 500 Pax (Incluye 8 cabinas activas / 4 Microfono alambrico / 4 cables XLR / 1 consola analoga de 4CH / 8 tripodes) (No incluye operario permanente) Valor evento 1 día",{"$f":"CONCATENATE(A316:A754,\" \",B316:B757)","v":"3071296 Sonido de 400 a 500 Pax (Incluye 8 cabinas activas / 4 Microfono alambrico / 4 cables XLR / 1 consola analoga de 4CH / 8 tripodes) (No incluye operario permanente) Valor evento 1 día"}]
[3071296,"Sonido de 400 a 500 Pax (Incluye 8 cabinas activas / 4 Microfono alambrico / 4 cables XLR / 1 consola analoga de 4CH / 8 tripodes) (No incluye operario permanente) Valor evento 2 dias (Valor dia)",{"$f":"CONCATENATE(A317:A755,\" \",B317:B758)","v":"3071296 Sonido de 400 a 500 Pax (Incluye 8 cabinas activas / 4 Microfono alambrico / 4 cables XLR / 1 consola analoga de 4CH / 8 tripodes) (No incluye operario permanente) Valor evento 2 dias (Valor dia)"}]
[3071296,"Sonido de 400 a 500 Pax (Incluye 8 cabinas activas / 4 Microfono alambrico / 4 cables XLR / 1 consola analoga de 4CH / 8 tripodes) (No incluye operario permanente) Valor de 3 a 6 dias (Valor dia)",{"$f":"CONCATENATE(A318:A756,\" \",B318:B759)","v":"3071296 Sonido de 400 a 500 Pax (Incluye 8 cabinas activas / 4 Microfono alambrico / 4 cables XLR / 1 consola analoga de 4CH / 8 tripodes) (No incluye operario permanente) Valor de 3 a 6 dias (Valor dia)"}]
[3071296,"Sonido de 400 a 500 Pax (Incluye 8 cabinas activas / 4 Microfono alambrico / 4 cables XLR / 1 consola analoga de 4CH / 8 tripodes) (No incluye operario permanente) Valor de 7 a 18 días (Valor feria)",{"$f":"CONCATENATE(A319:A757,\" \",B319:B760)","v":"3071296 Sonido de 400 a 500 Pax (Incluye 8 cabinas activas / 4 Microfono alambrico / 4 cables XLR / 1 consola analoga de 4CH / 8 tripodes) (No incluye operario permanente) Valor de 7 a 18 días (Valor feria)"}]
[3071297,"Sonido de 500 a 800 Pax - Sistema Line Array sin estructura (Incluye 4 cajas Hi -Mid / 2 Subs) servicio sujeto a reunion tecnica de produccion Valor evento 1 día",{"$f":"CONCATENATE(A320:A758,\" \",B320:B761)","v":"3071297 Sonido de 500 a 800 Pax - Sistema Line Array sin estructura (Incluye 4 cajas Hi -Mid / 2 Subs) servicio sujeto a reunion tecnica de produccion Valor evento 1 día"}]
[3071297,"Sonido de 500 a 800 Pax - Sistema Line Array sin estructura (Incluye 4 cajas Hi -Mid / 2 Subs) servicio sujeto a reunion tecnica de produccion Valor evento 2 dias (Valor dia)",{"$f":"CONCATENATE(A321:A759,\" \",B321:B762)","v":"3071297 Sonido de 500 a 800 Pax - Sistema Line Array sin estructura (Incluye 4 cajas Hi -Mid / 2 Subs) servicio sujeto a reunion tecnica de produccion Valor evento 2 dias (Valor dia)"}]
[3071297,"Sonido de 500 a 800 Pax - Sistema Line Array sin estructura (Incluye 4 cajas Hi -Mid / 2 Subs) servicio sujeto a reunion tecnica de produccion Valor de 3 a 6 dias (Valor dia)",{"$f":"CONCATENATE(A322:A760,\" \",B322:B763)","v":"3071297 Sonido de 500 a 800 Pax - Sistema Line Array sin estructura (Incluye 4 cajas Hi -Mid / 2 Subs) servicio sujeto a reunion tecnica de produccion Valor de 3 a 6 dias (Valor dia)"}]
[3071297,"Sonido de 500 a 800 Pax - Sistema Line Array sin estructura (Incluye 4 cajas Hi -Mid / 2 Subs) servicio sujeto a reunion tecnica de produccion Valor de 7 a 18 días (Valor feria)",{"$f":"CONCATENATE(A323:A761,\" \",B323:B764)","v":"3071297 Sonido de 500 a 800 Pax - Sistema Line Array sin estructura (Incluye 4 cajas Hi -Mid / 2 Subs) servicio sujeto a reunion tecnica de produccion Valor de 7 a 18 días (Valor feria)"}]
[3071298,"Sonido de 800 a 1500 Pax - Sistema Line Array sin estructura (Incluye 8 cajas Hi -Mid / 2 Subs) servicio sujeto a reunion tecnica de produccion Valor evento 1 día",{"$f":"CONCATENATE(A324:A762,\" \",B324:B765)","v":"3071298 Sonido de 800 a 1500 Pax - Sistema Line Array sin estructura (Incluye 8 cajas Hi -Mid / 2 Subs) servicio sujeto a reunion tecnica de produccion Valor evento 1 día"}]
[3071298,"Sonido de 800 a 1500 Pax - Sistema Line Array sin estructura (Incluye 8 cajas Hi -Mid / 2 Subs) servicio sujeto a reunion tecnica de produccion Valor evento 2 dias (Valor dia)",{"$f":"CONCATENATE(A325:A763,\" \",B325:B766)","v":"3071298 Sonido de 800 a 1500 Pax - Sistema Line Array sin estructura (Incluye 8 cajas Hi -Mid / 2 Subs) servicio sujeto a reunion tecnica de produccion Valor evento 2 dias (Valor dia)"}]
[3071298,"Sonido de 800 a 1500 Pax - Sistema Line Array sin estructura (Incluye 8 cajas Hi -Mid / 2 Subs) servicio sujeto a reunion tecnica de produccion Valor de 3 a 6 dias (Valor dia)",{"$f":"CONCATENATE(A326:A764,\" \",B326:B767)","v":"3071298 Sonido de 800 a 1500 Pax - Sistema Line Array sin estructura (Incluye 8 cajas Hi -Mid / 2 Subs) servicio sujeto a reunion tecnica de produccion Valor de 3 a 6 dias (Valor dia)"}]
[3071298,"Sonido de 800 a 1500 Pax - Sistema Line Array sin estructura (Incluye 8 cajas Hi -Mid / 2 Subs) servicio sujeto a reunion tecnica de produccion Valor de 7 a 18 días (Valor feria)",{"$f":"CONCATENATE(A327:A765,\" \",B327:B768)","v":"3071298 Sonido de 800 a 1500 Pax - Sistema Line Array sin estructura (Incluye 8 cajas Hi -Mid / 2 Subs) servicio sujeto a reunion tecnica de produccion Valor de 7 a 18 días (Valor feria)"}]
[3071299,"Sonido de 1500 a 2500 Pax - Sistema Line Array sin estructura (Incluye 12 cajas Hi -Mid / 4 Subs) servicio sujeto a reunion tecnica de produccion Valor evento 1 día",{"$f":"CONCATENATE(A328:A766,\" \",B328:B769)","v":"3071299 Sonido de 1500 a 2500 Pax - Sistema Line Array sin estructura (Incluye 12 cajas Hi -Mid / 4 Subs) servicio sujeto a reunion tecnica de produccion Valor evento 1 día"}]
[3071299,"Sonido de 1500 a 2500 Pax - Sistema Line Array sin estructura (Incluye 12 cajas Hi -Mid / 4 Subs) servicio sujeto a reunion tecnica de produccion Valor evento 2 dias (Valor dia)",{"$f":"CONCATENATE(A329:A767,\" \",B329:B770)","v":"3071299 Sonido de 1500 a 2500 Pax - Sistema Line Array sin estructura (Incluye 12 cajas Hi -Mid / 4 Subs) servicio sujeto a reunion tecnica de produccion Valor evento 2 dias (Valor dia)"}]
[3071299,"Sonido de 1500 a 2500 Pax - Sistema Line Array sin estructura (Incluye 12 cajas Hi -Mid / 4 Subs) servicio sujeto a reunion tecnica de produccion Valor de 3 a 6 dias (Valor dia)",{"$f":"CONCATENATE(A330:A768,\" \",B330:B771)","v":"3071299 Sonido de 1500 a 2500 Pax - Sistema Line Array sin estructura (Incluye 12 cajas Hi -Mid / 4 Subs) servicio sujeto a reunion tecnica de produccion Valor de 3 a 6 dias (Valor dia)"}]
[3071299,"Sonido de 1500 a 2500 Pax - Sistema Line Array sin estructura (Incluye 12 cajas Hi -Mid / 4 Subs) servicio sujeto a reunion tecnica de produccion Valor de 7 a 18 días (Valor feria)",{"$f":"CONCATENATE(A331:A769,\" \",B331:B772)","v":"3071299 Sonido de 1500 a 2500 Pax - Sistema Line Array sin estructura (Incluye 12 cajas Hi -Mid / 4 Subs) servicio sujeto a reunion tecnica de produccion Valor de 7 a 18 días (Valor feria)"}]
[3071258,"Sonido de 2500 a 3500 Pax - Sistema Line Array sin estructura (Incluye 16 cajas Hi -Mid / 6 Subs) servicio sujeto a reunion tecnica de produccion Valor evento 1 día",{"$f":"CONCATENATE(A332:A770,\" \",B332:B773)","v":"3071258 Sonido de 2500 a 3500 Pax - Sistema Line Array sin estructura (Incluye 16 cajas Hi -Mid / 6 Subs) servicio sujeto a reunion tecnica de produccion Valor evento 1 día"}]
[3071258,"Sonido de 2500 a 3500 Pax - Sistema Line Array sin estructura (Incluye 16 cajas Hi -Mid / 6 Subs) servicio sujeto a reunion tecnica de produccion Valor evento 2 dias (Valor dia)",{"$f":"CONCATENATE(A333:A771,\" \",B333:B774)","v":"3071258 Sonido de 2500 a 3500 Pax - Sistema Line Array sin estructura (Incluye 16 cajas Hi -Mid / 6 Subs) servicio sujeto a reunion tecnica de produccion Valor evento 2 dias (Valor dia)"}]
[3071258,"Sonido de 2500 a 3500 Pax - Sistema Line Array sin estructura (Incluye 16 cajas Hi -Mid / 6 Subs) servicio sujeto a reunion tecnica de produccion Valor de 3 a 6 dias (Valor dia)",{"$f":"CONCATENATE(A334:A772,\" \",B334:B775)","v":"3071258 Sonido de 2500 a 3500 Pax - Sistema Line Array sin estructura (Incluye 16 cajas Hi -Mid / 6 Subs) servicio sujeto a reunion tecnica de produccion Valor de 3 a 6 dias (Valor dia)"}]
[3071258,"Sonido de 2500 a 3500 Pax - Sistema Line Array sin estructura (Incluye 16 cajas Hi -Mid / 6 Subs) servicio sujeto a reunion tecnica de produccion Valor de 7 a 18 días (Valor feria)",{"$f":"CONCATENATE(A335:A773,\" \",B335:B776)","v":"3071258 Sonido de 2500 a 3500 Pax - Sistema Line Array sin estructura (Incluye 16 cajas Hi -Mid / 6 Subs) servicio sujeto a reunion tecnica de produccion Valor de 7 a 18 días (Valor feria)"}]
[3071259,"Sonido de 3500 a 4500 Pax - Sistema Line Array sin estructura (Incluye 20 cajas Hi -Mid / 8 Subs) servicio sujeto a reunion tecnica de produccion Valor evento 1 día",{"$f":"CONCATENATE(A336:A774,\" \",B336:B777)","v":"3071259 Sonido de 3500 a 4500 Pax - Sistema Line Array sin estructura (Incluye 20 cajas Hi -Mid / 8 Subs) servicio sujeto a reunion tecnica de produccion Valor evento 1 día"}]
[3071259,"Sonido de 3500 a 4500 Pax - Sistema Line Array sin estructura (Incluye 20 cajas Hi -Mid / 8 Subs) servicio sujeto a reunion tecnica de produccion Valor evento 2 dias (Valor dia)",{"$f":"CONCATENATE(A337:A775,\" \",B337:B778)","v":"3071259 Sonido de 3500 a 4500 Pax - Sistema Line Array sin estructura (Incluye 20 cajas Hi -Mid / 8 Subs) servicio sujeto a reunion tecnica de produccion Valor evento 2 dias (Valor dia)"}]
[3071259,"Sonido de 3500 a 4500 Pax - Sistema Line Array sin estructura (Incluye 20 cajas Hi -Mid / 8 Subs) servicio sujeto a reunion tecnica de produccion Valor de 3 a 6 dias (Valor dia)",{"$f":"CONCATENATE(A338:A776,\" \",B338:B779)","v":"3071259 Sonido de 3500 a 4500 Pax - Sistema Line Array sin estructura (Incluye 20 cajas Hi -Mid / 8 Subs) servicio sujeto a reunion tecnica de produccion Valor de 3 a 6 dias (Valor dia)"}]
[3071259,"Sonido de 3500 a 4500 Pax - Sistema Line Array sin estructura (Incluye 20 cajas Hi -Mid / 8 Subs) servicio sujeto a reunion tecnica de produccion Valor de 7 a 18 días (Valor feria)",{"$f":"CONCATENATE(A339:A777,\" \",B339:B780)","v":"3071259 Sonido de 3500 a 4500 Pax - Sistema Line Array sin estructura (Incluye 20 cajas Hi -Mid / 8 Subs) servicio sujeto a reunion tecnica de produccion Valor de 7 a 18 días (Valor feria)"}]
[3071280,"Consola DMX 16 CH / (No incluye operario permanente) Valor evento 1 día",{"$f":"CONCATENATE(A340:A778,\" \",B340:B781)","v":"3071280 Consola DMX 16 CH / (No incluye operario permanente) Valor evento 1 día"}]
[3071280,"Consola DMX 16 CH / (No incluye operario permanente) Valor evento 2 dias (Valor dia)",{"$f":"CONCATENATE(A341:A779,\" \",B341:B782)","v":"3071280 Consola DMX 16 CH / (No incluye operario permanente) Valor evento 2 dias (Valor dia)"}]
[3071280,"Consola DMX 16 CH / (No incluye operario permanente) Valor de 3 a 6 dias (Valor dia)",{"$f":"CONCATENATE(A342:A780,\" \",B342:B783)","v":"3071280 Consola DMX 16 CH / (No incluye operario permanente) Valor de 3 a 6 dias (Valor dia)"}]
[3071280,"Consola DMX 16 CH / (No incluye operario permanente) Valor de 7 a 18 días (Valor feria)",{"$f":"CONCATENATE(A343:A781,\" \",B343:B784)","v":"3071280 Consola DMX 16 CH / (No incluye operario permanente) Valor de 7 a 18 días (Valor feria)"}]
[3071275,"Par Led RGB Indoor - según cantidad se requiere consola DMX Valor evento 1 día",{"$f":"CONCATENATE(A344:A782,\" \",B344:B785)","v":"3071275 Par Led RGB Indoor - según cantidad se requiere consola DMX Valor evento 1 día"}]
[3071275,"Par Led RGB Indoor - según cantidad se requiere consola DMX Valor evento 2 dias (Valor dia)",{"$f":"CONCATENATE(A345:A783,\" \",B345:B786)","v":"3071275 Par Led RGB Indoor - según cantidad se requiere consola DMX Valor evento 2 dias (Valor dia)"}]
[3071275,"Par Led RGB Indoor - según cantidad se requiere consola DMX Valor de 3 a 6 dias (Valor dia)",{"$f":"CONCATENATE(A346:A784,\" \",B346:B787)","v":"3071275 Par Led RGB Indoor - según cantidad se requiere consola DMX Valor de 3 a 6 dias (Valor dia)"}]
[3071275,"Par Led RGB Indoor - según cantidad se requiere consola DMX Valor de 7 a 18 días (Valor feria)",{"$f":"CONCATENATE(A347:A785,\" \",B347:B788)","v":"3071275 Par Led RGB Indoor - según cantidad se requiere consola DMX Valor de 7 a 18 días (Valor feria)"}]
[3071281,"Cabeza movil (Beam - Spot - Matrix) Se requiere consola DMX adicional - No incluye Gobo personalizado Valor evento 1 día",{"$f":"CONCATENATE(A348:A786,\" \",B348:B789)","v":"3071281 Cabeza movil (Beam - Spot - Matrix) Se requiere consola DMX adicional - No incluye Gobo personalizado Valor evento 1 día"}]
[3071281,"Cabeza movil (Beam - Spot - Matrix) Se requiere consola DMX adicional - No incluye Gobo personalizado Valor evento 2 dias (Valor dia)",{"$f":"CONCATENATE(A349:A787,\" \",B349:B790)","v":"3071281 Cabeza movil (Beam - Spot - Matrix) Se requiere consola DMX adicional - No incluye Gobo personalizado Valor evento 2 dias (Valor dia)"}]
[3071281,"Cabeza movil (Beam - Spot - Matrix) Se requiere consola DMX adicional - No incluye Gobo personalizado Valor de 3 a 6 dias (Valor dia)",{"$f":"CONCATENATE(A350:A788,\" \",B350:B791)","v":"3071281 Cabeza movil (Beam - Spot - Matrix) Se requiere consola DMX adicional - No incluye Gobo personalizado Valor de 3 a 6 dias (Valor dia)"}]
[3071281,"Cabeza movil (Beam - Spot - Matrix) Se requiere consola DMX adicional - No incluye Gobo personalizado Valor de 7 a 18 días (Valor feria)",{"$f":"CONCATENATE(A351:A789,\" \",B351:B792)","v":"3071281 Cabeza movil (Beam - Spot - Matrix) Se requiere consola DMX adicional - No incluye Gobo personalizado Valor de 7 a 18 días (Valor feria)"}]
[3071282,"Seguidor profesional para espectaculos Valor evento 1 día",{"$f":"CONCATENATE(A352:A790,\" \",B352:B793)","v":"3071282 Seguidor profesional para espectaculos Valor evento 1 día"}]
[3071282,"Seguidor profesional para espectaculos Valor evento 2 dias (Valor dia)",{"$f":"CONCATENATE(A353:A791,\" \",B353:B794)","v":"3071282 Seguidor profesional para espectaculos Valor evento 2 dias (Valor dia)"}]
[3071282,"Seguidor profesional para espectaculos Valor de 3 a 6 dias (Valor dia)",{"$f":"CONCATENATE(A354:A792,\" \",B354:B795)","v":"3071282 Seguidor profesional para espectaculos Valor de 3 a 6 dias (Valor dia)"}]
[3071282,"Seguidor profesional para espectaculos Valor de 7 a 18 días (Valor feria)",{"$f":"CONCATENATE(A355:A793,\" \",B355:B796)","v":"3071282 Seguidor profesional para espectaculos Valor de 7 a 18 días (Valor feria)"}]
[3071287,"Tramo de estructura Truss de 2 mts para monontaje de Pantalla Led, sonido Line Array, Iluminacion. (No incluye: Instalacion y operario permanente) Valor evento 1 día",{"$f":"CONCATENATE(A356:A794,\" \",B356:B797)","v":"3071287 Tramo de estructura Truss de 2 mts para monontaje de Pantalla Led, sonido Line Array, Iluminacion. (No incluye: Instalacion y operario permanente) Valor evento 1 día"}]
[3071287,"Tramo de estructura Truss de 2 mts para monontaje de Pantalla Led, sonido Line Array, Iluminacion. (No incluye: Instalacion y operario permanente) Valor evento 2 dias (Valor dia)",{"$f":"CONCATENATE(A357:A795,\" \",B357:B798)","v":"3071287 Tramo de estructura Truss de 2 mts para monontaje de Pantalla Led, sonido Line Array, Iluminacion. (No incluye: Instalacion y operario permanente) Valor evento 2 dias (Valor dia)"}]
[3071287,"Tramo de estructura Truss de 2 mts para monontaje de Pantalla Led, sonido Line Array, Iluminacion. (No incluye: Instalacion y operario permanente) Valor de 3 a 6 dias (Valor dia)",{"$f":"CONCATENATE(A358:A796,\" \",B358:B799)","v":"3071287 Tramo de estructura Truss de 2 mts para monontaje de Pantalla Led, sonido Line Array, Iluminacion. (No incluye: Instalacion y operario permanente) Valor de 3 a 6 dias (Valor dia)"}]
[3071287,"Tramo de estructura Truss de 2 mts para monontaje de Pantalla Led, sonido Line Array, Iluminacion. (No incluye: Instalacion y operario permanente) Valor de 7 a 18 días (Valor feria)",{"$f":"CONCATENATE(A359:A797,\" \",B359:B800)","v":"3071287 Tramo de estructura Truss de 2 mts para monontaje de Pantalla Led, sonido Line Array, Iluminacion. (No incluye: Instalacion y operario permanente) Valor de 7 a 18 días (Valor feria)"}]
[3070532,"Diferencial Manual de 1 Tonelada (No incluye: Instalacion y  operario permanente) Valor evento 1 día",{"$f":"CONCATENATE(A360:A798,\" \",B360:B801)","v":"3070532 Diferencial Manual de 1 Tonelada (No incluye: Instalacion y  operario permanente) Valor evento 1 día"}]
[3070532,"Diferencial Manual de 1 Tonelada (No incluye: Instalacion y  operario permanente) Valor evento 2 dias (Valor dia)",{"$f":"CONCATENATE(A361:A799,\" \",B361:B802)","v":"3070532 Diferencial Manual de 1 Tonelada (No incluye: Instalacion y  operario permanente) Valor evento 2 dias (Valor dia)"}]
[3070532,"Diferencial Manual de 1 Tonelada (No incluye: Instalacion y  operario permanente) Valor de 3 a 6 dias (Valor dia)",{"$f":"CONCATENATE(A362:A800,\" \",B362:B803)","v":"3070532 Diferencial Manual de 1 Tonelada (No incluye: Instalacion y  operario permanente) Valor de 3 a 6 dias (Valor dia)"}]
[3070532,"Diferencial Manual de 1 Tonelada (No incluye: Instalacion y  operario permanente) Valor de 7 a 18 días (Valor feria)",{"$f":"CONCATENATE(A363:A801,\" \",B363:B804)","v":"3070532 Diferencial Manual de 1 Tonelada (No incluye: Instalacion y  operario permanente) Valor de 7 a 18 días (Valor feria)"}]
[3070533,"Motor de elevacion para estructuras de 2 Toneladas (No incluye: Instalacion y operario permanente) Valor evento 1 día",{"$f":"CONCATENATE(A364:A802,\" \",B364:B805)","v":"3070533 Motor de elevacion para estructuras de 2 Toneladas (No incluye: Instalacion y operario permanente) Valor evento 1 día"}]
[3070533,"Motor de elevacion para estructuras de 2 Toneladas (No incluye: Instalacion y operario permanente) Valor evento 2 dias (Valor dia)",{"$f":"CONCATENATE(A365:A803,\" \",B365:B806)","v":"3070533 Motor de elevacion para estructuras de 2 Toneladas (No incluye: Instalacion y operario permanente) Valor evento 2 dias (Valor dia)"}]
[3070533,"Motor de elevacion para estructuras de 2 Toneladas (No incluye: Instalacion y operario permanente) Valor de 3 a 6 dias (Valor dia)",{"$f":"CONCATENATE(A366:A804,\" \",B366:B807)","v":"3070533 Motor de elevacion para estructuras de 2 Toneladas (No incluye: Instalacion y operario permanente) Valor de 3 a 6 dias (Valor dia)"}]
[3070533,"Motor de elevacion para estructuras de 2 Toneladas (No incluye: Instalacion y operario permanente) Valor de 7 a 18 días (Valor feria)",{"$f":"CONCATENATE(A367:A805,\" \",B367:B808)","v":"3070533 Motor de elevacion para estructuras de 2 Toneladas (No incluye: Instalacion y operario permanente) Valor de 7 a 18 días (Valor feria)"}]
[3071285,"Pasador de diapositivas USB de mediano alcance con puntero Laser (Incluye: 2 baterias) Valor evento 1 día",{"$f":"CONCATENATE(A368:A806,\" \",B368:B809)","v":"3071285 Pasador de diapositivas USB de mediano alcance con puntero Laser (Incluye: 2 baterias) Valor evento 1 día"}]
[3071285,"Pasador de diapositivas USB de mediano alcance con puntero Laser (Incluye: 2 baterias) Valor evento 2 dias (Valor dia)",{"$f":"CONCATENATE(A369:A807,\" \",B369:B810)","v":"3071285 Pasador de diapositivas USB de mediano alcance con puntero Laser (Incluye: 2 baterias) Valor evento 2 dias (Valor dia)"}]
[3071285,"Pasador de diapositivas USB de mediano alcance con puntero Laser (Incluye: 2 baterias) Valor de 3 a 6 dias (Valor dia)",{"$f":"CONCATENATE(A370:A808,\" \",B370:B811)","v":"3071285 Pasador de diapositivas USB de mediano alcance con puntero Laser (Incluye: 2 baterias) Valor de 3 a 6 dias (Valor dia)"}]
[3071285,"Pasador de diapositivas USB de mediano alcance con puntero Laser (Incluye: 2 baterias) Valor de 7 a 18 días (Valor feria)",{"$f":"CONCATENATE(A371:A809,\" \",B371:B812)","v":"3071285 Pasador de diapositivas USB de mediano alcance con puntero Laser (Incluye: 2 baterias) Valor de 7 a 18 días (Valor feria)"}]
[3070534,"Tecnico Audiovisual de soporte y apoyo / valor por 8 horas Valor evento 1 día",{"$f":"CONCATENATE(A372:A810,\" \",B372:B813)","v":"3070534 Tecnico Audiovisual de soporte y apoyo / valor por 8 horas Valor evento 1 día"}]
[3070534,"Tecnico Audiovisual de soporte y apoyo / valor por 8 horas Valor evento 2 dias (Valor dia)",{"$f":"CONCATENATE(A373:A811,\" \",B373:B814)","v":"3070534 Tecnico Audiovisual de soporte y apoyo / valor por 8 horas Valor evento 2 dias (Valor dia)"}]
[3070534,"Tecnico Audiovisual de soporte y apoyo / valor por 8 horas Valor de 3 a 6 dias (Valor dia)",{"$f":"CONCATENATE(A374:A812,\" \",B374:B815)","v":"3070534 Tecnico Audiovisual de soporte y apoyo / valor por 8 horas Valor de 3 a 6 dias (Valor dia)"}]
[3070534,"Tecnico Audiovisual de soporte y apoyo / valor por 8 horas Valor de 7 a 18 días (Valor feria)",{"$f":"CONCATENATE(A375:A813,\" \",B375:B816)","v":"3070534 Tecnico Audiovisual de soporte y apoyo / valor por 8 horas Valor de 7 a 18 días (Valor feria)"}]
[3071300,"Tecnico Audiovisual de soporte hora adicional, despues de 8 horas (diurno, nocturno, festivo diurno, festivo nocturno) Valor evento 1 día",{"$f":"CONCATENATE(A376:A814,\" \",B376:B817)","v":"3071300 Tecnico Audiovisual de soporte hora adicional, despues de 8 horas (diurno, nocturno, festivo diurno, festivo nocturno) Valor evento 1 día"}]
[3071300,"Tecnico Audiovisual de soporte hora adicional, despues de 8 horas (diurno, nocturno, festivo diurno, festivo nocturno) Valor evento 2 dias (Valor dia)",{"$f":"CONCATENATE(A377:A815,\" \",B377:B818)","v":"3071300 Tecnico Audiovisual de soporte hora adicional, despues de 8 horas (diurno, nocturno, festivo diurno, festivo nocturno) Valor evento 2 dias (Valor dia)"}]
[3071300,"Tecnico Audiovisual de soporte hora adicional, despues de 8 horas (diurno, nocturno, festivo diurno, festivo nocturno) Valor de 3 a 6 dias (Valor dia)",{"$f":"CONCATENATE(A378:A816,\" \",B378:B819)","v":"3071300 Tecnico Audiovisual de soporte hora adicional, despues de 8 horas (diurno, nocturno, festivo diurno, festivo nocturno) Valor de 3 a 6 dias (Valor dia)"}]
[3071300,"Tecnico Audiovisual de soporte hora adicional, despues de 8 horas (diurno, nocturno, festivo diurno, festivo nocturno) Valor de 7 a 18 días (Valor feria)",{"$f":"CONCATENATE(A379:A817,\" \",B379:B820)","v":"3071300 Tecnico Audiovisual de soporte hora adicional, despues de 8 horas (diurno, nocturno, festivo diurno, festivo nocturno) Valor de 7 a 18 días (Valor feria)"}]
[30713209,"Leeko Led White Valor evento 1 día",{"$f":"CONCATENATE(A380:A818,\" \",B380:B821)","v":"30713209 Leeko Led White Valor evento 1 día"}]
[30713209,"Leeko Led White Valor evento 2 dias (Valor dia)",{"$f":"CONCATENATE(A381:A819,\" \",B381:B822)","v":"30713209 Leeko Led White Valor evento 2 dias (Valor dia)"}]
[30713209,"Leeko Led White Valor de 3 a 6 dias (Valor dia)",{"$f":"CONCATENATE(A382:A820,\" \",B382:B823)","v":"30713209 Leeko Led White Valor de 3 a 6 dias (Valor dia)"}]
[30713209,"Leeko Led White Valor de 7 a 18 días (Valor feria)",{"$f":"CONCATENATE(A383:A821,\" \",B383:B824)","v":"30713209 Leeko Led White Valor de 7 a 18 días (Valor feria)"}]
[30713210,"Camara de Humo - incluye 200 mlt de liquido de Humo Valor evento 1 día",{"$f":"CONCATENATE(A384:A822,\" \",B384:B825)","v":"30713210 Camara de Humo - incluye 200 mlt de liquido de Humo Valor evento 1 día"}]
[30713210,"Camara de Humo - incluye 200 mlt de liquido de Humo Valor evento 2 dias (Valor dia)",{"$f":"CONCATENATE(A385:A823,\" \",B385:B826)","v":"30713210 Camara de Humo - incluye 200 mlt de liquido de Humo Valor evento 2 dias (Valor dia)"}]
[30713210,"Camara de Humo - incluye 200 mlt de liquido de Humo Valor de 3 a 6 dias (Valor dia)",{"$f":"CONCATENATE(A386:A824,\" \",B386:B827)","v":"30713210 Camara de Humo - incluye 200 mlt de liquido de Humo Valor de 3 a 6 dias (Valor dia)"}]
[30713210,"Camara de Humo - incluye 200 mlt de liquido de Humo Valor de 7 a 18 días (Valor feria)",{"$f":"CONCATENATE(A387:A825,\" \",B387:B828)","v":"30713210 Camara de Humo - incluye 200 mlt de liquido de Humo Valor de 7 a 18 días (Valor feria)"}]
[30713211,"Barra de Luz Led RGB Valor evento 1 día",{"$f":"CONCATENATE(A388:A826,\" \",B388:B829)","v":"30713211 Barra de Luz Led RGB Valor evento 1 día"}]
[30713211,"Barra de Luz Led RGB Valor evento 2 dias (Valor dia)",{"$f":"CONCATENATE(A389:A827,\" \",B389:B830)","v":"30713211 Barra de Luz Led RGB Valor evento 2 dias (Valor dia)"}]
[30713211,"Barra de Luz Led RGB Valor de 3 a 6 dias (Valor dia)",{"$f":"CONCATENATE(A390:A828,\" \",B390:B831)","v":"30713211 Barra de Luz Led RGB Valor de 3 a 6 dias (Valor dia)"}]
[30713211,"Barra de Luz Led RGB Valor de 7 a 18 días (Valor feria)",{"$f":"CONCATENATE(A391:A829,\" \",B391:B832)","v":"30713211 Barra de Luz Led RGB Valor de 7 a 18 días (Valor feria)"}]
[30713212,"Sistema de monitoreo In-Ear (No incluye: Baterias y audifonos) Valor evento 1 día",{"$f":"CONCATENATE(A392:A830,\" \",B392:B833)","v":"30713212 Sistema de monitoreo In-Ear (No incluye: Baterias y audifonos) Valor evento 1 día"}]
[30713212,"Sistema de monitoreo In-Ear (No incluye: Baterias y audifonos) Valor evento 2 dias (Valor dia)",{"$f":"CONCATENATE(A393:A831,\" \",B393:B834)","v":"30713212 Sistema de monitoreo In-Ear (No incluye: Baterias y audifonos) Valor evento 2 dias (Valor dia)"}]
[30713212,"Sistema de monitoreo In-Ear (No incluye: Baterias y audifonos) Valor de 3 a 6 dias (Valor dia)",{"$f":"CONCATENATE(A394:A832,\" \",B394:B835)","v":"30713212 Sistema de monitoreo In-Ear (No incluye: Baterias y audifonos) Valor de 3 a 6 dias (Valor dia)"}]
[30713212,"Sistema de monitoreo In-Ear (No incluye: Baterias y audifonos) Valor de 7 a 18 días (Valor feria)",{"$f":"CONCATENATE(A395:A833,\" \",B395:B836)","v":"30713212 Sistema de monitoreo In-Ear (No incluye: Baterias y audifonos) Valor de 7 a 18 días (Valor feria)"}]
[30713213,"Tarima en madera negra / valor por Mt2 instalado (incluye faldon para tarima negro) Valor evento 1 día",{"$f":"CONCATENATE(A396:A834,\" \",B396:B837)","v":"30713213 Tarima en madera negra / valor por Mt2 instalado (incluye faldon para tarima negro) Valor evento 1 día"}]
[30713213,"Tarima en madera negra / valor por Mt2 instalado (incluye faldon para tarima negro) Valor evento 2 dias (Valor dia)",{"$f":"CONCATENATE(A397:A835,\" \",B397:B838)","v":"30713213 Tarima en madera negra / valor por Mt2 instalado (incluye faldon para tarima negro) Valor evento 2 dias (Valor dia)"}]
[30713213,"Tarima en madera negra / valor por Mt2 instalado (incluye faldon para tarima negro) Valor de 3 a 6 dias (Valor dia)",{"$f":"CONCATENATE(A398:A836,\" \",B398:B839)","v":"30713213 Tarima en madera negra / valor por Mt2 instalado (incluye faldon para tarima negro) Valor de 3 a 6 dias (Valor dia)"}]
[30713213,"Tarima en madera negra / valor por Mt2 instalado (incluye faldon para tarima negro) Valor de 7 a 18 días (Valor feria)",{"$f":"CONCATENATE(A399:A837,\" \",B399:B840)","v":"30713213 Tarima en madera negra / valor por Mt2 instalado (incluye faldon para tarima negro) Valor de 7 a 18 días (Valor feria)"}]
[3071212,"Computador portatil de 14\" sistema operativo Windows 10, tarjeta Ram de 4GB, DD 256GB Valor evento 1 día",{"$f":"CONCATENATE(A400:A838,\" \",B400:B841)","v":"3071212 Computador portatil de 14\" sistema operativo Windows 10, tarjeta Ram de 4GB, DD 256GB Valor evento 1 día"}]
[3071212,"Computador portatil de 14\" sistema operativo Windows 10, tarjeta Ram de 4GB, DD 256GB Valor evento 2 dias (Valor dia)",{"$f":"CONCATENATE(A401:A839,\" \",B401:B842)","v":"3071212 Computador portatil de 14\" sistema operativo Windows 10, tarjeta Ram de 4GB, DD 256GB Valor evento 2 dias (Valor dia)"}]
[3071212,"Computador portatil de 14\" sistema operativo Windows 10, tarjeta Ram de 4GB, DD 256GB Valor de 3 a 6 dias (Valor dia)",{"$f":"CONCATENATE(A402:A840,\" \",B402:B843)","v":"3071212 Computador portatil de 14\" sistema operativo Windows 10, tarjeta Ram de 4GB, DD 256GB Valor de 3 a 6 dias (Valor dia)"}]
[3071212,"Computador portatil de 14\" sistema operativo Windows 10, tarjeta Ram de 4GB, DD 256GB Valor de 7 a 18 días (Valor feria)",{"$f":"CONCATENATE(A403:A841,\" \",B403:B844)","v":"3071212 Computador portatil de 14\" sistema operativo Windows 10, tarjeta Ram de 4GB, DD 256GB Valor de 7 a 18 días (Valor feria)"}]
[3071212,"Portátil Apple Macbook Air Core I5 1.6Ghz 8Gb 128Gb Ssd 13.3 pulgadas Silver Valor evento 1 día",{"$f":"CONCATENATE(A404:A842,\" \",B404:B845)","v":"3071212 Portátil Apple Macbook Air Core I5 1.6Ghz 8Gb 128Gb Ssd 13.3 pulgadas Silver Valor evento 1 día"}]
[3071212,"Portátil Apple Macbook Air Core I5 1.6Ghz 8Gb 128Gb Ssd 13.3 pulgadas Silver Valor evento 2 dias (Valor dia)",{"$f":"CONCATENATE(A405:A843,\" \",B405:B846)","v":"3071212 Portátil Apple Macbook Air Core I5 1.6Ghz 8Gb 128Gb Ssd 13.3 pulgadas Silver Valor evento 2 dias (Valor dia)"}]
[3071212,"Portátil Apple Macbook Air Core I5 1.6Ghz 8Gb 128Gb Ssd 13.3 pulgadas Silver Valor de 3 a 6 dias (Valor dia)",{"$f":"CONCATENATE(A406:A844,\" \",B406:B847)","v":"3071212 Portátil Apple Macbook Air Core I5 1.6Ghz 8Gb 128Gb Ssd 13.3 pulgadas Silver Valor de 3 a 6 dias (Valor dia)"}]
[3071212,"Portátil Apple Macbook Air Core I5 1.6Ghz 8Gb 128Gb Ssd 13.3 pulgadas Silver Valor de 7 a 18 días (Valor feria)",{"$f":"CONCATENATE(A407:A845,\" \",B407:B848)","v":"3071212 Portátil Apple Macbook Air Core I5 1.6Ghz 8Gb 128Gb Ssd 13.3 pulgadas Silver Valor de 7 a 18 días (Valor feria)"}]
[3071237,"Computador de escritorio, sistema operativo Windows 10, tarjeta Ram de 8GB, DD 256GB Valor evento 1 día",{"$f":"CONCATENATE(A408:A846,\" \",B408:B849)","v":"3071237 Computador de escritorio, sistema operativo Windows 10, tarjeta Ram de 8GB, DD 256GB Valor evento 1 día"}]
[3071237,"Computador de escritorio, sistema operativo Windows 10, tarjeta Ram de 8GB, DD 256GB Valor evento 2 dias (Valor dia)",{"$f":"CONCATENATE(A409:A847,\" \",B409:B850)","v":"3071237 Computador de escritorio, sistema operativo Windows 10, tarjeta Ram de 8GB, DD 256GB Valor evento 2 dias (Valor dia)"}]
[3071237,"Computador de escritorio, sistema operativo Windows 10, tarjeta Ram de 8GB, DD 256GB Valor de 3 a 6 dias (Valor dia)",{"$f":"CONCATENATE(A410:A848,\" \",B410:B851)","v":"3071237 Computador de escritorio, sistema operativo Windows 10, tarjeta Ram de 8GB, DD 256GB Valor de 3 a 6 dias (Valor dia)"}]
[3071237,"Computador de escritorio, sistema operativo Windows 10, tarjeta Ram de 8GB, DD 256GB Valor de 7 a 18 días (Valor feria)",{"$f":"CONCATENATE(A411:A849,\" \",B411:B852)","v":"3071237 Computador de escritorio, sistema operativo Windows 10, tarjeta Ram de 8GB, DD 256GB Valor de 7 a 18 días (Valor feria)"}]
[3071312,"Aseo permanente 8 horas 1 Operario (valor por dia) Día ordinario",{"$f":"CONCATENATE(A412:A850,\" \",B412:B853)","v":"3071312 Aseo permanente 8 horas 1 Operario (valor por dia) Día ordinario"}]
[3071312,"Aseo permanente 8 horas 1 Operario (valor por dia) Día dominical o festivo",{"$f":"CONCATENATE(A413:A851,\" \",B413:B854)","v":"3071312 Aseo permanente 8 horas 1 Operario (valor por dia) Día dominical o festivo"}]
[3071433,"Corferias Conecta  APP (incluye el internet para un equipo)",{"$f":"CONCATENATE(A414:A852,\" \",B414:B855)","v":"3071433 Corferias Conecta  APP (incluye el internet para un equipo)"}]
[3071432,"Corferias Conecta  APP + Tablet con internet",{"$f":"CONCATENATE(A415:A853,\" \",B415:B856)","v":"3071432 Corferias Conecta  APP + Tablet con internet"}]
[3071431,"Tablet adicional con internet",{"$f":"CONCATENATE(A416:A854,\" \",B416:B857)","v":"3071431 Tablet adicional con internet"}]
[3071326,"Internet adicional para la app por equipo",{"$f":"CONCATENATE(A417:A855,\" \",B417:B858)","v":"3071326 Internet adicional para la app por equipo"}]

{"sheet":"FERIAS 3 DIAS","index":1,"n_rows":448,"n_cols":17,"rows_kept":448,"cut":false,"hidden":true,"merged":[]}
["CLAVE","CODIGO","DESCRIPCIÓN","FORMULA","VALOR"]
[{"$f":"CONCATENATE(B2:B493,\" \",C2:C493)","v":"3070101 Instalación Monofásica (Toma corriente doble, consumo hasta 2KW/110V) valor de 1 a 6 dias"},3070101,"Instalación Monofásica (Toma corriente doble, consumo hasta 2KW/110V) valor de 1 a 6 dias",{"$f":"IF(G$3=TRUE,E2/I$3,E2)","v":364140},364140,"CELDA VINCULADA","DÓLARES","PESOS","TRM "]
[{"$f":"CONCATENATE(B3:B494,\" \",C3:C494)","v":"3070103 Instalación kilovatio adicional monofásico (Debe contar con punto principal, MAX 2KW por punto)"},3070103,"Instalación kilovatio adicional monofásico (Debe contar con punto principal, MAX 2KW por punto)",{"$f":"IF(G$3=TRUE,E3/I$3,E3)","v":127092},127092,0,false,false,{"$f":"REPLACE(Q4,5,4,\"\")","v":"3876"},null,null,"USD","EUR","GBP","CAD","AUD","COP"]
[{"$f":"CONCATENATE(B4:B495,\" \",C4:C495)","v":"3070102 Instalación trifásica (Regleta plastica, consumo hasta 4KW/208V)"},3070102,"Instalación trifásica (Regleta plastica, consumo hasta 4KW/208V)",678062,678062,null,null,null,null,null,"USD",1,"0.93263","0.79372",126545,139315,"3876.49"]
[{"$f":"CONCATENATE(B5:B496,\" \",C5:C496)","v":"3070104 Instalación kilovatio adicional trifásico (Debe contar con punto principal)"},3070104,"Instalación kilovatio adicional trifásico (Debe contar con punto principal)",165886,165886,null,null,null,null,null,"EUR",107223,1,"0.85106",135686,149378,"4156.50"]
[{"$f":"CONCATENATE(B6:B497,\" \",C6:C497)","v":"3071372 De 21 a 50 kilovatios adicionales trifásicos (Valor por KW) (Debe contar con punto principal)"},3071372,"De 21 a 50 kilovatios adicionales trifásicos (Valor por KW) (Debe contar con punto principal)",150892,150892,null,null,null,null,null,"GBP",125989,117501,1,159432,175521,"4883.93"]
[{"$f":"CONCATENATE(B7:B498,\" \",C7:C498)","v":"3071373 De 51 a 100 kilovatios adicionales trifásicos (Valor por KW) (Debe contar con punto principal)"},3071373,"De 51 a 100 kilovatios adicionales trifásicos (Valor por KW) (Debe contar con punto principal)",144228,144228,null,null,null,null,null,"CAD","0.79023","0.73700","0.62723",1,110091,"3063.33"]
[{"$f":"CONCATENATE(B8:B499,\" \",C8:C499)","v":"3071374 Mas de100 kilovatios adicionales trifásicos (Valor por KW) (Debe contar con punto principal)"},3071374,"Mas de100 kilovatios adicionales trifásicos (Valor por KW) (Debe contar con punto principal)",138278,138278,null,null,null,null,null,"AUD","0.71780","0.66944","0.56973","0.90834",1,"2782.54"]
[{"$f":"CONCATENATE(B9:B500,\" \",C9:C500)","v":"3070402 Lampara de pared ajustable (150W/110V)"},3070402,"Lampara de pared ajustable (150W/110V)",73542,73542,null,null,null,null,null,"COP","0.000258","0.000241","0.000205","0.000326","0.000359",1]
[{"$f":"CONCATENATE(B10:B501,\" \",C10:C501)","v":"3070405 Reflector Led (50W- mltV)"},3070405,"Reflector Led (50W- mltV)",77350,77350]
[{"$f":"CONCATENATE(B11:B502,\" \",C11:C502)","v":"3070403 Extensión – tomacorriente doble con polo a tierra (1500W/110V) MAX 6mts "},3070403,"Extensión – tomacorriente doble con polo a tierra (1500W/110V) MAX 6mts ",38080,38080]
[{"$f":"CONCATENATE(B12:B503,\" \",C12:C503)","v":"3071345 Lavaplatos 90XL* 60XH* 90 (No incluye agua y desague) valor de 1 a 6 dias"},3071345,"Lavaplatos 90XL* 60XH* 90 (No incluye agua y desague) valor de 1 a 6 dias",168028,168028]
[{"$f":"CONCATENATE(B13:B504,\" \",C13:C504)","v":"3070301 Punto de Agua en 1/2\" (incluye consumo) valor de 1 a 6 dias"},3070301,"Punto de Agua en 1/2\" (incluye consumo) valor de 1 a 6 dias",355096,355096]
[{"$f":"CONCATENATE(B14:B505,\" \",C14:C505)","v":"3070302 Desagüe en 1 1/2\" Por toda la feria (Ubicación asignada por Corferias en su stand) valor de 1 a 6 dias"},3070302,"Desagüe en 1 1/2\" Por toda la feria (Ubicación asignada por Corferias en su stand) valor de 1 a 6 dias",328678,328678]
[{"$f":"CONCATENATE(B15:B506,\" \",C15:C506)","v":"3071341 Aire comprimido para punto con presión máx. de 100 PSI, y caudal máx. 35CFM. valor de 1 a 6 dias"},3071341,"Aire comprimido para punto con presión máx. de 100 PSI, y caudal máx. 35CFM. valor de 1 a 6 dias",475286,475286]
[{"$f":"CONCATENATE(B16:B507,\" \",C16:C507)","v":"3070307 Punto de Agua en 1/2\" (Incluye consumo)  + Desagüe en 1 1/2\" + Lavaplatos valor de 1 a 6 dias"},3070307,"Punto de Agua en 1/2\" (Incluye consumo)  + Desagüe en 1 1/2\" + Lavaplatos valor de 1 a 6 dias",766598,766598]
[{"$f":"CONCATENATE(B17:B508,\" \",C17:C508)","v":"3071321 Instalación de UN (1) punto de gas propano por UN (1) Equipo (Incluye materiales y mano de obra) (No incluye consumo de gas, este será liquidado a través de un medidor una vez finalice la feria y/o evento)"},3071321,"Instalación de UN (1) punto de gas propano por UN (1) Equipo (Incluye materiales y mano de obra) (No incluye consumo de gas, este será liquidado a través de un medidor una vez finalice la feria y/o evento)",102102,{"$f":"85800*1.19","v":102102}]
[{"$f":"CONCATENATE(B18:B509,\" \",C18:C509)","v":"3070601 Panel adicional sistema cfe 100cm x 240cm"},3070601,"Panel adicional sistema cfe 100cm x 240cm",39151,39151]
[{"$f":"CONCATENATE(B19:B510,\" \",C19:C510)","v":"3070801 Puerta sistema cfe 90cm x 240cm"},3070801,"Puerta sistema cfe 90cm x 240cm",97104,97104]
[{"$f":"CONCATENATE(B20:B511,\" \",C20:C511)","v":"3070803 Bodega estándar con puerta 150cm x 150cm (Sistema Corferias)"},3070803,"Bodega estándar con puerta 150cm x 150cm (Sistema Corferias)",154938,154938]
[{"$f":"CONCATENATE(B21:B512,\" \",C21:C512)","v":"3071319 Brazo Mecánico por Fracciòn de 15 min (Solo para primer nivel)"},3071319,"Brazo Mecánico por Fracciòn de 15 min (Solo para primer nivel)",66400,66400]
[{"$f":"CONCATENATE(B22:B513,\" \",C22:C513)","v":"3071319 Brazo Mecánico por Fracciòn de 30 min (Solo para primer nivel)"},3071319,"Brazo Mecánico por Fracciòn de 30 min (Solo para primer nivel)",113500,113500]
[{"$f":"CONCATENATE(B23:B515,\" \",C23:C515)","v":"3071319 Brazo Mecánico por Fracciòn de 60 min (Solo para primer nivel)"},3071319,"Brazo Mecánico por Fracciòn de 60 min (Solo para primer nivel)",201700,201700]
[{"$f":"CONCATENATE(B24:B516,\" \",C24:C516)","v":"3070413 Diferencial (Cap. 1 Ton.) + Brazo mecánico (Montaje y desmontaje) "},3070413,"Diferencial (Cap. 1 Ton.) + Brazo mecánico (Montaje y desmontaje) ",313300,313300]
[{"$f":"CONCATENATE(B25:B517,\" \",C25:C517)","v":"3070414 Plataforma Tijera eléctrica por Fracciòn /30 min (Uso para segundos niveles)"},3070414,"Plataforma Tijera eléctrica por Fracciòn /30 min (Uso para segundos niveles)",78000,78000]
[{"$f":"CONCATENATE(B26:B518,\" \",C26:C518)","v":"3071387 Brazo mecánico + Diferencial + TRUSS 2,60 X 2,60"},3071387,"Brazo mecánico + Diferencial + TRUSS 2,60 X 2,60",2668000,2668000]
[{"$f":"CONCATENATE(B27:B519,\" \",C27:C519)","v":"3071351 Brazo mecánico + Diferencial + TRUSS 3,60 X 2,60"},3071351,"Brazo mecánico + Diferencial + TRUSS 3,60 X 2,60",2668000,2668000]
[{"$f":"CONCATENATE(B28:B520,\" \",C28:C520)","v":"3071395 Brazo mecánico + Diferencial + TRUSS 3,60 X 3,60"},3071395,"Brazo mecánico + Diferencial + TRUSS 3,60 X 3,60",2668000,2668000]
[{"$f":"CONCATENATE(B29:B521,\" \",C29:C521)","v":"3071324 Brazo mecánico + Diferencial + TRUSS 5,90 X 5,90"},3071324,"Brazo mecánico + Diferencial + TRUSS 5,90 X 5,90",3335000,3335000]
[{"$f":"CONCATENATE(B30:B522,\" \",C30:C522)","v":"3071436 Brazo mecánico + Diferencial + TRUSS 6,90 X 6,90"},3071436,"Brazo mecánico + Diferencial + TRUSS 6,90 X 6,90",3335000,3335000]
[{"$f":"CONCATENATE(B31:B523,\" \",C31:C523)","v":"3071350 Brazo mecánico + Diferencial + TRUSS 5,60 X 5,60"},3071350,"Brazo mecánico + Diferencial + TRUSS 5,60 X 5,60",3335000,3335000]
[{"$f":"CONCATENATE(B32:B524,\" \",C32:C524)","v":"3071371 Brazo mecánico + Diferencial + TRUSS 6,60 X 6,60"},3071371,"Brazo mecánico + Diferencial + TRUSS 6,60 X 6,60",3335000,3335000]
[{"$f":"CONCATENATE(B33:B525,\" \",C33:C525)","v":"3071393 Brazo mecánico + Diferencial + TRUSS 9,60 X 2,60"},3071393,"Brazo mecánico + Diferencial + TRUSS 9,60 X 2,60",3335000,3335000]
[{"$f":"CONCATENATE(B34:B526,\" \",C34:C526)","v":"3071394 Brazo mecánico + Diferencial + TRUSS 9,60 X 3,60"},3071394,"Brazo mecánico + Diferencial + TRUSS 9,60 X 3,60",3335000,3335000]
[{"$f":"CONCATENATE(B35:B527,\" \",C35:C527)","v":"3071396 Brazo mecánico + Diferencial + TRUSS 9,60 X 5,60"},3071396,"Brazo mecánico + Diferencial + TRUSS 9,60 X 5,60",4416000,4416000]
[{"$f":"CONCATENATE(B36:B528,\" \",C36:C528)","v":"3071397 Brazo mecánico + Diferencial + TRUSS 9,60 X 6,60"},3071397,"Brazo mecánico + Diferencial + TRUSS 9,60 X 6,60",4416000,4416000]
[{"$f":"CONCATENATE(B37:B529,\" \",C37:C529)","v":"3071418 Servicio de Internet Cableado \"PARA UN EQUIPO - DURANTE UN DÍA\"  "},3071418,"Servicio de Internet Cableado \"PARA UN EQUIPO - DURANTE UN DÍA\"  ",74970,74970]
[{"$f":"CONCATENATE(B38:B530,\" \",C38:C530)","v":"3071419 Clave de acceso para la red WiFi  \"PARA UN EQUIPO - DURANTE UN DÍA\""},3071419,"Clave de acceso para la red WiFi  \"PARA UN EQUIPO - DURANTE UN DÍA\"",74970,74970]
[{"$f":"CONCATENATE(B39:B531,\" \",C39:C531)","v":"3071417 Servicio de Internet Cableado \"PARA UN EQUIPO - DURANTE TODA LA FERIA\" valor de 3 dias"},3071417,"Servicio de Internet Cableado \"PARA UN EQUIPO - DURANTE TODA LA FERIA\" valor de 3 dias",180404,180404]
[{"$f":"CONCATENATE(B40:B532,\" \",C40:C532)","v":"3071420 Clave de acceso para la Red WiFi \"PARA UN EQUIPO - DURANTE TODA LA FERIA\" valor de 3 dias"},3071420,"Clave de acceso para la Red WiFi \"PARA UN EQUIPO - DURANTE TODA LA FERIA\" valor de 3 dias",180404,180404]
[{"$f":"CONCATENATE(B41:B533,\" \",C41:C533)","v":"3071423 Conexión para Datafono + Clave de acceso WIFI (Para un equipo durante toda la feria) valor de 3 dias "},3071423,"Conexión para Datafono + Clave de acceso WIFI (Para un equipo durante toda la feria) valor de 3 dias ",289765,289765]
[{"$f":"CONCATENATE(B42:B534,\" \",C42:C534)","v":"3071424 Conexión para Datafono + Servicio de Internet Cableado (Para un equipo durante toda la feria) valor de 3 dias "},3071424,"Conexión para Datafono + Servicio de Internet Cableado (Para un equipo durante toda la feria) valor de 3 dias ",289765,289765]
[{"$f":"CONCATENATE(B43:B535,\" \",C43:C535)","v":"3071425 Servicio de Internet Cableado + Clave de acceso WIFI (Para un equipo durante toda la feria) valor de 3 dias "},3071425,"Servicio de Internet Cableado + Clave de acceso WIFI (Para un equipo durante toda la feria) valor de 3 dias ",324751,324751]
[{"$f":"CONCATENATE(B44:B536,\" \",C44:C536)","v":"3071437 Internet Dedicado: Si requiere conexión banda ancha para diferentes servicios o redes locales, contáctese con serviciosplus@corferias.com para brindarle asesoria y cotización."},3071437,"Internet Dedicado: Si requiere conexión banda ancha para diferentes servicios o redes locales, contáctese con serviciosplus@corferias.com para brindarle asesoria y cotización.","Según cotización","Según cotización"]
[{"$f":"CONCATENATE(B45:B537,\" \",C45:C537)","v":"3071406 Instalación Punto de Red:Incluye un cable UTP por punto"},3071406,"Instalación Punto de Red:Incluye un cable UTP por punto",90797,90797]
[{"$f":"CONCATENATE(B46:B538,\" \",C46:C538)","v":"3071407 Switch VALOR POR FERIA "},3071407,"Switch VALOR POR FERIA ",87346,87346]
[{"$f":"CONCATENATE(B47:B539,\" \",C47:C539)","v":"3071402 Servicio de VLAN: Servicio virtual de red.  VALOR POR FERIA"},3071402,"Servicio de VLAN: Servicio virtual de red.  VALOR POR FERIA",367115,367115]
[{"$f":"CONCATENATE(B48:B540,\" \",C48:C540)","v":"3071430 Extension LAN VALOR POR FERIA  (Incluye punto de red y aplica para extender el servicio de internet contratado con terceros)"},3071430,"Extension LAN VALOR POR FERIA  (Incluye punto de red y aplica para extender el servicio de internet contratado con terceros)",1401344,1401344]
[{"$f":"CONCATENATE(B49:B541,\" \",C49:C541)","v":"3071442 Soporte técnico permanente (Por espacio de 8 horas) de un técnico. VALOR DÍARIO "},3071442,"Soporte técnico permanente (Por espacio de 8 horas) de un técnico. VALOR DÍARIO ",243474,243474]
[{"$f":"CONCATENATE(B50:B542,\" \",C50:C542)","v":"3070202 Servicio Telefónico Urbano con Aparato (Incluye consumo local ilimitado)"},3070202,"Servicio Telefónico Urbano con Aparato (Incluye consumo local ilimitado)",42483,42483]
[{"$f":"CONCATENATE(B51:B543,\" \",C51:C543)","v":"3070203 Servicio Telefónico Larga Distancia con aparato"},3070203,"Servicio Telefónico Larga Distancia con aparato",42483,42483]
[{"$f":"CONCATENATE(B52:B544,\" \",C52:C544)","v":"3070201 Línea Externa no conmutada (Previa solicitud a Etb, Claro, EPM, Colomsat u otro operador)"},3070201,"Línea Externa no conmutada (Previa solicitud a Etb, Claro, EPM, Colomsat u otro operador)",120071,120071]
[{"$f":"CONCATENATE(B53:B545,\" \",C53:C545)","v":"3070207 Conexión cableada para Datafono:(No incluye Datafono)"},3070207,"Conexión cableada para Datafono:(No incluye Datafono)",127092,127092]
[{"$f":"CONCATENATE(B54:B546,\" \",C54:C546)","v":"3071107 Archivador Regina (70cm x 37cm x50cm)"},3071107,"Archivador Regina (70cm x 37cm x50cm)",158151,158151]
[{"$f":"CONCATENATE(B55:B547,\" \",C55:C547)","v":"3070954 Counter Mónaco (Melaminico) (100cm x 100cm x 30cm)"},3070954,"Counter Mónaco (Melaminico) (100cm x 100cm x 30cm)",171241,171241]
[{"$f":"CONCATENATE(B56:B548,\" \",C56:C548)","v":"3070954 Counter Mónaco (Miel) (100cm x 100cm x 30cm)"},3070954,"Counter Mónaco (Miel) (100cm x 100cm x 30cm)",171241,171241]
[{"$f":"CONCATENATE(B57:B549,\" \",C57:C549)","v":"3070954 Counter Mónaco (Roble Gris) (100cm x 100cm x 30cm)"},3070954,"Counter Mónaco (Roble Gris) (100cm x 100cm x 30cm)",171241,171241]
[{"$f":"CONCATENATE(B58:B550,\" \",C58:C550)","v":"3070954 Counter Mónaco (Rovere) (100cm x 100cm x 30cm)"},3070954,"Counter Mónaco (Rovere) (100cm x 100cm x 30cm)",171241,171241]
[{"$f":"CONCATENATE(B59:B551,\" \",C59:C551)","v":"3070714 Cubo de exhibición (40cm x 40cm x 25cm)"},3070714,"Cubo de exhibición (40cm x 40cm x 25cm)",35700,35700]
[{"$f":"CONCATENATE(B60:B552,\" \",C60:C552)","v":"3070503 Estantería Polo (Melaminico)   (200cm x 93cm x 35cm)"},3070503,"Estantería Polo (Melaminico)   (200cm x 93cm x 35cm)",181951,181951]
[{"$f":"CONCATENATE(B61:B553,\" \",C61:C553)","v":"3070503 Estantería Polo (Miel)  (200cm x 93cm x 35cm)"},3070503,"Estantería Polo (Miel)  (200cm x 93cm x 35cm)",181951,181951]
[{"$f":"CONCATENATE(B62:B554,\" \",C62:C554)","v":"3070503 Estantería Polo (OSB)  (200cm x 93cm x 35cm)"},3070503,"Estantería Polo (OSB)  (200cm x 93cm x 35cm)",181951,181951]
[{"$f":"CONCATENATE(B63:B555,\" \",C63:C555)","v":"3070503 Estantería Polo (Roble Gris)  (200cm x 93cm x 35cm)"},3070503,"Estantería Polo (Roble Gris)  (200cm x 93cm x 35cm)",181951,181951]
[{"$f":"CONCATENATE(B64:B556,\" \",C64:C556)","v":"3070503 Estantería Polo (Rovere)  (200cm x 93cm x 35cm)"},3070503,"Estantería Polo (Rovere)  (200cm x 93cm x 35cm)",181951,181951]
[{"$f":"CONCATENATE(B65:B557,\" \",C65:C557)","v":"3071108 Estantería Shelf 4E (190cm x 125cm x 41cm)"},3071108,"Estantería Shelf 4E (190cm x 125cm x 41cm)",151606,151606]
[{"$f":"CONCATENATE(B66:B559,\" \",C66:C559)","v":"3071105 KIT básico oficina 2 (2 sillas interlocutoras negras, 1 silla ejecutiva cuero, 1 mesa oficina)"},3071105,"KIT básico oficina 2 (2 sillas interlocutoras negras, 1 silla ejecutiva cuero, 1 mesa oficina)",237286,237286]
[{"$f":"CONCATENATE(B67:B560,\" \",C67:C560)","v":"3070512 Locker 12 puestos"},3070512,"Locker 12 puestos",{"$f":"IF(G$3=TRUE,E67/I$3,E67)","v":357000},357000]
[{"$f":"CONCATENATE(B68:B562,\" \",C68:C562)","v":"3071115 Mesa alta Daysa (Melaminico) (100cm x 60cm)"},3071115,"Mesa alta Daysa (Melaminico) (100cm x 60cm)",105553,105553]
[{"$f":"CONCATENATE(B69:B563,\" \",C69:C563)","v":"3071115 Mesa alta Daysa (Miel) (100cm x 60cm)"},3071115,"Mesa alta Daysa (Miel) (100cm x 60cm)",105553,105553]
[{"$f":"CONCATENATE(B70:B564,\" \",C70:C564)","v":"3071115 Mesa alta Daysa (Roble Gris) (100cm x 60cm)"},3071115,"Mesa alta Daysa (Roble Gris) (100cm x 60cm)",105553,105553]
[{"$f":"CONCATENATE(B71:B565,\" \",C71:C565)","v":"3071115 Mesa alta Daysa (Rovere) (100cm x 60cm)"},3071115,"Mesa alta Daysa (Rovere) (100cm x 60cm)",105553,105553]
[{"$f":"CONCATENATE(B72:B566,\" \",C72:C566)","v":"3071039 Mesa alta Daysa + 2 sillas neumaticas altas marsella"},3071039,"Mesa alta Daysa + 2 sillas neumaticas altas marsella",247163,247163]
[{"$f":"CONCATENATE(B73:B567,\" \",C73:C567)","v":"3071093 Mesa alta Daysa vidrio (100cm x 60cm)"},3071093,"Mesa alta Daysa vidrio (100cm x 60cm)",118643,118643]
[{"$f":"CONCATENATE(B74:B568,\" \",C74:C568)","v":"3071100 Mesa Centro Circular doble nivel (melaminico) (50cm x 110cm x 60cm)"},3071100,"Mesa Centro Circular doble nivel (melaminico) (50cm x 110cm x 60cm)",117453,117453]
[{"$f":"CONCATENATE(B75:B569,\" \",C75:C569)","v":"3071104 Mesa Centro Cuadrada 2 Niveles (melaminico) (50cm x 60cm x 60)"},3071104,"Mesa Centro Cuadrada 2 Niveles (melaminico) (50cm x 60cm x 60)",85442,85442]
[{"$f":"CONCATENATE(B76:B570,\" \",C76:C570)","v":"3071068 Mesa Centro Rectangular doble nivel (melaminico) (50cm x 75cm x 50cm)"},3071068,"Mesa Centro Rectangular doble nivel (melaminico) (50cm x 75cm x 50cm)",85442,85442]
[{"$f":"CONCATENATE(B77:B571,\" \",C77:C571)","v":"3071098 Mesa estandar Chia Blanca"},3071098,"Mesa estandar Chia Blanca",105553,105553]
[{"$f":"CONCATENATE(B78:B572,\" \",C78:C572)","v":"3071098 Mesa estandar Chia Negra"},3071098,"Mesa estandar Chia Negra",105553,105553]
[{"$f":"CONCATENATE(B79:B573,\" \",C79:C573)","v":"3071097 Mesa estandar Daysa (76cm x 60cm)"},3071097,"Mesa estandar Daysa (76cm x 60cm)",105553,105553]
[{"$f":"CONCATENATE(B80:B574,\" \",C80:C574)","v":"3071116 Mesa estandar Lotus (70cm x 64cm x 81cm)"},3071116,"Mesa estandar Lotus (70cm x 64cm x 81cm)",158151,158151]
[{"$f":"CONCATENATE(B81:B575,\" \",C81:C575)","v":"3071054 Mesa estandar lotus vidrio + 2 sillas tipo huevo"},3071054,"Mesa estandar lotus vidrio + 2 sillas tipo huevo",272153,272153]
[{"$f":"CONCATENATE(B82:B576,\" \",C82:C576)","v":"30713200 Mesa Oficina (78cm x 120cm x 50cm)"},30713200,"Mesa Oficina (78cm x 120cm x 50cm)",133042,133042]
[{"$f":"CONCATENATE(B83:B577,\" \",C83:C577)","v":"3071036 Mesa plegable plastico + 2 sillas interlocutoras negras"},3071036,"Mesa plegable plastico + 2 sillas interlocutoras negras",190400,190400]
[{"$f":"CONCATENATE(B84:B578,\" \",C84:C578)","v":"3070936 Mesón plegable plástico (Gris o blanco) (73cm x 182cm x 76cm)"},3070936,"Mesón plegable plástico (Gris o blanco) (73cm x 182cm x 76cm)",104601,104601]
[{"$f":"CONCATENATE(B85:B579,\" \",C85:C579)","v":"3071103 Nevera Estandar 230LT ( 55.6cm X 157.6cm X 67cm)"},3071103,"Nevera Estandar 230LT ( 55.6cm X 157.6cm X 67cm)",299999,299999]
[{"$f":"CONCATENATE(B86:B580,\" \",C86:C580)","v":"3071103 Nevera Minibar 121 LT (48.5cm X 85.1cm X 60cm)"},3071103,"Nevera Minibar 121 LT (48.5cm X 85.1cm X 60cm)",203371,203371]
[{"$f":"CONCATENATE(B87:B581,\" \",C87:C581)","v":"3071302 Papelera plastica negra"},3071302,"Papelera plastica negra",23443,23443]
[{"$f":"CONCATENATE(B88:B582,\" \",C88:C582)","v":"3070957 Pedestal cuadrado (30cm x 30cm x 30cm)"},3070957,"Pedestal cuadrado (30cm x 30cm x 30cm)",34391,34391]
[{"$f":"CONCATENATE(B89:B583,\" \",C89:C583)","v":"3070956 Pedestal rectangular 60cm (60cm x 30cm x 30cm)"},3070956,"Pedestal rectangular 60cm (60cm x 30cm x 30cm)",39627,39627]
[{"$f":"CONCATENATE(B90:B584,\" \",C90:C584)","v":"3070955 Pedestal rectangular 90cm (90cm x 30cm x 30cm)"},3070955,"Pedestal rectangular 90cm (90cm x 30cm x 30cm)",44982,44982]
[{"$f":"CONCATENATE(B91:B585,\" \",C91:C585)","v":"3070521 Perchero básico 1 pedestal (120cm Ancho - Altura) graduable + 5 ganchos"},3070521,"Perchero básico 1 pedestal (120cm Ancho - Altura) graduable + 5 ganchos",77469,77469]
[{"$f":"CONCATENATE(B92:B586,\" \",C92:C586)","v":"3070521 Perchero doble 2 pedestal (120cm Ancho-Altura) graduable + 5 ganchos"},3070521,"Perchero doble 2 pedestal (120cm Ancho-Altura) graduable + 5 ganchos",89369,89369]
[{"$f":"CONCATENATE(B93:B587,\" \",C93:C587)","v":"30713201 Poltrona Buggy (72cm x 64cm)"},30713201,"Poltrona Buggy (72cm x 64cm)",155176,155176]
[{"$f":"CONCATENATE(B94:B588,\" \",C94:C588)","v":"3071059 Poltrona Levis (73cm x 86cm x 73cm)"},3071059,"Poltrona Levis (73cm x 86cm x 73cm)",197778,197778]
[{"$f":"CONCATENATE(B95:B589,\" \",C95:C589)","v":"3071325 Poste separador 120cm de alto"},3071325,"Poste separador 120cm de alto",46291,46291]
[{"$f":"CONCATENATE(B96:B590,\" \",C96:C590)","v":"3071090 Puff estandar cuadrado (43cm x 43cm x 43cm)"},3071090,"Puff estandar cuadrado (43cm x 43cm x 43cm)",55216,55216]
[{"$f":"CONCATENATE(B97:B591,\" \",C97:C591)","v":"3071091 Puff Trunk 2 cuerpos (48cm x 81cm x 40cm)"},3071091,"Puff Trunk 2 cuerpos (48cm x 81cm x 40cm)",105553,105553]
[{"$f":"CONCATENATE(B98:B592,\" \",C98:C592)","v":"3071114 Puff Trunk 3 cuerpos (46cm x 120cm x 54cm)"},3071114,"Puff Trunk 3 cuerpos (46cm x 120cm x 54cm)",105553,105553]
[{"$f":"CONCATENATE(B99:B593,\" \",C99:C593)","v":"3071370 Revistero plegable (140cm x 25cm x 29cm)"},3071370,"Revistero plegable (140cm x 25cm x 29cm)",78540,78540]
[{"$f":"CONCATENATE(B100:B594,\" \",C100:C594)","v":" Sala de Juntas"},null,"Sala de Juntas",297500,297500]
[{"$f":"CONCATENATE(B101:B595,\" \",C101:C595)","v":"3071113 Sala Osaka (1 sofá Toronto, 2 puffs Donna, 1 mesa centro cuadrada 2 niveles)"},3071113,"Sala Osaka (1 sofá Toronto, 2 puffs Donna, 1 mesa centro cuadrada 2 niveles)",461244,461244]
[{"$f":"CONCATENATE(B102:B596,\" \",C102:C596)","v":"3071095 Sala VIP (1 sofá Victoria derecho, 1 sofá Victoria izquierdo, 2 poltronas, 1 mesa centro cuadrada 2 niveles)"},3071095,"Sala VIP (1 sofá Victoria derecho, 1 sofá Victoria izquierdo, 2 poltronas, 1 mesa centro cuadrada 2 niveles)",690200,690200]
[{"$f":"CONCATENATE(B103:B597,\" \",C103:C597)","v":" Silla Bombonera Roja"},null,"Silla Bombonera Roja",65926,65926]
[{"$f":"CONCATENATE(B104:B598,\" \",C104:C598)","v":"3071081 Silla Ejecutiva Cuero (57cm x 93cm x 52cm)"},3071081,"Silla Ejecutiva Cuero (57cm x 93cm x 52cm)",75327,75327]
[{"$f":"CONCATENATE(B105:B599,\" \",C105:C599)","v":"3071081 Silla Ejecutiva Malla"},3071081,"Silla Ejecutiva Malla",155176,155176]
[{"$f":"CONCATENATE(B106:B600,\" \",C106:C600)","v":"3071061 Silla estandar Suiza (48cm x 46cm x 45cm)"},3071061,"Silla estandar Suiza (48cm x 46cm x 45cm)",68901,68901]
[{"$f":"CONCATENATE(B107:B601,\" \",C107:C601)","v":"3071008 Silla estandar Tipo Huevo (48cm x 46cm x 45cm)"},3071008,"Silla estandar Tipo Huevo (48cm x 46cm x 45cm)",68901,68901]
[{"$f":"CONCATENATE(B108:B602,\" \",C108:C602)","v":"30713198 Silla Gerencial (100cm x 49cm x 49cm)"},30713198,"Silla Gerencial (100cm x 49cm x 49cm)",155176,155176]
[{"$f":"CONCATENATE(B109:B603,\" \",C109:C603)","v":"3071006 Silla Interlocutora Negra (79cm x 53cm x 42cm)"},3071006,"Silla Interlocutora Negra (79cm x 53cm x 42cm)",49504,49504]
[{"$f":"CONCATENATE(B110:B604,\" \",C110:C604)","v":"3071077 Silla Neumática alta Marsella (80cm x 40cm x 40cm)"},3071077,"Silla Neumática alta Marsella (80cm x 40cm x 40cm)",82824,82824]
[{"$f":"CONCATENATE(B111:B605,\" \",C111:C605)","v":"3071022 Silla Neumatica alta Versalles (80cm x 40 cm x 40cm"},3071022,"Silla Neumatica alta Versalles (80cm x 40 cm x 40cm",104125,104125]
[{"$f":"CONCATENATE(B112:B606,\" \",C112:C606)","v":" Silla Oslo Blanca"},null,"Silla Oslo Blanca",75327,75327]
[{"$f":"CONCATENATE(B113:B607,\" \",C113:C607)","v":" Silla Tipo Bar Madera"},null,"Silla Tipo Bar Madera",81872,81872]
[{"$f":"CONCATENATE(B114:B608,\" \",C114:C608)","v":"3071085 Sofa Otawa 2 cuerpos (85cm x 120cm x 76cm)"},3071085,"Sofa Otawa 2 cuerpos (85cm x 120cm x 76cm)",210987,210987]
[{"$f":"CONCATENATE(B115:B609,\" \",C115:C609)","v":"3071031 Sofa Terranova 2 cuerpos (88cm x 173cm x 80cm)"},3071031,"Sofa Terranova 2 cuerpos (88cm x 173cm x 80cm)",224077,224077]
[{"$f":"CONCATENATE(B116:B610,\" \",C116:C610)","v":"3071083 Sofa Toronto 3 cuerpos (88cm x 173cm x 80cm)"},3071083,"Sofa Toronto 3 cuerpos (88cm x 173cm x 80cm)",224077,224077]
[{"$f":"CONCATENATE(B117:B611,\" \",C117:C611)","v":"3071013 Sofa Victoria derecho (70cm x 100cm x 75cm)"},3071013,"Sofa Victoria derecho (70cm x 100cm x 75cm)",182070,182070]
[{"$f":"CONCATENATE(B118:B612,\" \",C118:C612)","v":"3071023 Sofa Victoria izquierdo (70cm x 100cm x 75cm)"},3071023,"Sofa Victoria izquierdo (70cm x 100cm x 75cm)",182070,182070]
[{"$f":"CONCATENATE(B119:B613,\" \",C119:C613)","v":"3070505 Tarima 120x120x60, (Previa verificación con área de montaje)"},3070505,"Tarima 120x120x60, (Previa verificación con área de montaje)",247996,247996]
[{"$f":"CONCATENATE(B120:B614,\" \",C120:C614)","v":"3070535 Vitrina Isla 2E (200cm x 50cm x 50cm)"},3070535,"Vitrina Isla 2E (200cm x 50cm x 50cm)",286671,286671]
[{"$f":"CONCATENATE(B121:B615,\" \",C121:C615)","v":"3070517 Vitrina Mostrador 2E (100cm x 100cm x 40cm)"},3070517,"Vitrina Mostrador 2E (100cm x 100cm x 40cm)",214081,214081]
[{"$f":"CONCATENATE(B122:B616,\" \",C122:C616)","v":"3070518 Vitrina Mostrador Tipo 2 1E (92cm x 90 cm x 40cm)"},3070518,"Vitrina Mostrador Tipo 2 1E (92cm x 90 cm x 40cm)",214081,214081]
[{"$f":"CONCATENATE(B123:B617,\" \",C123:C617)","v":"3071111 Vitrina Rectangular 2E (200cm x 100cm x 40cm)"},3071111,"Vitrina Rectangular 2E (200cm x 100cm x 40cm)",286671,286671]
[{"$f":"CONCATENATE(B124:B613,\" \",C124:C613)","v":"3071375 Planta + matera plástica (Pequeña)"},3071375,"Planta + matera plástica (Pequeña)",20600,20600]
[{"$f":"CONCATENATE(B125:B614,\" \",C125:C614)","v":"3071376 Planta + matera plástica (Mediana)"},3071376,"Planta + matera plástica (Mediana)",46400,46400]
[{"$f":"CONCATENATE(B126:B615,\" \",C126:C615)","v":"3071377 Planta + matera plástica (Grande)"},3071377,"Planta + matera plástica (Grande)",59200,59200]
[{"$f":"CONCATENATE(B127:B616,\" \",C127:C616)","v":"3071378 Jardinera en madera + 3 Plantas grandes"},3071378,"Jardinera en madera + 3 Plantas grandes",100300,100300]
[{"$f":"CONCATENATE(B128:B617,\" \",C128:C617)","v":"3071379 Jardinera en madera + 3 Plantas medianas"},3071379,"Jardinera en madera + 3 Plantas medianas",81100,81100]
[{"$f":"CONCATENATE(B129:B618,\" \",C129:C618)","v":"3071380 Jardinera en madera + 7 Plantas pequeñas"},3071380,"Jardinera en madera + 7 Plantas pequeñas",83500,83500]
[{"$f":"CONCATENATE(B130:B619,\" \",C130:C619)","v":"3071381 Cajoneras con flores"},3071381,"Cajoneras con flores",155800,155800]
[{"$f":"CONCATENATE(B131:B620,\" \",C131:C620)","v":"3071314 Grandes (61cm x 120cm)"},3071314,"Grandes (61cm x 120cm)",{"$f":"IF(G$3=TRUE,E131/I$3,E131)","v":31700},31700]
[{"$f":"CONCATENATE(B132:B621,\" \",C132:C621)","v":"3071301 Medianas (31cm x 120cm)"},3071301,"Medianas (31cm x 120cm)",25000,25000]
[{"$f":"CONCATENATE(B133:B622,\" \",C133:C622)","v":"3071317 Pequeñas (10cm x 30cm)"},3071317,"Pequeñas (10cm x 30cm)",11100,11100]
[{"$f":"CONCATENATE(B134:B623,\" \",C134:C623)","v":"3071382 Suculentas (10cm x 15cm)"},3071382,"Suculentas (10cm x 15cm)",11100,11100]
[{"$f":"CONCATENATE(B135:B624,\" \",C135:C624)","v":"3071383 Chamizos"},3071383,"Chamizos",11100,11100]
[{"$f":"CONCATENATE(B136:B625,\" \",C136:C625)","v":"3071355 De barro grande"},3071355,"De barro grande",30700,30700]
[{"$f":"CONCATENATE(B137:B626,\" \",C137:C626)","v":"3071356 De barro mediana"},3071356,"De barro mediana",23900,23900]
[{"$f":"CONCATENATE(B138:B627,\" \",C138:C627)","v":"3071384 De barro pequeña"},3071384,"De barro pequeña",10600,10600]
[{"$f":"CONCATENATE(B139:B628,\" \",C139:C628)","v":"3071357 Plástica grande"},3071357,"Plástica grande",30700,30700]
[{"$f":"CONCATENATE(B140:B629,\" \",C140:C629)","v":"3071358 Plástica mediana"},3071358,"Plástica mediana",23900,23900]
[{"$f":"CONCATENATE(B141:B630,\" \",C141:C630)","v":"3071359 Plástica pequeña"},3071359,"Plástica pequeña",10600,10600]
[{"$f":"CONCATENATE(B142:B631,\" \",C142:C631)","v":"3071360 Jardinera en madera (35cm x 100cm x 35cm)"},3071360,"Jardinera en madera (35cm x 100cm x 35cm)",10600,10600]
[{"$f":"CONCATENATE(B143:B632,\" \",C143:C632)","v":"3071352 Grandes"},3071352,"Grandes",93800,93800]
[{"$f":"CONCATENATE(B144:B633,\" \",C144:C633)","v":"3071353 Medianos"},3071353,"Medianos",54600,54600]
[{"$f":"CONCATENATE(B145:B634,\" \",C145:C634)","v":"3071354 Pequeños"},3071354,"Pequeños",{"$f":"IF(G$3=TRUE,E145/I$3,E145)","v":24000},24000]
[{"$f":"CONCATENATE(B146:B635,\" \",C146:C635)","v":"3071364 Topiario en forma de animales o frutas "},3071364,"Topiario en forma de animales o frutas ",228500,228500]
[{"$f":"CONCATENATE(B147:B636,\" \",C147:C636)","v":"3071365 Topiario en bolas grandes"},3071365,"Topiario en bolas grandes",228500,228500]
[{"$f":"CONCATENATE(B148:B637,\" \",C148:C637)","v":"3071385 Topiario en bolas pequeñas"},3071385,"Topiario en bolas pequeñas",207700,207700]
[{"$f":"CONCATENATE(B149:B638,\" \",C149:C638)","v":"3071363 Piedras (Por m2)"},3071363,"Piedras (Por m2)",23900,23900]
[{"$f":"CONCATENATE(B150:B639,\" \",C150:C639)","v":"3071367 Pino patula (Por bulto)"},3071367,"Pino patula (Por bulto)",10600,10600]
[{"$f":"CONCATENATE(B151:B640,\" \",C151:C640)","v":"3071361 Gravilla (Por m2)"},3071361,"Gravilla (Por m2)",10600,10600]
[{"$f":"CONCATENATE(B152:B641,\" \",C152:C641)","v":"3071386 Muros verticales (Por m2)"},3071386,"Muros verticales (Por m2)",328500,328500]
[{"$f":"CONCATENATE(B153:B642,\" \",C153:C642)","v":"3071366 Cascarilla (Por bulto)"},3071366,"Cascarilla (Por bulto)",10600,10600]
[{"$f":"CONCATENATE(B154:B643,\" \",C154:C643)","v":"3071362 Rocas (Por unidad)"},3071362,"Rocas (Por unidad)",63300,63300]
[{"$f":"CONCATENATE(B155:B644,\" \",C155:C644)","v":"3071346 Base para Tv Led - LCD adaptable  (No Incluye Instalacion) Valor evento 1 día"},3071346,"Base para Tv Led - LCD adaptable  (No Incluye Instalacion) Valor evento 1 día",44744,44744]
[{"$f":"CONCATENATE(B156:B645,\" \",C156:C645)","v":"3071346 Base para Tv Led - LCD adaptable  (No Incluye Instalacion) Valor evento 2 dias (Valor dia)"},3071346,"Base para Tv Led - LCD adaptable  (No Incluye Instalacion) Valor evento 2 dias (Valor dia)",44744,44744]
[{"$f":"CONCATENATE(B157:B646,\" \",C157:C646)","v":"3071346 Base para Tv Led - LCD adaptable  (No Incluye Instalacion) Valor de 3 a 6 dias (Valor dia)"},3071346,"Base para Tv Led - LCD adaptable  (No Incluye Instalacion) Valor de 3 a 6 dias (Valor dia)",40698,40698]
[{"$f":"CONCATENATE(B158:B647,\" \",C158:C647)","v":"3071346 Base para Tv Led - LCD adaptable  (No Incluye Instalacion) Valor de 7 a 18 días (Valor feria)"},3071346,"Base para Tv Led - LCD adaptable  (No Incluye Instalacion) Valor de 7 a 18 días (Valor feria)",289765,289765]
[{"$f":"CONCATENATE(B159:B648,\" \",C159:C648)","v":"3071204 Tv Smart  42\" 106cms ( Incluye base para tv / cable de corriente / 1 cable HDMI) IN: HDMI, USB Valor evento 1 día"},3071204,"Tv Smart  42\" 106cms ( Incluye base para tv / cable de corriente / 1 cable HDMI) IN: HDMI, USB Valor evento 1 día",149226,149226]
[{"$f":"CONCATENATE(B160:B649,\" \",C160:C649)","v":"3071204 Tv Smart  42\" 106cms ( Incluye base para tv / cable de corriente / 1 cable HDMI) IN: HDMI, USB Valor evento 2 dias (Valor dia)"},3071204,"Tv Smart  42\" 106cms ( Incluye base para tv / cable de corriente / 1 cable HDMI) IN: HDMI, USB Valor evento 2 dias (Valor dia)",149226,149226]
[{"$f":"CONCATENATE(B161:B650,\" \",C161:C650)","v":"3071204 Tv Smart  42\" 106cms ( Incluye base para tv / cable de corriente / 1 cable HDMI) IN: HDMI, USB Valor de 3 a 6 dias (Valor dia)"},3071204,"Tv Smart  42\" 106cms ( Incluye base para tv / cable de corriente / 1 cable HDMI) IN: HDMI, USB Valor de 3 a 6 dias (Valor dia)",136136,136136]
[{"$f":"CONCATENATE(B162:B651,\" \",C162:C651)","v":"3071204 Tv Smart  42\" 106cms ( Incluye base para tv / cable de corriente / 1 cable HDMI) IN: HDMI, USB Valor de 7 a 18 días (Valor feria)"},3071204,"Tv Smart  42\" 106cms ( Incluye base para tv / cable de corriente / 1 cable HDMI) IN: HDMI, USB Valor de 7 a 18 días (Valor feria)",971635,971635]
[{"$f":"CONCATENATE(B163:B652,\" \",C163:C652)","v":"3071206 Tv Smart  55\" 140cms ( Incluye base para tv / cable de corriente / 1 cable HDMI) IN: HDMI, USB Valor evento 1 día"},3071206,"Tv Smart  55\" 140cms ( Incluye base para tv / cable de corriente / 1 cable HDMI) IN: HDMI, USB Valor evento 1 día",223839,223839]
[{"$f":"CONCATENATE(B164:B653,\" \",C164:C653)","v":"3071206 Tv Smart  55\" 140cms ( Incluye base para tv / cable de corriente / 1 cable HDMI) IN: HDMI, USB Valor evento 2 dias (Valor dia)"},3071206,"Tv Smart  55\" 140cms ( Incluye base para tv / cable de corriente / 1 cable HDMI) IN: HDMI, USB Valor evento 2 dias (Valor dia)",223839,223839]
[{"$f":"CONCATENATE(B165:B654,\" \",C165:C654)","v":"3071206 Tv Smart  55\" 140cms ( Incluye base para tv / cable de corriente / 1 cable HDMI) IN: HDMI, USB Valor de 3 a 6 dias (Valor dia)"},3071206,"Tv Smart  55\" 140cms ( Incluye base para tv / cable de corriente / 1 cable HDMI) IN: HDMI, USB Valor de 3 a 6 dias (Valor dia)",203966,203966]
[{"$f":"CONCATENATE(B166:B655,\" \",C166:C655)","v":"3071206 Tv Smart  55\" 140cms ( Incluye base para tv / cable de corriente / 1 cable HDMI) IN: HDMI, USB Valor de 7 a 18 días (Valor feria)"},3071206,"Tv Smart  55\" 140cms ( Incluye base para tv / cable de corriente / 1 cable HDMI) IN: HDMI, USB Valor de 7 a 18 días (Valor feria)",1455251,1455251]
[{"$f":"CONCATENATE(B167:B656,\" \",C167:C656)","v":"30713202 Tv Smart  65\" 165cms ( Incluye base para tv / cable de corriente /1 cable HDMI) IN: HDMI, USB Valor evento 1 día"},30713202,"Tv Smart  65\" 165cms ( Incluye base para tv / cable de corriente /1 cable HDMI) IN: HDMI, USB Valor evento 1 día",348194,348194]
[{"$f":"CONCATENATE(B168:B657,\" \",C168:C657)","v":"30713202 Tv Smart  65\" 165cms ( Incluye base para tv / cable de corriente /1 cable HDMI) IN: HDMI, USB Valor evento 2 dias (Valor dia)"},30713202,"Tv Smart  65\" 165cms ( Incluye base para tv / cable de corriente /1 cable HDMI) IN: HDMI, USB Valor evento 2 dias (Valor dia)",348194,348194]
[{"$f":"CONCATENATE(B169:B658,\" \",C169:C658)","v":"30713202 Tv Smart  65\" 165cms ( Incluye base para tv / cable de corriente /1 cable HDMI) IN: HDMI, USB Valor de 3 a 6 dias (Valor dia)"},30713202,"Tv Smart  65\" 165cms ( Incluye base para tv / cable de corriente /1 cable HDMI) IN: HDMI, USB Valor de 3 a 6 dias (Valor dia)",329035,329035]
[{"$f":"CONCATENATE(B170:B659,\" \",C170:C659)","v":"30713202 Tv Smart  65\" 165cms ( Incluye base para tv / cable de corriente /1 cable HDMI) IN: HDMI, USB Valor de 7 a 18 días (Valor feria)"},30713202,"Tv Smart  65\" 165cms ( Incluye base para tv / cable de corriente /1 cable HDMI) IN: HDMI, USB Valor de 7 a 18 días (Valor feria)",1666595,1666595]
[{"$f":"CONCATENATE(B171:B660,\" \",C171:C660)","v":"3071279 Tv Smart  70\" 177,8cms ( Incluye base para tv / cable de corriente /1 cable HDMI) IN: HDMI, USB Valor evento 1 día"},3071279,"Tv Smart  70\" 177,8cms ( Incluye base para tv / cable de corriente /1 cable HDMI) IN: HDMI, USB Valor evento 1 día",559657,559657]
[{"$f":"CONCATENATE(B172:B661,\" \",C172:C661)","v":"3071279 Tv Smart  70\" 177,8cms ( Incluye base para tv / cable de corriente /1 cable HDMI) IN: HDMI, USB Valor evento 2 dias (Valor dia)"},3071279,"Tv Smart  70\" 177,8cms ( Incluye base para tv / cable de corriente /1 cable HDMI) IN: HDMI, USB Valor evento 2 dias (Valor dia)",559657,559657]
[{"$f":"CONCATENATE(B173:B662,\" \",C173:C662)","v":"3071279 Tv Smart  70\" 177,8cms ( Incluye base para tv / cable de corriente /1 cable HDMI) IN: HDMI, USB Valor de 3 a 6 dias (Valor dia)"},3071279,"Tv Smart  70\" 177,8cms ( Incluye base para tv / cable de corriente /1 cable HDMI) IN: HDMI, USB Valor de 3 a 6 dias (Valor dia)",509320,509320]
[{"$f":"CONCATENATE(B174:B663,\" \",C174:C663)","v":"3071279 Tv Smart  70\" 177,8cms ( Incluye base para tv / cable de corriente /1 cable HDMI) IN: HDMI, USB Valor de 7 a 18 días (Valor feria)"},3071279,"Tv Smart  70\" 177,8cms ( Incluye base para tv / cable de corriente /1 cable HDMI) IN: HDMI, USB Valor de 7 a 18 días (Valor feria)",3637711,3637711]
[{"$f":"CONCATENATE(B175:B664,\" \",C175:C664)","v":"3071222 Tv Smart  82\" 204cms ( Incluye base para tv / cable de corriente /1 cable HDMI) IN: HDMI, USB Valor evento 1 día"},3071222,"Tv Smart  82\" 204cms ( Incluye base para tv / cable de corriente /1 cable HDMI) IN: HDMI, USB Valor evento 1 día",1039584,1039584]
[{"$f":"CONCATENATE(B176:B665,\" \",C176:C665)","v":"3071222 Tv Smart  82\" 204cms ( Incluye base para tv / cable de corriente /1 cable HDMI) IN: HDMI, USB Valor evento 2 dias (Valor dia)"},3071222,"Tv Smart  82\" 204cms ( Incluye base para tv / cable de corriente /1 cable HDMI) IN: HDMI, USB Valor evento 2 dias (Valor dia)",1039584,1039584]
[{"$f":"CONCATENATE(B177:B666,\" \",C177:C666)","v":"3071222 Tv Smart  82\" 204cms ( Incluye base para tv / cable de corriente /1 cable HDMI) IN: HDMI, USB Valor de 3 a 6 dias (Valor dia)"},3071222,"Tv Smart  82\" 204cms ( Incluye base para tv / cable de corriente /1 cable HDMI) IN: HDMI, USB Valor de 3 a 6 dias (Valor dia)",945931,945931]
[{"$f":"CONCATENATE(B178:B667,\" \",C178:C667)","v":"3071222 Tv Smart  82\" 204cms ( Incluye base para tv / cable de corriente /1 cable HDMI) IN: HDMI, USB Valor de 7 a 18 días (Valor feria)"},3071222,"Tv Smart  82\" 204cms ( Incluye base para tv / cable de corriente /1 cable HDMI) IN: HDMI, USB Valor de 7 a 18 días (Valor feria)",6755273,6755273]
[{"$f":"CONCATENATE(B179:B668,\" \",C179:C668)","v":"3071261 Monitor tactil 65\" 165cms ( Incluye base para monitor / cableado) IN: HDMI Valor evento 1 día"},3071261,"Monitor tactil 65\" 165cms ( Incluye base para monitor / cableado) IN: HDMI Valor evento 1 día",702100,702100]
[{"$f":"CONCATENATE(B180:B669,\" \",C180:C669)","v":"3071261 Monitor tactil 65\" 165cms ( Incluye base para monitor / cableado) IN: HDMI Valor evento 2 dias (Valor dia)"},3071261,"Monitor tactil 65\" 165cms ( Incluye base para monitor / cableado) IN: HDMI Valor evento 2 dias (Valor dia)",702100,702100]
[{"$f":"CONCATENATE(B181:B670,\" \",C181:C670)","v":"3071261 Monitor tactil 65\" 165cms ( Incluye base para monitor / cableado) IN: HDMI Valor de 3 a 6 dias (Valor dia)"},3071261,"Monitor tactil 65\" 165cms ( Incluye base para monitor / cableado) IN: HDMI Valor de 3 a 6 dias (Valor dia)",511462,511462]
[{"$f":"CONCATENATE(B182:B671,\" \",C182:C671)","v":"3071261 Monitor tactil 65\" 165cms ( Incluye base para monitor / cableado) IN: HDMI Valor de 7 a 18 días (Valor feria)"},3071261,"Monitor tactil 65\" 165cms ( Incluye base para monitor / cableado) IN: HDMI Valor de 7 a 18 días (Valor feria)",5105100,5105100]
[{"$f":"CONCATENATE(B183:B672,\" \",C183:C672)","v":"3071284 Tablet tactil 7\" RAM:1GB / Conectividad: 3G / Sistema Operativo Android 9.0 Valor evento 1 día"},3071284,"Tablet tactil 7\" RAM:1GB / Conectividad: 3G / Sistema Operativo Android 9.0 Valor evento 1 día",87108,87108]
[{"$f":"CONCATENATE(B184:B673,\" \",C184:C673)","v":"3071284 Tablet tactil 7\" RAM:1GB / Conectividad: 3G / Sistema Operativo Android 9.0 Valor evento 2 dias (Valor dia)"},3071284,"Tablet tactil 7\" RAM:1GB / Conectividad: 3G / Sistema Operativo Android 9.0 Valor evento 2 dias (Valor dia)",87108,87108]
[{"$f":"CONCATENATE(B185:B674,\" \",C185:C674)","v":"3071284 Tablet tactil 7\" RAM:1GB / Conectividad: 3G / Sistema Operativo Android 9.0 Valor de 3 a 6 dias (Valor dia)"},3071284,"Tablet tactil 7\" RAM:1GB / Conectividad: 3G / Sistema Operativo Android 9.0 Valor de 3 a 6 dias (Valor dia)",79373,79373]
[{"$f":"CONCATENATE(B186:B675,\" \",C186:C675)","v":"3071284 Tablet tactil 7\" RAM:1GB / Conectividad: 3G / Sistema Operativo Android 9.0 Valor de 7 a 18 días (Valor feria)"},3071284,"Tablet tactil 7\" RAM:1GB / Conectividad: 3G / Sistema Operativo Android 9.0 Valor de 7 a 18 días (Valor feria)",565845,565845]
[{"$f":"CONCATENATE(B187:B676,\" \",C187:C676)","v":"3071260 Pantalla Led Full Hd Indoor / Medida 3,20mts x 2,96mts / Pitch 3,9 / No incluye estructura para montaje Valor evento 1 día"},3071260,"Pantalla Led Full Hd Indoor / Medida 3,20mts x 2,96mts / Pitch 3,9 / No incluye estructura para montaje Valor evento 1 día",1545453,1545453]
[{"$f":"CONCATENATE(B188:B677,\" \",C188:C677)","v":"3071260 Pantalla Led Full Hd Indoor / Medida 3,20mts x 2,96mts / Pitch 3,9 / No incluye estructura para montaje Valor evento 2 dias (Valor dia)"},3071260,"Pantalla Led Full Hd Indoor / Medida 3,20mts x 2,96mts / Pitch 3,9 / No incluye estructura para montaje Valor evento 2 dias (Valor dia)",1545453,1545453]
[{"$f":"CONCATENATE(B189:B678,\" \",C189:C678)","v":"3071260 Pantalla Led Full Hd Indoor / Medida 3,20mts x 2,96mts / Pitch 3,9 / No incluye estructura para montaje Valor de 3 a 6 dias (Valor dia)"},3071260,"Pantalla Led Full Hd Indoor / Medida 3,20mts x 2,96mts / Pitch 3,9 / No incluye estructura para montaje Valor de 3 a 6 dias (Valor dia)",1390872,1390872]
[{"$f":"CONCATENATE(B190:B679,\" \",C190:C679)","v":"3071260 Pantalla Led Full Hd Indoor / Medida 3,20mts x 2,96mts / Pitch 3,9 / No incluye estructura para montaje Valor de 7 a 18 días (Valor feria)"},3071260,"Pantalla Led Full Hd Indoor / Medida 3,20mts x 2,96mts / Pitch 3,9 / No incluye estructura para montaje Valor de 7 a 18 días (Valor feria)",13078100,13078100]
[{"$f":"CONCATENATE(B191:B680,\" \",C191:C680)","v":"3071260 Pantalla Led Full Hd Indoor / Medida 4,48mts x 3,20mts / Pitch 3,9 / No incluye estructura para montaje Valor evento 1 día"},3071260,"Pantalla Led Full Hd Indoor / Medida 4,48mts x 3,20mts / Pitch 3,9 / No incluye estructura para montaje Valor evento 1 día",1790831,1790831]
[{"$f":"CONCATENATE(B192:B681,\" \",C192:C681)","v":"3071260 Pantalla Led Full Hd Indoor / Medida 4,48mts x 3,20mts / Pitch 3,9 / No incluye estructura para montaje Valor evento 2 dias (Valor dia)"},3071260,"Pantalla Led Full Hd Indoor / Medida 4,48mts x 3,20mts / Pitch 3,9 / No incluye estructura para montaje Valor evento 2 dias (Valor dia)",1790831,1790831]
[{"$f":"CONCATENATE(B193:B682,\" \",C193:C682)","v":"3071260 Pantalla Led Full Hd Indoor / Medida 4,48mts x 3,20mts / Pitch 3,9 / No incluye estructura para montaje Valor de 3 a 6 dias (Valor dia)"},3071260,"Pantalla Led Full Hd Indoor / Medida 4,48mts x 3,20mts / Pitch 3,9 / No incluye estructura para montaje Valor de 3 a 6 dias (Valor dia)",1611736,1611736]
[{"$f":"CONCATENATE(B194:B683,\" \",C194:C683)","v":"3071260 Pantalla Led Full Hd Indoor / Medida 4,48mts x 3,20mts / Pitch 3,9 / No incluye estructura para montaje Valor de 7 a 18 días (Valor feria)"},3071260,"Pantalla Led Full Hd Indoor / Medida 4,48mts x 3,20mts / Pitch 3,9 / No incluye estructura para montaje Valor de 7 a 18 días (Valor feria)",18857811,18857811]
[{"$f":"CONCATENATE(B195:B684,\" \",C195:C684)","v":"3071260 Pantalla Led Full Hd Indoor / Medida 6,4mts x 3,20mts /mts2: 20,48 / Pitch 3,9 / No incluye estructura para montaje Valor evento 1 día"},3071260,"Pantalla Led Full Hd Indoor / Medida 6,4mts x 3,20mts /mts2: 20,48 / Pitch 3,9 / No incluye estructura para montaje Valor evento 1 día",2126530,2126530]
[{"$f":"CONCATENATE(B196:B685,\" \",C196:C685)","v":"3071260 Pantalla Led Full Hd Indoor / Medida 6,4mts x 3,20mts /mts2: 20,48 / Pitch 3,9 / No incluye estructura para montaje Valor evento 2 dias (Valor dia)"},3071260,"Pantalla Led Full Hd Indoor / Medida 6,4mts x 3,20mts /mts2: 20,48 / Pitch 3,9 / No incluye estructura para montaje Valor evento 2 dias (Valor dia)",2126530,2126530]
[{"$f":"CONCATENATE(B197:B686,\" \",C197:C686)","v":"3071260 Pantalla Led Full Hd Indoor / Medida 6,4mts x 3,20mts /mts2: 20,48 / Pitch 3,9 / No incluye estructura para montaje Valor de 3 a 6 dias (Valor dia)"},3071260,"Pantalla Led Full Hd Indoor / Medida 6,4mts x 3,20mts /mts2: 20,48 / Pitch 3,9 / No incluye estructura para montaje Valor de 3 a 6 dias (Valor dia)",1926015,1926015]
[{"$f":"CONCATENATE(B198:B687,\" \",C198:C687)","v":"3071260 Pantalla Led Full Hd Indoor / Medida 6,4mts x 3,20mts /mts2: 20,48 / Pitch 3,9 / No incluye estructura para montaje Valor de 7 a 18 días (Valor feria)"},3071260,"Pantalla Led Full Hd Indoor / Medida 6,4mts x 3,20mts /mts2: 20,48 / Pitch 3,9 / No incluye estructura para montaje Valor de 7 a 18 días (Valor feria)",{"$f":"IF(G$3=TRUE,E198/I$3,E198)","v":13756043},13756043]
[{"$f":"CONCATENATE(B199:B684,\" \",C199:C684)","v":"3071264 Pantalla Led Full Hd Indoor / Medida 6,4mts x 4,48mts /mts2: 28,67 / Pitch 3,9 / No incluye estructura para montaje Valor evento 1 día"},3071264,"Pantalla Led Full Hd Indoor / Medida 6,4mts x 4,48mts /mts2: 28,67 / Pitch 3,9 / No incluye estructura para montaje Valor evento 1 día",2835294,2835294]
[{"$f":"CONCATENATE(B200:B685,\" \",C200:C685)","v":"3071264 Pantalla Led Full Hd Indoor / Medida 6,4mts x 4,48mts /mts2: 28,67 / Pitch 3,9 / No incluye estructura para montaje Valor evento 2 dias (Valor dia)"},3071264,"Pantalla Led Full Hd Indoor / Medida 6,4mts x 4,48mts /mts2: 28,67 / Pitch 3,9 / No incluye estructura para montaje Valor evento 2 dias (Valor dia)",2835294,2835294]
[{"$f":"CONCATENATE(B201:B686,\" \",C201:C686)","v":"3071264 Pantalla Led Full Hd Indoor / Medida 6,4mts x 4,48mts /mts2: 28,67 / Pitch 3,9 / No incluye estructura para montaje Valor de 3 a 6 dias (Valor dia)"},3071264,"Pantalla Led Full Hd Indoor / Medida 6,4mts x 4,48mts /mts2: 28,67 / Pitch 3,9 / No incluye estructura para montaje Valor de 3 a 6 dias (Valor dia)",2567782,2567782]
[{"$f":"CONCATENATE(B202:B687,\" \",C202:C687)","v":"3071264 Pantalla Led Full Hd Indoor / Medida 6,4mts x 4,48mts /mts2: 28,67 / Pitch 3,9 / No incluye estructura para montaje Valor de 7 a 18 días (Valor feria)"},3071264,"Pantalla Led Full Hd Indoor / Medida 6,4mts x 4,48mts /mts2: 28,67 / Pitch 3,9 / No incluye estructura para montaje Valor de 7 a 18 días (Valor feria)",18341351,18341351]
[{"$f":"CONCATENATE(B203:B688,\" \",C203:C688)","v":"3071265 Pantalla Led Full Hd Indoor / Medida 7,4mts x 5,12mts /mts2: 36,04 / Pitch 3,9 / No incluye estructura para montaje Valor evento 1 día"},3071265,"Pantalla Led Full Hd Indoor / Medida 7,4mts x 5,12mts /mts2: 36,04 / Pitch 3,9 / No incluye estructura para montaje Valor evento 1 día",4134774,4134774]
[{"$f":"CONCATENATE(B204:B689,\" \",C204:C689)","v":"3071265 Pantalla Led Full Hd Indoor / Medida 7,4mts x 5,12mts /mts2: 36,04 / Pitch 3,9 / No incluye estructura para montaje Valor evento 2 dias (Valor dia)"},3071265,"Pantalla Led Full Hd Indoor / Medida 7,4mts x 5,12mts /mts2: 36,04 / Pitch 3,9 / No incluye estructura para montaje Valor evento 2 dias (Valor dia)",4134774,4134774]
[{"$f":"CONCATENATE(B205:B690,\" \",C205:C690)","v":"3071265 Pantalla Led Full Hd Indoor / Medida 7,4mts x 5,12mts /mts2: 36,04 / Pitch 3,9 / No incluye estructura para montaje Valor de 3 a 6 dias (Valor dia)"},3071265,"Pantalla Led Full Hd Indoor / Medida 7,4mts x 5,12mts /mts2: 36,04 / Pitch 3,9 / No incluye estructura para montaje Valor de 3 a 6 dias (Valor dia)",3744692,3744692]
[{"$f":"CONCATENATE(B206:B691,\" \",C206:C691)","v":"3071265 Pantalla Led Full Hd Indoor / Medida 7,4mts x 5,12mts /mts2: 36,04 / Pitch 3,9 / No incluye estructura para montaje Valor de 7 a 18 días (Valor feria)"},3071265,"Pantalla Led Full Hd Indoor / Medida 7,4mts x 5,12mts /mts2: 36,04 / Pitch 3,9 / No incluye estructura para montaje Valor de 7 a 18 días (Valor feria)",26747749,26747749]
[{"$f":"CONCATENATE(B207:B692,\" \",C207:C692)","v":"3071266 Pantalla Led Full Hd Indoor / Medida 8,32mts x 6,40mts /mts2: 53,25 / Pitch 3,9 / No incluye estructura para montaje Valor evento 1 día"},3071266,"Pantalla Led Full Hd Indoor / Medida 8,32mts x 6,40mts /mts2: 53,25 / Pitch 3,9 / No incluye estructura para montaje Valor evento 1 día",5670588,5670588]
[{"$f":"CONCATENATE(B208:B693,\" \",C208:C693)","v":"3071266 Pantalla Led Full Hd Indoor / Medida 8,32mts x 6,40mts /mts2: 53,25 / Pitch 3,9 / No incluye estructura para montaje Valor evento 2 dias (Valor dia)"},3071266,"Pantalla Led Full Hd Indoor / Medida 8,32mts x 6,40mts /mts2: 53,25 / Pitch 3,9 / No incluye estructura para montaje Valor evento 2 dias (Valor dia)",5670588,5670588]
[{"$f":"CONCATENATE(B209:B694,\" \",C209:C694)","v":"3071266 Pantalla Led Full Hd Indoor / Medida 8,32mts x 6,40mts /mts2: 53,25 / Pitch 3,9 / No incluye estructura para montaje Valor de 3 a 6 dias (Valor dia)"},3071266,"Pantalla Led Full Hd Indoor / Medida 8,32mts x 6,40mts /mts2: 53,25 / Pitch 3,9 / No incluye estructura para montaje Valor de 3 a 6 dias (Valor dia)",5135802,5135802]
[{"$f":"CONCATENATE(B210:B695,\" \",C210:C695)","v":"3071266 Pantalla Led Full Hd Indoor / Medida 8,32mts x 6,40mts /mts2: 53,25 / Pitch 3,9 / No incluye estructura para montaje Valor de 7 a 18 días (Valor feria)"},3071266,"Pantalla Led Full Hd Indoor / Medida 8,32mts x 6,40mts /mts2: 53,25 / Pitch 3,9 / No incluye estructura para montaje Valor de 7 a 18 días (Valor feria)",36682702,36682702]
[{"$f":"CONCATENATE(B211:B696,\" \",C211:C696)","v":"3071267 Pantalla Led Full Hd Outdoor / Medida 6,4mts x 4,48mts  /mts2: 28,67 / Pitch 4,8 / No incluye estructura para montaje Valor evento 1 día"},3071267,"Pantalla Led Full Hd Outdoor / Medida 6,4mts x 4,48mts  /mts2: 28,67 / Pitch 4,8 / No incluye estructura para montaje Valor evento 1 día",2835294,2835294]
[{"$f":"CONCATENATE(B212:B697,\" \",C212:C697)","v":"3071267 Pantalla Led Full Hd Outdoor / Medida 6,4mts x 4,48mts  /mts2: 28,67 / Pitch 4,8 / No incluye estructura para montaje Valor evento 2 dias (Valor dia)"},3071267,"Pantalla Led Full Hd Outdoor / Medida 6,4mts x 4,48mts  /mts2: 28,67 / Pitch 4,8 / No incluye estructura para montaje Valor evento 2 dias (Valor dia)",2835294,2835294]
[{"$f":"CONCATENATE(B213:B698,\" \",C213:C698)","v":"3071267 Pantalla Led Full Hd Outdoor / Medida 6,4mts x 4,48mts  /mts2: 28,67 / Pitch 4,8 / No incluye estructura para montaje Valor de 3 a 6 dias (Valor dia)"},3071267,"Pantalla Led Full Hd Outdoor / Medida 6,4mts x 4,48mts  /mts2: 28,67 / Pitch 4,8 / No incluye estructura para montaje Valor de 3 a 6 dias (Valor dia)",2566235,2566235]
[{"$f":"CONCATENATE(B214:B699,\" \",C214:C699)","v":"3071267 Pantalla Led Full Hd Outdoor / Medida 6,4mts x 4,48mts  /mts2: 28,67 / Pitch 4,8 / No incluye estructura para montaje Valor de 7 a 18 días (Valor feria)"},3071267,"Pantalla Led Full Hd Outdoor / Medida 6,4mts x 4,48mts  /mts2: 28,67 / Pitch 4,8 / No incluye estructura para montaje Valor de 7 a 18 días (Valor feria)",18328856,18328856]
[{"$f":"CONCATENATE(B215:B700,\" \",C215:C700)","v":"3071268 Pantalla Led Full Hd Outdoor / Medida 7,4mts x 5,12mts /mts2: 36,04/ Pitch 4,8 / No incluye estructura para montaje Valor evento 1 día"},3071268,"Pantalla Led Full Hd Outdoor / Medida 7,4mts x 5,12mts /mts2: 36,04/ Pitch 4,8 / No incluye estructura para montaje Valor evento 1 día",4134774,4134774]
[{"$f":"CONCATENATE(B216:B701,\" \",C216:C701)","v":"3071268 Pantalla Led Full Hd Outdoor / Medida 7,4mts x 5,12mts /mts2: 36,04/ Pitch 4,8 / No incluye estructura para montaje Valor evento 2 dias (Valor dia)"},3071268,"Pantalla Led Full Hd Outdoor / Medida 7,4mts x 5,12mts /mts2: 36,04/ Pitch 4,8 / No incluye estructura para montaje Valor evento 2 dias (Valor dia)",4134774,4134774]
[{"$f":"CONCATENATE(B217:B702,\" \",C217:C702)","v":"3071268 Pantalla Led Full Hd Outdoor / Medida 7,4mts x 5,12mts /mts2: 36,04/ Pitch 4,8 / No incluye estructura para montaje Valor de 3 a 6 dias (Valor dia)"},3071268,"Pantalla Led Full Hd Outdoor / Medida 7,4mts x 5,12mts /mts2: 36,04/ Pitch 4,8 / No incluye estructura para montaje Valor de 3 a 6 dias (Valor dia)",3742193,3742193]
[{"$f":"CONCATENATE(B218:B703,\" \",C218:C703)","v":"3071268 Pantalla Led Full Hd Outdoor / Medida 7,4mts x 5,12mts /mts2: 36,04/ Pitch 4,8 / No incluye estructura para montaje Valor de 7 a 18 días (Valor feria)"},3071268,"Pantalla Led Full Hd Outdoor / Medida 7,4mts x 5,12mts /mts2: 36,04/ Pitch 4,8 / No incluye estructura para montaje Valor de 7 a 18 días (Valor feria)",26729423,26729423]
[{"$f":"CONCATENATE(B219:B704,\" \",C219:C704)","v":"3071269 Pantalla Led Full Hd Outdoor / Medida 8,32mts x 6,40mts /mts2: 53,25/ Pitch 4,8 / No incluye estructura para montaje Valor evento 1 día"},3071269,"Pantalla Led Full Hd Outdoor / Medida 8,32mts x 6,40mts /mts2: 53,25/ Pitch 4,8 / No incluye estructura para montaje Valor evento 1 día",5670588,5670588]
[{"$f":"CONCATENATE(B220:B705,\" \",C220:C705)","v":"3071269 Pantalla Led Full Hd Outdoor / Medida 8,32mts x 6,40mts /mts2: 53,25/ Pitch 4,8 / No incluye estructura para montaje Valor evento 2 dias (Valor dia)"},3071269,"Pantalla Led Full Hd Outdoor / Medida 8,32mts x 6,40mts /mts2: 53,25/ Pitch 4,8 / No incluye estructura para montaje Valor evento 2 dias (Valor dia)",5670588,5670588]
[{"$f":"CONCATENATE(B221:B706,\" \",C221:C706)","v":"3071269 Pantalla Led Full Hd Outdoor / Medida 8,32mts x 6,40mts /mts2: 53,25/ Pitch 4,8 / No incluye estructura para montaje Valor de 3 a 6 dias (Valor dia)"},3071269,"Pantalla Led Full Hd Outdoor / Medida 8,32mts x 6,40mts /mts2: 53,25/ Pitch 4,8 / No incluye estructura para montaje Valor de 3 a 6 dias (Valor dia)",5132232,5132232]
[{"$f":"CONCATENATE(B222:B707,\" \",C222:C707)","v":"3071269 Pantalla Led Full Hd Outdoor / Medida 8,32mts x 6,40mts /mts2: 53,25/ Pitch 4,8 / No incluye estructura para montaje Valor de 7 a 18 días (Valor feria)"},3071269,"Pantalla Led Full Hd Outdoor / Medida 8,32mts x 6,40mts /mts2: 53,25/ Pitch 4,8 / No incluye estructura para montaje Valor de 7 a 18 días (Valor feria)",36657355,36657355]
[{"$f":"CONCATENATE(B223:B708,\" \",C223:C708)","v":"3071234 Video Proyector de 4.500 Lumens HD - El lugar de Proyeccion debe estar lo mas oscuro posible Valor evento 1 día"},3071234,"Video Proyector de 4.500 Lumens HD - El lugar de Proyeccion debe estar lo mas oscuro posible Valor evento 1 día",435302,435302]
[{"$f":"CONCATENATE(B224:B709,\" \",C224:C709)","v":"3071234 Video Proyector de 4.500 Lumens HD - El lugar de Proyeccion debe estar lo mas oscuro posible Valor evento 2 dias (Valor dia)"},3071234,"Video Proyector de 4.500 Lumens HD - El lugar de Proyeccion debe estar lo mas oscuro posible Valor evento 2 dias (Valor dia)",435302,435302]
[{"$f":"CONCATENATE(B225:B710,\" \",C225:C710)","v":"3071234 Video Proyector de 4.500 Lumens HD - El lugar de Proyeccion debe estar lo mas oscuro posible Valor de 3 a 6 dias (Valor dia)"},3071234,"Video Proyector de 4.500 Lumens HD - El lugar de Proyeccion debe estar lo mas oscuro posible Valor de 3 a 6 dias (Valor dia)",422331,422331]
[{"$f":"CONCATENATE(B226:B711,\" \",C226:C711)","v":"3071234 Video Proyector de 4.500 Lumens HD - El lugar de Proyeccion debe estar lo mas oscuro posible Valor de 7 a 18 días (Valor feria)"},3071234,"Video Proyector de 4.500 Lumens HD - El lugar de Proyeccion debe estar lo mas oscuro posible Valor de 7 a 18 días (Valor feria)",2622046,2622046]
[{"$f":"CONCATENATE(B227:B712,\" \",C227:C712)","v":"3071244 Video Proyector de 6.000 Lumens HD - El lugar de Proyeccion debe estar lo mas oscuro posible Valor evento 1 día"},3071244,"Video Proyector de 6.000 Lumens HD - El lugar de Proyeccion debe estar lo mas oscuro posible Valor evento 1 día",583100,583100]
[{"$f":"CONCATENATE(B228:B713,\" \",C228:C713)","v":"3071244 Video Proyector de 6.000 Lumens HD - El lugar de Proyeccion debe estar lo mas oscuro posible Valor evento 2 dias (Valor dia)"},3071244,"Video Proyector de 6.000 Lumens HD - El lugar de Proyeccion debe estar lo mas oscuro posible Valor evento 2 dias (Valor dia)",583100,583100]
[{"$f":"CONCATENATE(B229:B714,\" \",C229:C714)","v":"3071244 Video Proyector de 6.000 Lumens HD - El lugar de Proyeccion debe estar lo mas oscuro posible Valor de 3 a 6 dias (Valor dia)"},3071244,"Video Proyector de 6.000 Lumens HD - El lugar de Proyeccion debe estar lo mas oscuro posible Valor de 3 a 6 dias (Valor dia)",499800,499800]
[{"$f":"CONCATENATE(B230:B715,\" \",C230:C715)","v":"3071244 Video Proyector de 6.000 Lumens HD - El lugar de Proyeccion debe estar lo mas oscuro posible Valor de 7 a 18 días (Valor feria)"},3071244,"Video Proyector de 6.000 Lumens HD - El lugar de Proyeccion debe estar lo mas oscuro posible Valor de 7 a 18 días (Valor feria)",4033505,4033505]
[{"$f":"CONCATENATE(B231:B716,\" \",C231:C716)","v":"3071271 Video Proyector de 10.000 Lumens HD - El lugar de Proyeccion debe estar lo mas oscuro posible Valor evento 1 día"},3071271,"Video Proyector de 10.000 Lumens HD - El lugar de Proyeccion debe estar lo mas oscuro posible Valor evento 1 día",1740970,1740970]
[{"$f":"CONCATENATE(B232:B717,\" \",C232:C717)","v":"3071271 Video Proyector de 10.000 Lumens HD - El lugar de Proyeccion debe estar lo mas oscuro posible Valor evento 2 dias (Valor dia)"},3071271,"Video Proyector de 10.000 Lumens HD - El lugar de Proyeccion debe estar lo mas oscuro posible Valor evento 2 dias (Valor dia)",1803207,1803207]
[{"$f":"CONCATENATE(B233:B718,\" \",C233:C718)","v":"3071271 Video Proyector de 10.000 Lumens HD - El lugar de Proyeccion debe estar lo mas oscuro posible Valor de 3 a 6 dias (Valor dia)"},3071271,"Video Proyector de 10.000 Lumens HD - El lugar de Proyeccion debe estar lo mas oscuro posible Valor de 3 a 6 dias (Valor dia)",1651125,1651125]
[{"$f":"CONCATENATE(B234:B719,\" \",C234:C719)","v":"3071271 Video Proyector de 10.000 Lumens HD - El lugar de Proyeccion debe estar lo mas oscuro posible Valor de 7 a 18 días (Valor feria)"},3071271,"Video Proyector de 10.000 Lumens HD - El lugar de Proyeccion debe estar lo mas oscuro posible Valor de 7 a 18 días (Valor feria)",11410077,11410077]
[{"$f":"CONCATENATE(B235:B720,\" \",C235:C720)","v":"3071232 Telon proyección estructura profesional tela frontal y retro 1,80x1,20 cms Valor evento 1 día"},3071232,"Telon proyección estructura profesional tela frontal y retro 1,80x1,20 cms Valor evento 1 día",43554,43554]
[{"$f":"CONCATENATE(B236:B721,\" \",C236:C721)","v":"3071232 Telon proyección estructura profesional tela frontal y retro 1,80x1,20 cms Valor evento 2 dias (Valor dia)"},3071232,"Telon proyección estructura profesional tela frontal y retro 1,80x1,20 cms Valor evento 2 dias (Valor dia)",43554,43554]
[{"$f":"CONCATENATE(B237:B722,\" \",C237:C722)","v":"3071232 Telon proyección estructura profesional tela frontal y retro 1,80x1,20 cms Valor de 3 a 6 dias (Valor dia)"},3071232,"Telon proyección estructura profesional tela frontal y retro 1,80x1,20 cms Valor de 3 a 6 dias (Valor dia)",39865,39865]
[{"$f":"CONCATENATE(B238:B723,\" \",C238:C723)","v":"3071232 Telon proyección estructura profesional tela frontal y retro 1,80x1,20 cms Valor de 7 a 18 días (Valor feria)"},3071232,"Telon proyección estructura profesional tela frontal y retro 1,80x1,20 cms Valor de 7 a 18 días (Valor feria)",283577,283577]
[{"$f":"CONCATENATE(B239:B724,\" \",C239:C724)","v":"3071231 Telon proyección estructura profesional tela frontal y retro 3,05x2,29 cms Valor evento 1 día"},3071231,"Telon proyección estructura profesional tela frontal y retro 3,05x2,29 cms Valor evento 1 día",221459,221459]
[{"$f":"CONCATENATE(B240:B725,\" \",C240:C725)","v":"3071231 Telon proyección estructura profesional tela frontal y retro 3,05x2,29 cms Valor evento 2 dias (Valor dia)"},3071231,"Telon proyección estructura profesional tela frontal y retro 3,05x2,29 cms Valor evento 2 dias (Valor dia)",221459,221459]
[{"$f":"CONCATENATE(B241:B726,\" \",C241:C726)","v":"3071231 Telon proyección estructura profesional tela frontal y retro 3,05x2,29 cms Valor de 3 a 6 dias (Valor dia)"},3071231,"Telon proyección estructura profesional tela frontal y retro 3,05x2,29 cms Valor de 3 a 6 dias (Valor dia)",202181,202181]
[{"$f":"CONCATENATE(B242:B727,\" \",C242:C727)","v":"3071231 Telon proyección estructura profesional tela frontal y retro 3,05x2,29 cms Valor de 7 a 18 días (Valor feria)"},3071231,"Telon proyección estructura profesional tela frontal y retro 3,05x2,29 cms Valor de 7 a 18 días (Valor feria)",1443232,1443232]
[{"$f":"CONCATENATE(B243:B728,\" \",C243:C728)","v":"3071219 Telon proyección estructura profesional tela frontal y retro 3,66x2,74 cms Valor evento 1 día"},3071219,"Telon proyección estructura profesional tela frontal y retro 3,66x2,74 cms Valor evento 1 día",186473,186473]
[{"$f":"CONCATENATE(B244:B729,\" \",C244:C729)","v":"3071219 Telon proyección estructura profesional tela frontal y retro 3,66x2,74 cms Valor evento 2 dias (Valor dia)"},3071219,"Telon proyección estructura profesional tela frontal y retro 3,66x2,74 cms Valor evento 2 dias (Valor dia)",186473,186473]
[{"$f":"CONCATENATE(B245:B730,\" \",C245:C730)","v":"3071219 Telon proyección estructura profesional tela frontal y retro 3,66x2,74 cms Valor de 3 a 6 dias (Valor dia)"},3071219,"Telon proyección estructura profesional tela frontal y retro 3,66x2,74 cms Valor de 3 a 6 dias (Valor dia)",167790,167790]
[{"$f":"CONCATENATE(B246:B731,\" \",C246:C731)","v":"3071219 Telon proyección estructura profesional tela frontal y retro 3,66x2,74 cms Valor de 7 a 18 días (Valor feria)"},3071219,"Telon proyección estructura profesional tela frontal y retro 3,66x2,74 cms Valor de 7 a 18 días (Valor feria)",1342201,1342201]
[{"$f":"CONCATENATE(B247:B732,\" \",C247:C732)","v":"3071217 Telon proyección estructura profesional tela frontal y retro 4,27x3,20 cms Valor evento 1 día"},3071217,"Telon proyección estructura profesional tela frontal y retro 4,27x3,20 cms Valor evento 1 día",391748,391748]
[{"$f":"CONCATENATE(B248:B733,\" \",C248:C733)","v":"3071217 Telon proyección estructura profesional tela frontal y retro 4,27x3,20 cms Valor evento 2 dias (Valor dia)"},3071217,"Telon proyección estructura profesional tela frontal y retro 4,27x3,20 cms Valor evento 2 dias (Valor dia)",391748,391748]
[{"$f":"CONCATENATE(B249:B734,\" \",C249:C734)","v":"3071217 Telon proyección estructura profesional tela frontal y retro 4,27x3,20 cms Valor de 3 a 6 dias (Valor dia)"},3071217,"Telon proyección estructura profesional tela frontal y retro 4,27x3,20 cms Valor de 3 a 6 dias (Valor dia)",355572,355572]
[{"$f":"CONCATENATE(B250:B735,\" \",C250:C735)","v":"3071217 Telon proyección estructura profesional tela frontal y retro 4,27x3,20 cms Valor de 7 a 18 días (Valor feria)"},3071217,"Telon proyección estructura profesional tela frontal y retro 4,27x3,20 cms Valor de 7 a 18 días (Valor feria)",2539103,2539103]
[{"$f":"CONCATENATE(B251:B736,\" \",C251:C736)","v":"3071273 Telon proyección estructura profesional tela frontal y retro 4,87x2,74 cms Valor evento 1 día"},3071273,"Telon proyección estructura profesional tela frontal y retro 4,87x2,74 cms Valor evento 1 día",559657,559657]
[{"$f":"CONCATENATE(B252:B737,\" \",C252:C737)","v":"3071273 Telon proyección estructura profesional tela frontal y retro 4,87x2,74 cms Valor evento 2 dias (Valor dia)"},3071273,"Telon proyección estructura profesional tela frontal y retro 4,87x2,74 cms Valor evento 2 dias (Valor dia)",559657,559657]
[{"$f":"CONCATENATE(B253:B738,\" \",C253:C738)","v":"3071273 Telon proyección estructura profesional tela frontal y retro 4,87x2,74 cms Valor de 3 a 6 dias (Valor dia)"},3071273,"Telon proyección estructura profesional tela frontal y retro 4,87x2,74 cms Valor de 3 a 6 dias (Valor dia)",556206,556206]
[{"$f":"CONCATENATE(B254:B739,\" \",C254:C739)","v":"3071273 Telon proyección estructura profesional tela frontal y retro 4,87x2,74 cms Valor de 7 a 18 días (Valor feria)"},3071273,"Telon proyección estructura profesional tela frontal y retro 4,87x2,74 cms Valor de 7 a 18 días (Valor feria)",4449886,4449886]
[{"$f":"CONCATENATE(B255:B740,\" \",C255:C740)","v":"3071288 Scalador de presentaciones / HDMI / SDI Valor evento 1 día"},3071288,"Scalador de presentaciones / HDMI / SDI Valor evento 1 día",273700,273700]
[{"$f":"CONCATENATE(B256:B741,\" \",C256:C741)","v":"3071288 Scalador de presentaciones / HDMI / SDI Valor evento 2 dias (Valor dia)"},3071288,"Scalador de presentaciones / HDMI / SDI Valor evento 2 dias (Valor dia)",273700,273700]
[{"$f":"CONCATENATE(B257:B742,\" \",C257:C742)","v":"3071288 Scalador de presentaciones / HDMI / SDI Valor de 3 a 6 dias (Valor dia)"},3071288,"Scalador de presentaciones / HDMI / SDI Valor de 3 a 6 dias (Valor dia)",256802,256802]
[{"$f":"CONCATENATE(B258:B743,\" \",C258:C743)","v":"3071288 Scalador de presentaciones / HDMI / SDI Valor de 7 a 18 días (Valor feria)"},3071288,"Scalador de presentaciones / HDMI / SDI Valor de 7 a 18 días (Valor feria)",2054654,2054654]
[{"$f":"CONCATENATE(B259:B744,\" \",C259:C744)","v":"3071289 Switcher HDMI de 6 entradas Valor evento 1 día"},3071289,"Switcher HDMI de 6 entradas Valor evento 1 día",310114,310114]
[{"$f":"CONCATENATE(B260:B745,\" \",C260:C745)","v":"3071289 Switcher HDMI de 6 entradas Valor evento 2 dias (Valor dia)"},3071289,"Switcher HDMI de 6 entradas Valor evento 2 dias (Valor dia)",310114,310114]
[{"$f":"CONCATENATE(B261:B746,\" \",C261:C746)","v":"3071289 Switcher HDMI de 6 entradas Valor de 3 a 6 dias (Valor dia)"},3071289,"Switcher HDMI de 6 entradas Valor de 3 a 6 dias (Valor dia)",282387,282387]
[{"$f":"CONCATENATE(B262:B747,\" \",C262:C747)","v":"3071289 Switcher HDMI de 6 entradas Valor de 7 a 18 días (Valor feria)"},3071289,"Switcher HDMI de 6 entradas Valor de 7 a 18 días (Valor feria)",{"$f":"IF(G$3=TRUE,E262/I$3,E262)","v":1575560},1575560]
[{"$f":"CONCATENATE(B263:B748,\" \",C263:C748)","v":"3071290 Distribuidor de señales HDMI / SDI  Valor evento 1 día"},3071290,"Distribuidor de señales HDMI / SDI  Valor evento 1 día",126854,126854]
[{"$f":"CONCATENATE(B264:B749,\" \",C264:C749)","v":"3071290 Distribuidor de señales HDMI / SDI Valor evento 2 dias (Valor dia)"},3071290,"Distribuidor de señales HDMI / SDI Valor evento 2 dias (Valor dia)",126854,126854]
[{"$f":"CONCATENATE(B265:B750,\" \",C265:C750)","v":"3071290 Distribuidor de señales HDMI / SDI Valor de 3 a 6 dias (Valor dia)"},3071290,"Distribuidor de señales HDMI / SDI Valor de 3 a 6 dias (Valor dia)",115073,115073]
[{"$f":"CONCATENATE(B266:B751,\" \",C266:C751)","v":"3071290 Distribuidor de señales HDMI / SDI Valor de 7 a 18 días (Valor feria)"},3071290,"Distribuidor de señales HDMI / SDI Valor de 7 a 18 días (Valor feria)",820981,820981]
[{"$f":"CONCATENATE(B267:B752,\" \",C267:C752)","v":"3071387 Punto Fijo de Video HD (Incluye: 1 Switcher de video / 1 computador portatil / 1 Monitor / 1 multi viewer/ 1 Tecnico de Video 8 horas) Valor evento 1 día"},3071387,"Punto Fijo de Video HD (Incluye: 1 Switcher de video / 1 computador portatil / 1 Monitor / 1 multi viewer/ 1 Tecnico de Video 8 horas) Valor evento 1 día",746130,746130]
[{"$f":"CONCATENATE(B268:B753,\" \",C268:C753)","v":"3071387 Punto Fijo de Video HD (Incluye: 1 Switcher de video / 1 computador portatil / 1 Monitor / 1 multi viewer/ 1 Tecnico de Video 8 horas) Valor evento 2 dias (Valor dia)"},3071387,"Punto Fijo de Video HD (Incluye: 1 Switcher de video / 1 computador portatil / 1 Monitor / 1 multi viewer/ 1 Tecnico de Video 8 horas) Valor evento 2 dias (Valor dia)",746130,746130]
[{"$f":"CONCATENATE(B269:B754,\" \",C269:C754)","v":"3071387 Punto Fijo de Video HD (Incluye: 1 Switcher de video / 1 computador portatil / 1 Monitor / 1 multi viewer/ 1 Tecnico de Video 8 horas) Valor de 3 a 6 dias (Valor dia)"},3071387,"Punto Fijo de Video HD (Incluye: 1 Switcher de video / 1 computador portatil / 1 Monitor / 1 multi viewer/ 1 Tecnico de Video 8 horas) Valor de 3 a 6 dias (Valor dia)",681394,681394]
[{"$f":"CONCATENATE(B270:B755,\" \",C270:C755)","v":"3071387 Punto Fijo de Video HD (Incluye: 1 Switcher de video / 1 computador portatil / 1 Monitor / 1 multi viewer/ 1 Tecnico de Video 8 horas) Valor de 7 a 18 días (Valor feria)"},3071387,"Punto Fijo de Video HD (Incluye: 1 Switcher de video / 1 computador portatil / 1 Monitor / 1 multi viewer/ 1 Tecnico de Video 8 horas) Valor de 7 a 18 días (Valor feria)",4865791,4865791]
[{"$f":"CONCATENATE(B271:B756,\" \",C271:C756)","v":"3071291 CCTV (Tipo 1) Valor evento 1 día"},3071291,"CCTV (Tipo 1) Valor evento 1 día",1094324,1094324]
[{"$f":"CONCATENATE(B272:B757,\" \",C272:C757)","v":"3071291 CCTV (Tipo 1)  Valor evento 2 dias (Valor dia)"},3071291,"CCTV (Tipo 1)  Valor evento 2 dias (Valor dia)",1094324,1094324]
[{"$f":"CONCATENATE(B273:B758,\" \",C273:C758)","v":"3071291 CCTV (Tipo 1)  Valor de 3 a 6 dias (Valor dia)"},3071291,"CCTV (Tipo 1)  Valor de 3 a 6 dias (Valor dia)",993650,993650]
[{"$f":"CONCATENATE(B274:B759,\" \",C274:C759)","v":"3071291 CCTV (Tipo 1)  Valor de 7 a 18 días (Valor feria)"},3071291,"CCTV (Tipo 1)  Valor de 7 a 18 días (Valor feria)",7096446,7096446]
[{"$f":"CONCATENATE(B275:B760,\" \",C275:C760)","v":"30713203 CCTV (Tipo 2) Valor evento 1 día"},30713203,"CCTV (Tipo 2) Valor evento 1 día",1499043,1499043]
[{"$f":"CONCATENATE(B276:B761,\" \",C276:C761)","v":"30713203 CCTV (Tipo 2) Valor evento 2 dias (Valor dia)"},30713203,"CCTV (Tipo 2) Valor evento 2 dias (Valor dia)",1499043,1499043]
[{"$f":"CONCATENATE(B277:B762,\" \",C277:C762)","v":"30713203 CCTV (Tipo 2) Valor de 3 a 6 dias (Valor dia)"},30713203,"CCTV (Tipo 2) Valor de 3 a 6 dias (Valor dia)",1349103,1349103]
[{"$f":"CONCATENATE(B278:B763,\" \",C278:C763)","v":"30713203 CCTV (Tipo 2) Valor de 7 a 18 días (Valor feria)"},30713203,"CCTV (Tipo 2) Valor de 7 a 18 días (Valor feria)",10792586,10792586]
[{"$f":"CONCATENATE(B279:B764,\" \",C279:C764)","v":"3071292 CCTV (Tipo 3) Valor evento 1 día"},3071292,"CCTV (Tipo 3) Valor evento 1 día",1809871,1809871]
[{"$f":"CONCATENATE(B280:B765,\" \",C280:C765)","v":"3071292 CCTV (Tipo 3) Valor evento 2 dias (Valor dia)"},3071292,"CCTV (Tipo 3) Valor evento 2 dias (Valor dia)",1809871,1809871]
[{"$f":"CONCATENATE(B281:B766,\" \",C281:C766)","v":"3071292 CCTV (Tipo 3) Valor de 3 a 6 dias (Valor dia)"},3071292,"CCTV (Tipo 3) Valor de 3 a 6 dias (Valor dia)",1628991,1628991]
[{"$f":"CONCATENATE(B282:B767,\" \",C282:C767)","v":"3071292 CCTV (Tipo 3) Valor de 7 a 18 días (Valor feria)"},3071292,"CCTV (Tipo 3) Valor de 7 a 18 días (Valor feria)",7714056,7714056]
[{"$f":"CONCATENATE(B283:B768,\" \",C283:C768)","v":"3071236 Sistema de Audio tipo Minicomponente / conexión Bluetooh / Usb  ( No aplica para microfono) Valor evento 1 día"},3071236,"Sistema de Audio tipo Minicomponente / conexión Bluetooh / Usb  ( No aplica para microfono) Valor evento 1 día",111979,111979]
[{"$f":"CONCATENATE(B284:B769,\" \",C284:C769)","v":"3071236 Sistema de Audio tipo Minicomponente / conexión Bluetooh / Usb  ( No aplica para microfono) Valor evento 2 dias (Valor dia)"},3071236,"Sistema de Audio tipo Minicomponente / conexión Bluetooh / Usb  ( No aplica para microfono) Valor evento 2 dias (Valor dia)",111979,111979]
[{"$f":"CONCATENATE(B285:B770,\" \",C285:C770)","v":"3071236 Sistema de Audio tipo Minicomponente / conexión Bluetooh / Usb  ( No aplica para microfono) Valor de 3 a 6 dias (Valor dia)"},3071236,"Sistema de Audio tipo Minicomponente / conexión Bluetooh / Usb  ( No aplica para microfono) Valor de 3 a 6 dias (Valor dia)",101388,101388]
[{"$f":"CONCATENATE(B286:B771,\" \",C286:C771)","v":"3071236 Sistema de Audio tipo Minicomponente / conexión Bluetooh / Usb  ( No aplica para microfono) Valor de 7 a 18 días (Valor feria)"},3071236,"Sistema de Audio tipo Minicomponente / conexión Bluetooh / Usb  ( No aplica para microfono) Valor de 7 a 18 días (Valor feria)",723401,723401]
[{"$f":"CONCATENATE(B287:B772,\" \",C287:C772)","v":"30713204 Sistema de Audio compacto Db Technologies Es 503 (Incluye 2 Sub / 2 Cabinas compacta de audio / Conexión Bluetooth / cable de corriente) Valor evento 1 día"},30713204,"Sistema de Audio compacto Db Technologies Es 503 (Incluye 2 Sub / 2 Cabinas compacta de audio / Conexión Bluetooth / cable de corriente) Valor evento 1 día",246211,246211]
[{"$f":"CONCATENATE(B288:B773,\" \",C288:C773)","v":"30713204 Sistema de Audio compacto Db Technologies Es 503 (Incluye 2 Sub / 2 Cabinas compacta de audio / Conexión Bluetooth / cable de corriente) Valor evento 1 día"},30713204,"Sistema de Audio compacto Db Technologies Es 503 (Incluye 2 Sub / 2 Cabinas compacta de audio / Conexión Bluetooth / cable de corriente) Valor evento 1 día",246211,246211]
[{"$f":"CONCATENATE(B289:B774,\" \",C289:C774)","v":"30713204 Sistema de Audio compacto Db Technologies Es 503 (Incluye 2 Sub / 2 Cabinas compacta de audio / Conexión Bluetooth / cable de corriente) Valor de 3 a 6 dias (Valor dia)"},30713204,"Sistema de Audio compacto Db Technologies Es 503 (Incluye 2 Sub / 2 Cabinas compacta de audio / Conexión Bluetooth / cable de corriente) Valor de 3 a 6 dias (Valor dia)",224672,224672]
[{"$f":"CONCATENATE(B290:B775,\" \",C290:C775)","v":"30713204 Sistema de Audio compacto Db Technologies Es 503 (Incluye 2 Sub / 2 Cabinas compacta de audio / Conexión Bluetooth / cable de corriente) Valor de 7 a 18 días (Valor feria)"},30713204,"Sistema de Audio compacto Db Technologies Es 503 (Incluye 2 Sub / 2 Cabinas compacta de audio / Conexión Bluetooth / cable de corriente) Valor de 7 a 18 días (Valor feria)",1572347,1572347]
[{"$f":"CONCATENATE(B291:B776,\" \",C291:C776)","v":"30713205 Sistema de Audio compacto Db Technologies Es 802 (Incluye 4 Sub / 2 Cabinas compacta de audio / cable de corriente) Valor evento 1 día"},30713205,"Sistema de Audio compacto Db Technologies Es 802 (Incluye 4 Sub / 2 Cabinas compacta de audio / cable de corriente) Valor evento 1 día",547162,547162]
[{"$f":"CONCATENATE(B292:B777,\" \",C292:C777)","v":"30713205 Sistema de Audio compacto Db Technologies Es 802 (Incluye 4 Sub / 2 Cabinas compacta de audio / cable de corriente) Valor evento 2 dias (Valor dia)"},30713205,"Sistema de Audio compacto Db Technologies Es 802 (Incluye 4 Sub / 2 Cabinas compacta de audio / cable de corriente) Valor evento 2 dias (Valor dia)",547162,547162]
[{"$f":"CONCATENATE(B293:B778,\" \",C293:C778)","v":"30713205 Sistema de Audio compacto Db Technologies Es 802 (Incluye 4 Sub / 2 Cabinas compacta de audio / cable de corriente) Valor de 3 a 6 dias (Valor dia)"},30713205,"Sistema de Audio compacto Db Technologies Es 802 (Incluye 4 Sub / 2 Cabinas compacta de audio / cable de corriente) Valor de 3 a 6 dias (Valor dia)",517174,517174]
[{"$f":"CONCATENATE(B294:B779,\" \",C294:C779)","v":"30713205 Sistema de Audio compacto Db Technologies Es 802 (Incluye 4 Sub / 2 Cabinas compacta de audio / cable de corriente) Valor de 7 a 18 días (Valor feria)"},30713205,"Sistema de Audio compacto Db Technologies Es 802 (Incluye 4 Sub / 2 Cabinas compacta de audio / cable de corriente) Valor de 7 a 18 días (Valor feria)",3619980,3619980]
[{"$f":"CONCATENATE(B295:B780,\" \",C295:C780)","v":"3071348 Microfono Inalambrico de mano (Incluye Receptor de señal / cable XLR/ 2 baterias AA, no incluye instalación) Valor evento 1 día"},3071348,"Microfono Inalambrico de mano (Incluye Receptor de señal / cable XLR/ 2 baterias AA, no incluye instalación) Valor evento 1 día",95795,95795]
[{"$f":"CONCATENATE(B296:B781,\" \",C296:C781)","v":"3071348 Microfono Inalambrico de mano (Incluye Receptor de señal / cable XLR/ 2 baterias AA, no incluye instalación) Valor evento 2 dias (Valor dia)"},3071348,"Microfono Inalambrico de mano (Incluye Receptor de señal / cable XLR/ 2 baterias AA, no incluye instalación) Valor evento 2 dias (Valor dia)",95795,95795]
[{"$f":"CONCATENATE(B297:B782,\" \",C297:C782)","v":"3071348 Microfono Inalambrico de mano (Incluye Receptor de señal / cable XLR/ 2 baterias AA, no incluye instalación) Valor de 3 a 6 dias (Valor dia)"},3071348,"Microfono Inalambrico de mano (Incluye Receptor de señal / cable XLR/ 2 baterias AA, no incluye instalación) Valor de 3 a 6 dias (Valor dia)",87465,87465]
[{"$f":"CONCATENATE(B298:B783,\" \",C298:C783)","v":"3071348 Microfono Inalambrico de mano (Incluye Receptor de señal / cable XLR/ 2 baterias AA, no incluye instalación) Valor de 7 a 18 días (Valor feria)"},3071348,"Microfono Inalambrico de mano (Incluye Receptor de señal / cable XLR/ 2 baterias AA, no incluye instalación) Valor de 7 a 18 días (Valor feria)",623441,623441]
[{"$f":"CONCATENATE(B299:B784,\" \",C299:C784)","v":"3071349 Microfono Inalambrico de diadema (Incluye Receptor de señal / cable XLR / 2 baterias AA, no incluye instalación) Valor evento 1 día"},3071349,"Microfono Inalambrico de diadema (Incluye Receptor de señal / cable XLR / 2 baterias AA, no incluye instalación) Valor evento 1 día",95795,95795]
[{"$f":"CONCATENATE(B300:B785,\" \",C300:C785)","v":"3071349 Microfono Inalambrico de diadema (Incluye Receptor de señal / cable XLR / 2 baterias AA, no incluye instalación) Valor evento 2 dias (Valor dia)"},3071349,"Microfono Inalambrico de diadema (Incluye Receptor de señal / cable XLR / 2 baterias AA, no incluye instalación) Valor evento 2 dias (Valor dia)",95795,95795]
[{"$f":"CONCATENATE(B301:B786,\" \",C301:C786)","v":"3071349 Microfono Inalambrico de diadema (Incluye Receptor de señal / cable XLR / 2 baterias AA, no incluye instalación) Valor de 3 a 6 dias (Valor dia)"},3071349,"Microfono Inalambrico de diadema (Incluye Receptor de señal / cable XLR / 2 baterias AA, no incluye instalación) Valor de 3 a 6 dias (Valor dia)",87465,87465]
[{"$f":"CONCATENATE(B302:B787,\" \",C302:C787)","v":"3071349 Microfono Inalambrico de diadema (Incluye Receptor de señal / cable XLR / 2 baterias AA, no incluye instalación) Valor de 7 a 18 días (Valor feria)"},3071349,"Microfono Inalambrico de diadema (Incluye Receptor de señal / cable XLR / 2 baterias AA, no incluye instalación) Valor de 7 a 18 días (Valor feria)",623441,623441]
[{"$f":"CONCATENATE(B303:B788,\" \",C303:C788)","v":"30713206 Microfono alambrico (Incluye cable XLR, no incluye instalación) Valor evento 1 día"},30713206,"Microfono alambrico (Incluye cable XLR, no incluye instalación) Valor evento 1 día",32725,32725]
[{"$f":"CONCATENATE(B304:B789,\" \",C304:C789)","v":"30713206 Microfono alambrico (Incluye cable XLR, no incluye instalación) Valor evento 2 dias (Valor dia)"},30713206,"Microfono alambrico (Incluye cable XLR, no incluye instalación) Valor evento 2 dias (Valor dia)",32725,32725]
[{"$f":"CONCATENATE(B305:B790,\" \",C305:C790)","v":"30713206 Microfono alambrico (Incluye cable XLR, no incluye instalación) Valor de 3 a 6 dias (Valor dia)"},30713206,"Microfono alambrico (Incluye cable XLR, no incluye instalación) Valor de 3 a 6 dias (Valor dia)",29393,29393]
[{"$f":"CONCATENATE(B306:B791,\" \",C306:C791)","v":"30713206 Microfono alambrico (Incluye cable XLR, no incluye instalación) Valor de 7 a 18 días (Valor feria)"},30713206,"Microfono alambrico (Incluye cable XLR, no incluye instalación) Valor de 7 a 18 días (Valor feria)",205394,205394]
[{"$f":"CONCATENATE(B307:B792,\" \",C307:C792)","v":"30713207 Microfono Country Man (Incluye Receptor de señal / cable XLR / 2 baterias AA, no incluye instalación) Valor evento 1 día"},30713207,"Microfono Country Man (Incluye Receptor de señal / cable XLR / 2 baterias AA, no incluye instalación) Valor evento 1 día",186592,186592]
[{"$f":"CONCATENATE(B308:B793,\" \",C308:C793)","v":"30713207 Microfono Country Man (Incluye Receptor de señal / cable XLR / 2 baterias AA, no incluye instalación) Valor evento 2 dias (Valor dia)"},30713207,"Microfono Country Man (Incluye Receptor de señal / cable XLR / 2 baterias AA, no incluye instalación) Valor evento 2 dias (Valor dia)",186592,186592]
[{"$f":"CONCATENATE(B309:B794,\" \",C309:C794)","v":"30713207 Microfono Country Man (Incluye Receptor de señal / cable XLR / 2 baterias AA, no incluye instalación) Valor de 3 a 6 dias (Valor dia)"},30713207,"Microfono Country Man (Incluye Receptor de señal / cable XLR / 2 baterias AA, no incluye instalación) Valor de 3 a 6 dias (Valor dia)",169099,169099]
[{"$f":"CONCATENATE(B310:B795,\" \",C310:C795)","v":"30713207 Microfono Country Man (Incluye Receptor de señal / cable XLR / 2 baterias AA, no incluye instalación) Valor de 7 a 18 días (Valor feria)"},30713207,"Microfono Country Man (Incluye Receptor de señal / cable XLR / 2 baterias AA, no incluye instalación) Valor de 7 a 18 días (Valor feria)",1184050,1184050]
[{"$f":"CONCATENATE(B311:B796,\" \",C311:C796)","v":"3071283 Microfono Cuello de Ganso  (Incluye cable XLR, no incluye instalación) Valor evento 1 día"},3071283,"Microfono Cuello de Ganso  (Incluye cable XLR, no incluye instalación) Valor evento 1 día",232764,232764]
[{"$f":"CONCATENATE(B312:B797,\" \",C312:C797)","v":"3071283 Microfono Cuello de Ganso  (Incluye cable XLR, no incluye instalación) Valor evento 2 dias (Valor dia)"},3071283,"Microfono Cuello de Ganso  (Incluye cable XLR, no incluye instalación) Valor evento 2 dias (Valor dia)",232883,232883]
[{"$f":"CONCATENATE(B313:B798,\" \",C313:C798)","v":"3071283 Microfono Cuello de Ganso  (Incluye cable XLR, no incluye instalación) Valor de 3 a 6 dias (Valor dia)"},3071283,"Microfono Cuello de Ganso  (Incluye cable XLR, no incluye instalación) Valor de 3 a 6 dias (Valor dia)",209559,209559]
[{"$f":"CONCATENATE(B314:B799,\" \",C314:C799)","v":"3071283 Microfono Cuello de Ganso  (Incluye cable XLR, no incluye instalación) Valor de 7 a 18 días (Valor feria)"},3071283,"Microfono Cuello de Ganso  (Incluye cable XLR, no incluye instalación) Valor de 7 a 18 días (Valor feria)",1676472,1676472]
[{"$f":"CONCATENATE(B315:B800,\" \",C315:C800)","v":"30713208 Consola de Audio Analoga de 4CH (Se Requiere Operario) Valor evento 1 día"},30713208,"Consola de Audio Analoga de 4CH (Se Requiere Operario) Valor evento 1 día",190400,190400]
[{"$f":"CONCATENATE(B316:B801,\" \",C316:C801)","v":"30713208 Consola de Audio Analoga de 4CH (Se Requiere Operario) Valor evento 2 dias (Valor dia)"},30713208,"Consola de Audio Analoga de 4CH (Se Requiere Operario) Valor evento 2 dias (Valor dia)",190400,190400]
[{"$f":"CONCATENATE(B317:B802,\" \",C317:C802)","v":"30713208 Consola de Audio Analoga de 4CH (Se Requiere Operario) Valor de 3 a 6 dias (Valor dia)"},30713208,"Consola de Audio Analoga de 4CH (Se Requiere Operario) Valor de 3 a 6 dias (Valor dia)",171360,171360]
[{"$f":"CONCATENATE(B318:B803,\" \",C318:C803)","v":"30713208 Consola de Audio Analoga de 4CH (Se Requiere Operario) Valor de 7 a 18 días (Valor feria"},30713208,"Consola de Audio Analoga de 4CH (Se Requiere Operario) Valor de 7 a 18 días (Valor feria",2159136,2159136]
[{"$f":"CONCATENATE(B319:B804,\" \",C319:C804)","v":"30713208 Consola de Audio Analoga de 8CH (Se Requiere Operiario) Valor evento 1 día"},30713208,"Consola de Audio Analoga de 8CH (Se Requiere Operiario) Valor evento 1 día",380800,380800]
[{"$f":"CONCATENATE(B320:B805,\" \",C320:C805)","v":"30713208 Consola de Audio Analoga de 8CH (Se Requiere Operiario) Valor evento 2 dias (Valor dia)"},30713208,"Consola de Audio Analoga de 8CH (Se Requiere Operiario) Valor evento 2 dias (Valor dia)",380800,380800]
[{"$f":"CONCATENATE(B321:B806,\" \",C321:C806)","v":"30713208 Consola de Audio Analoga de 8CH (Se Requiere Operiario) Valor de 3 a 6 dias (Valor dia)"},30713208,"Consola de Audio Analoga de 8CH (Se Requiere Operiario) Valor de 3 a 6 dias (Valor dia)",342720,342720]
[{"$f":"CONCATENATE(B322:B807,\" \",C322:C807)","v":"30713208 Consola de Audio Analoga de 8CH (Se Requiere Operiario) Valor de 7 a 18 días (Valor feria"},30713208,"Consola de Audio Analoga de 8CH (Se Requiere Operiario) Valor de 7 a 18 días (Valor feria",3842510,3842510]
[{"$f":"CONCATENATE(B323:B808,\" \",C323:C808)","v":"30713208 Cabina Activa (Incluye Cable conexión de audio RCA - Plug 1/4 / Cable de corriente) Valor evento 1 día"},30713208,"Cabina Activa (Incluye Cable conexión de audio RCA - Plug 1/4 / Cable de corriente) Valor evento 1 día",111979,111979]
[{"$f":"CONCATENATE(B324:B809,\" \",C324:C809)","v":"30713208 Cabina Activa (Incluye Cable conexión de audio RCA - Plug 1/4 / Cable de corriente) Valor evento 2 dias (Valor dia)"},30713208,"Cabina Activa (Incluye Cable conexión de audio RCA - Plug 1/4 / Cable de corriente) Valor evento 2 dias (Valor dia)",111979,111979]
[{"$f":"CONCATENATE(B325:B810,\" \",C325:C810)","v":"30713208 Cabina Activa (Incluye Cable conexión de audio RCA - Plug 1/4 / Cable de corriente) Valor de 3 a 6 dias (Valor dia)"},30713208,"Cabina Activa (Incluye Cable conexión de audio RCA - Plug 1/4 / Cable de corriente) Valor de 3 a 6 dias (Valor dia)",101507,101507]
[{"$f":"CONCATENATE(B326:B811,\" \",C326:C811)","v":"30713208 Cabina Activa (Incluye Cable conexión de audio RCA - Plug 1/4 / Cable de corriente) Valor de 7 a 18 días (Valor feria)"},30713208,"Cabina Activa (Incluye Cable conexión de audio RCA - Plug 1/4 / Cable de corriente) Valor de 7 a 18 días (Valor feria)",{"$f":"IF(G$3=TRUE,E326/I$3,E326)","v":710073},710073]
[{"$f":"CONCATENATE(B327:B812,\" \",C327:C812)","v":"3071293 Caja para periodistas conexión canon de 10 CH / (No incluye operario permanente) Valor evento 1 día"},3071293,"Caja para periodistas conexión canon de 10 CH / (No incluye operario permanente) Valor evento 1 día",122570,122570]
[{"$f":"CONCATENATE(B328:B813,\" \",C328:C813)","v":"3071293 Caja para periodistas conexión canon de 10 CH / (No incluye operario permanente) Valor evento 2 dias (Valor dia)"},3071293,"Caja para periodistas conexión canon de 10 CH / (No incluye operario permanente) Valor evento 2 dias (Valor dia)",122570,122570]
[{"$f":"CONCATENATE(B329:B814,\" \",C329:C814)","v":"3071293 Caja para periodistas conexión canon de 10 CH / (No incluye operario permanente) Valor de 3 a 6 dias (Valor dia)"},3071293,"Caja para periodistas conexión canon de 10 CH / (No incluye operario permanente) Valor de 3 a 6 dias (Valor dia)",110313,110313]
[{"$f":"CONCATENATE(B330:B815,\" \",C330:C815)","v":"3071293 Caja para periodistas conexión canon de 10 CH / (No incluye operario permanente) Valor de 7 a 18 días (Valor feria)"},3071293,"Caja para periodistas conexión canon de 10 CH / (No incluye operario permanente) Valor de 7 a 18 días (Valor feria)",882147,882147]
[{"$f":"CONCATENATE(B331:B816,\" \",C331:C816)","v":"3070411 Sonido de 1 a 100 Pax (Incluye 2 cabinas activas / 1 Microfono alambrico / cable XLR / 2 tripodes) (No incluye operario permanente) Valor evento 1 día"},3070411,"Sonido de 1 a 100 Pax (Incluye 2 cabinas activas / 1 Microfono alambrico / cable XLR / 2 tripodes) (No incluye operario permanente) Valor evento 1 día",192780,192780]
[{"$f":"CONCATENATE(B332:B817,\" \",C332:C817)","v":"3070411 Sonido de 1 a 100 Pax (Incluye 2 cabinas activas / 1 Microfono alambrico / cable XLR / 2 tripodes) (No incluye operario permanente) Valor evento 2 dias (Valor dia)"},3070411,"Sonido de 1 a 100 Pax (Incluye 2 cabinas activas / 1 Microfono alambrico / cable XLR / 2 tripodes) (No incluye operario permanente) Valor evento 2 dias (Valor dia)",192780,192780]
[{"$f":"CONCATENATE(B333:B818,\" \",C333:C818)","v":"3070411 Sonido de 1 a 100 Pax (Incluye 2 cabinas activas / 1 Microfono alambrico / cable XLR / 2 tripodes) (No incluye operario permanente) Valor de 3 a 6 dias (Valor dia)"},3070411,"Sonido de 1 a 100 Pax (Incluye 2 cabinas activas / 1 Microfono alambrico / cable XLR / 2 tripodes) (No incluye operario permanente) Valor de 3 a 6 dias (Valor dia)",175763,175763]
[{"$f":"CONCATENATE(B334:B819,\" \",C334:C819)","v":"3070411 Sonido de 1 a 100 Pax (Incluye 2 cabinas activas / 1 Microfono alambrico / cable XLR / 2 tripodes) (No incluye operario permanente) Valor de 7 a 18 días (Valor feria)"},3070411,"Sonido de 1 a 100 Pax (Incluye 2 cabinas activas / 1 Microfono alambrico / cable XLR / 2 tripodes) (No incluye operario permanente) Valor de 7 a 18 días (Valor feria)",1254498,1254498]
[{"$f":"CONCATENATE(B335:B820,\" \",C335:C820)","v":"3071347 Sonido de 100 a 200 Pax (Incluye 4 cabinas activas / 2 Microfono alambrico / 2 cables XLR / 4 tripodes) (No incluye operario permanente) Valor evento 1 día"},3071347,"Sonido de 100 a 200 Pax (Incluye 4 cabinas activas / 2 Microfono alambrico / 2 cables XLR / 4 tripodes) (No incluye operario permanente) Valor evento 1 día",286076,286076]
[{"$f":"CONCATENATE(B336:B821,\" \",C336:C821)","v":"3071347 Sonido de 100 a 200 Pax (Incluye 4 cabinas activas / 2 Microfono alambrico / 2 cables XLR / 4 tripodes) (No incluye operario permanente) Valor evento 2 dias (Valor dia)"},3071347,"Sonido de 100 a 200 Pax (Incluye 4 cabinas activas / 2 Microfono alambrico / 2 cables XLR / 4 tripodes) (No incluye operario permanente) Valor evento 2 dias (Valor dia)",286076,286076]
[{"$f":"CONCATENATE(B337:B822,\" \",C337:C822)","v":"3071347 Sonido de 100 a 200 Pax (Incluye 4 cabinas activas / 2 Microfono alambrico / 2 cables XLR / 4 tripodes) (No incluye operario permanente) Valor de 3 a 6 dias (Valor dia)"},3071347,"Sonido de 100 a 200 Pax (Incluye 4 cabinas activas / 2 Microfono alambrico / 2 cables XLR / 4 tripodes) (No incluye operario permanente) Valor de 3 a 6 dias (Valor dia)",259777,259777]
[{"$f":"CONCATENATE(B338:B823,\" \",C338:C823)","v":"3071347 Sonido de 100 a 200 Pax (Incluye 4 cabinas activas / 2 Microfono alambrico / 2 cables XLR / 4 tripodes) (No incluye operario permanente) Valor de 7 a 18 días (Valor feria)"},3071347,"Sonido de 100 a 200 Pax (Incluye 4 cabinas activas / 2 Microfono alambrico / 2 cables XLR / 4 tripodes) (No incluye operario permanente) Valor de 7 a 18 días (Valor feria)",1854496,1854496]
[{"$f":"CONCATENATE(B339:B824,\" \",C339:C824)","v":"3071294 Sonido de 200 a 300 Pax (Incluye 6 cabinas activas / 2 Microfono alambrico / 2 cables XLR / 6 tripodes) (No incluye operario permanente) Valor evento 1 día"},3071294,"Sonido de 200 a 300 Pax (Incluye 6 cabinas activas / 2 Microfono alambrico / 2 cables XLR / 6 tripodes) (No incluye operario permanente) Valor evento 1 día",528479,528479]
[{"$f":"CONCATENATE(B340:B825,\" \",C340:C825)","v":"3071294 Sonido de 200 a 300 Pax (Incluye 6 cabinas activas / 2 Microfono alambrico / 2 cables XLR / 6 tripodes) (No incluye operario permanente) Valor evento 2 dias (Valor dia)"},3071294,"Sonido de 200 a 300 Pax (Incluye 6 cabinas activas / 2 Microfono alambrico / 2 cables XLR / 6 tripodes) (No incluye operario permanente) Valor evento 2 dias (Valor dia)",528479,528479]
[{"$f":"CONCATENATE(B341:B826,\" \",C341:C826)","v":"3071294 Sonido de 200 a 300 Pax (Incluye 6 cabinas activas / 2 Microfono alambrico / 2 cables XLR / 6 tripodes) (No incluye operario permanente) Valor de 3 a 6 dias (Valor dia)"},3071294,"Sonido de 200 a 300 Pax (Incluye 6 cabinas activas / 2 Microfono alambrico / 2 cables XLR / 6 tripodes) (No incluye operario permanente) Valor de 3 a 6 dias (Valor dia)",482426,482426]
[{"$f":"CONCATENATE(B342:B827,\" \",C342:C827)","v":"3071294 Sonido de 200 a 300 Pax (Incluye 6 cabinas activas / 2 Microfono alambrico / 2 cables XLR / 6 tripodes) (No incluye operario permanente) Valor de 7 a 18 días (Valor feria)"},3071294,"Sonido de 200 a 300 Pax (Incluye 6 cabinas activas / 2 Microfono alambrico / 2 cables XLR / 6 tripodes) (No incluye operario permanente) Valor de 7 a 18 días (Valor feria)",3445288,3445288]
[{"$f":"CONCATENATE(B343:B828,\" \",C343:C828)","v":"3071295 Sonido de 300 a 400 Pax (Incluye 8 cabinas activas / 3 Microfono alambrico / 3 cables XLR / 8 tripodes) (No incluye operario permanente) Valor evento 1 día"},3071295,"Sonido de 300 a 400 Pax (Incluye 8 cabinas activas / 3 Microfono alambrico / 3 cables XLR / 8 tripodes) (No incluye operario permanente) Valor evento 1 día",659141,659141]
[{"$f":"CONCATENATE(B344:B829,\" \",C344:C829)","v":"3071295 Sonido de 300 a 400 Pax (Incluye 8 cabinas activas / 3 Microfono alambrico / 3 cables XLR / 8 tripodes) (No incluye operario permanente) Valor evento 2 dias (Valor dia)"},3071295,"Sonido de 300 a 400 Pax (Incluye 8 cabinas activas / 3 Microfono alambrico / 3 cables XLR / 8 tripodes) (No incluye operario permanente) Valor evento 2 dias (Valor dia)",659141,659141]
[{"$f":"CONCATENATE(B345:B830,\" \",C345:C830)","v":"3071295 Sonido de 300 a 400 Pax (Incluye 8 cabinas activas / 3 Microfono alambrico / 3 cables XLR / 8 tripodes) (No incluye operario permanente) Valor de 3 a 6 dias (Valor dia)"},3071295,"Sonido de 300 a 400 Pax (Incluye 8 cabinas activas / 3 Microfono alambrico / 3 cables XLR / 8 tripodes) (No incluye operario permanente) Valor de 3 a 6 dias (Valor dia)",597142,597142]
[{"$f":"CONCATENATE(B346:B831,\" \",C346:C831)","v":"3071295 Sonido de 300 a 400 Pax (Incluye 8 cabinas activas / 3 Microfono alambrico / 3 cables XLR / 8 tripodes) (No incluye operario permanente) Valor de 7 a 18 días (Valor feria)"},3071295,"Sonido de 300 a 400 Pax (Incluye 8 cabinas activas / 3 Microfono alambrico / 3 cables XLR / 8 tripodes) (No incluye operario permanente) Valor de 7 a 18 días (Valor feria)",4264127,4264127]
[{"$f":"CONCATENATE(B347:B832,\" \",C347:C832)","v":"3071296 Sonido de 400 a 500 Pax (Incluye 8 cabinas activas / 4 Microfono alambrico / 4 cables XLR / 1 consola analoga de 4CH / 8 tripodes) (No incluye operario permanente) Valor evento 1 día"},3071296,"Sonido de 400 a 500 Pax (Incluye 8 cabinas activas / 4 Microfono alambrico / 4 cables XLR / 1 consola analoga de 4CH / 8 tripodes) (No incluye operario permanente) Valor evento 1 día",684012,684012]
[{"$f":"CONCATENATE(B348:B833,\" \",C348:C833)","v":"3071296 Sonido de 400 a 500 Pax (Incluye 8 cabinas activas / 4 Microfono alambrico / 4 cables XLR / 1 consola analoga de 4CH / 8 tripodes) (No incluye operario permanente) Valor evento 2 dias (Valor dia)"},3071296,"Sonido de 400 a 500 Pax (Incluye 8 cabinas activas / 4 Microfono alambrico / 4 cables XLR / 1 consola analoga de 4CH / 8 tripodes) (No incluye operario permanente) Valor evento 2 dias (Valor dia)",684012,684012]
[{"$f":"CONCATENATE(B349:B834,\" \",C349:C834)","v":"3071296 Sonido de 400 a 500 Pax (Incluye 8 cabinas activas / 4 Microfono alambrico / 4 cables XLR / 1 consola analoga de 4CH / 8 tripodes) (No incluye operario permanente) Valor de 3 a 6 dias (Valor dia)"},3071296,"Sonido de 400 a 500 Pax (Incluye 8 cabinas activas / 4 Microfono alambrico / 4 cables XLR / 1 consola analoga de 4CH / 8 tripodes) (No incluye operario permanente) Valor de 3 a 6 dias (Valor dia)",622013,622013]
[{"$f":"CONCATENATE(B350:B835,\" \",C350:C835)","v":"3071296 Sonido de 400 a 500 Pax (Incluye 8 cabinas activas / 4 Microfono alambrico / 4 cables XLR / 1 consola analoga de 4CH / 8 tripodes) (No incluye operario permanente) Valor de 7 a 18 días (Valor feria)"},3071296,"Sonido de 400 a 500 Pax (Incluye 8 cabinas activas / 4 Microfono alambrico / 4 cables XLR / 1 consola analoga de 4CH / 8 tripodes) (No incluye operario permanente) Valor de 7 a 18 días (Valor feria)",4442032,4442032]
[{"$f":"CONCATENATE(B351:B836,\" \",C351:C836)","v":"3071297 Sonido de 500 a 800 Pax - Sistema Line Array sin estructura (Incluye 4 cajas Hi -Mid / 2 Subs) servicio sujeto a reunion tecnica de produccion Valor evento 1 día"},3071297,"Sonido de 500 a 800 Pax - Sistema Line Array sin estructura (Incluye 4 cajas Hi -Mid / 2 Subs) servicio sujeto a reunion tecnica de produccion Valor evento 1 día",1467389,1467389]
[{"$f":"CONCATENATE(B352:B837,\" \",C352:C837)","v":"3071297 Sonido de 500 a 800 Pax - Sistema Line Array sin estructura (Incluye 4 cajas Hi -Mid / 2 Subs) servicio sujeto a reunion tecnica de produccion Valor evento 2 dias (Valor dia)"},3071297,"Sonido de 500 a 800 Pax - Sistema Line Array sin estructura (Incluye 4 cajas Hi -Mid / 2 Subs) servicio sujeto a reunion tecnica de produccion Valor evento 2 dias (Valor dia)",1467389,1467389]
[{"$f":"CONCATENATE(B353:B838,\" \",C353:C838)","v":"3071297 Sonido de 500 a 800 Pax - Sistema Line Array sin estructura (Incluye 4 cajas Hi -Mid / 2 Subs) servicio sujeto a reunion tecnica de produccion Valor de 3 a 6 dias (Valor dia)"},3071297,"Sonido de 500 a 800 Pax - Sistema Line Array sin estructura (Incluye 4 cajas Hi -Mid / 2 Subs) servicio sujeto a reunion tecnica de produccion Valor de 3 a 6 dias (Valor dia)",1336846,1336846]
[{"$f":"CONCATENATE(B354:B839,\" \",C354:C839)","v":"3071297 Sonido de 500 a 800 Pax - Sistema Line Array sin estructura (Incluye 4 cajas Hi -Mid / 2 Subs) servicio sujeto a reunion tecnica de produccion Valor de 7 a 18 días (Valor feria)"},3071297,"Sonido de 500 a 800 Pax - Sistema Line Array sin estructura (Incluye 4 cajas Hi -Mid / 2 Subs) servicio sujeto a reunion tecnica de produccion Valor de 7 a 18 días (Valor feria)",9568552,9568552]
[{"$f":"CONCATENATE(B355:B840,\" \",C355:C840)","v":"3071298 Sonido de 800 a 1500 Pax - Sistema Line Array sin estructura (Incluye 8 cajas Hi -Mid / 2 Subs) servicio sujeto a reunion tecnica de produccion Valor evento 1 día"},3071298,"Sonido de 800 a 1500 Pax - Sistema Line Array sin estructura (Incluye 8 cajas Hi -Mid / 2 Subs) servicio sujeto a reunion tecnica de produccion Valor evento 1 día",2337874,2337874]
[{"$f":"CONCATENATE(B356:B841,\" \",C356:C841)","v":"3071298 Sonido de 800 a 1500 Pax - Sistema Line Array sin estructura (Incluye 8 cajas Hi -Mid / 2 Subs) servicio sujeto a reunion tecnica de produccion Valor evento 2 dias (Valor dia)"},3071298,"Sonido de 800 a 1500 Pax - Sistema Line Array sin estructura (Incluye 8 cajas Hi -Mid / 2 Subs) servicio sujeto a reunion tecnica de produccion Valor evento 2 dias (Valor dia)",2337874,2337874]
[{"$f":"CONCATENATE(B357:B842,\" \",C357:C842)","v":"3071298 Sonido de 800 a 1500 Pax - Sistema Line Array sin estructura (Incluye 8 cajas Hi -Mid / 2 Subs) servicio sujeto a reunion tecnica de produccion Valor de 3 a 6 dias (Valor dia)"},3071298,"Sonido de 800 a 1500 Pax - Sistema Line Array sin estructura (Incluye 8 cajas Hi -Mid / 2 Subs) servicio sujeto a reunion tecnica de produccion Valor de 3 a 6 dias (Valor dia)",2104158,2104158]
[{"$f":"CONCATENATE(B358:B843,\" \",C358:C843)","v":"3071298 Sonido de 800 a 1500 Pax - Sistema Line Array sin estructura (Incluye 8 cajas Hi -Mid / 2 Subs) servicio sujeto a reunion tecnica de produccion Valor de 7 a 18 días (Valor feria)"},3071298,"Sonido de 800 a 1500 Pax - Sistema Line Array sin estructura (Incluye 8 cajas Hi -Mid / 2 Subs) servicio sujeto a reunion tecnica de produccion Valor de 7 a 18 días (Valor feria)",16832669,16832669]
[{"$f":"CONCATENATE(B359:B844,\" \",C359:C844)","v":"3071299 Sonido de 1500 a 2500 Pax - Sistema Line Array sin estructura (Incluye 12 cajas Hi -Mid / 4 Subs) servicio sujeto a reunion tecnica de produccion Valor evento 1 día"},3071299,"Sonido de 1500 a 2500 Pax - Sistema Line Array sin estructura (Incluye 12 cajas Hi -Mid / 4 Subs) servicio sujeto a reunion tecnica de produccion Valor evento 1 día",2611455,2611455]
[{"$f":"CONCATENATE(B360:B845,\" \",C360:C845)","v":"3071299 Sonido de 1500 a 2500 Pax - Sistema Line Array sin estructura (Incluye 12 cajas Hi -Mid / 4 Subs) servicio sujeto a reunion tecnica de produccion Valor evento 2 dias (Valor dia)"},3071299,"Sonido de 1500 a 2500 Pax - Sistema Line Array sin estructura (Incluye 12 cajas Hi -Mid / 4 Subs) servicio sujeto a reunion tecnica de produccion Valor evento 2 dias (Valor dia)",2611455,2611455]
[{"$f":"CONCATENATE(B361:B846,\" \",C361:C846)","v":"3071299 Sonido de 1500 a 2500 Pax - Sistema Line Array sin estructura (Incluye 12 cajas Hi -Mid / 4 Subs) servicio sujeto a reunion tecnica de produccion Valor de 3 a 6 dias (Valor dia)"},3071299,"Sonido de 1500 a 2500 Pax - Sistema Line Array sin estructura (Incluye 12 cajas Hi -Mid / 4 Subs) servicio sujeto a reunion tecnica de produccion Valor de 3 a 6 dias (Valor dia)",2350369,2350369]
[{"$f":"CONCATENATE(B362:B847,\" \",C362:C847)","v":"3071299 Sonido de 1500 a 2500 Pax - Sistema Line Array sin estructura (Incluye 12 cajas Hi -Mid / 4 Subs) servicio sujeto a reunion tecnica de produccion Valor de 7 a 18 días (Valor feria)"},3071299,"Sonido de 1500 a 2500 Pax - Sistema Line Array sin estructura (Incluye 12 cajas Hi -Mid / 4 Subs) servicio sujeto a reunion tecnica de produccion Valor de 7 a 18 días (Valor feria)",18802476,18802476]
[{"$f":"CONCATENATE(B363:B848,\" \",C363:C848)","v":"3071258 Sonido de 2500 a 3500 Pax - Sistema Line Array sin estructura (Incluye 16 cajas Hi -Mid / 6 Subs) servicio sujeto a reunion tecnica de produccion Valor evento 1 día"},3071258,"Sonido de 2500 a 3500 Pax - Sistema Line Array sin estructura (Incluye 16 cajas Hi -Mid / 6 Subs) servicio sujeto a reunion tecnica de produccion Valor evento 1 día",3158617,3158617]
[{"$f":"CONCATENATE(B364:B849,\" \",C364:C849)","v":"3071258 Sonido de 2500 a 3500 Pax - Sistema Line Array sin estructura (Incluye 16 cajas Hi -Mid / 6 Subs) servicio sujeto a reunion tecnica de produccion Valor evento 2 dias (Valor dia)"},3071258,"Sonido de 2500 a 3500 Pax - Sistema Line Array sin estructura (Incluye 16 cajas Hi -Mid / 6 Subs) servicio sujeto a reunion tecnica de produccion Valor evento 2 dias (Valor dia)",3158617,3158617]
[{"$f":"CONCATENATE(B365:B850,\" \",C365:C850)","v":"3071258 Sonido de 2500 a 3500 Pax - Sistema Line Array sin estructura (Incluye 16 cajas Hi -Mid / 6 Subs) servicio sujeto a reunion tecnica de produccion Valor de 3 a 6 dias (Valor dia)"},3071258,"Sonido de 2500 a 3500 Pax - Sistema Line Array sin estructura (Incluye 16 cajas Hi -Mid / 6 Subs) servicio sujeto a reunion tecnica de produccion Valor de 3 a 6 dias (Valor dia)",2842791,2842791]
[{"$f":"CONCATENATE(B366:B851,\" \",C366:C851)","v":"3071258 Sonido de 2500 a 3500 Pax - Sistema Line Array sin estructura (Incluye 16 cajas Hi -Mid / 6 Subs) servicio sujeto a reunion tecnica de produccion Valor de 7 a 18 días (Valor feria)"},3071258,"Sonido de 2500 a 3500 Pax - Sistema Line Array sin estructura (Incluye 16 cajas Hi -Mid / 6 Subs) servicio sujeto a reunion tecnica de produccion Valor de 7 a 18 días (Valor feria)",22742090,22742090]
[{"$f":"CONCATENATE(B367:B852,\" \",C367:C852)","v":"3071259 Sonido de 3500 a 4500 Pax - Sistema Line Array sin estructura (Incluye 20 cajas Hi -Mid / 8 Subs) servicio sujeto a reunion tecnica de produccion Valor evento 1 día"},3071259,"Sonido de 3500 a 4500 Pax - Sistema Line Array sin estructura (Incluye 20 cajas Hi -Mid / 8 Subs) servicio sujeto a reunion tecnica de produccion Valor evento 1 día",3432198,3432198]
[{"$f":"CONCATENATE(B368:B853,\" \",C368:C853)","v":"3071259 Sonido de 3500 a 4500 Pax - Sistema Line Array sin estructura (Incluye 20 cajas Hi -Mid / 8 Subs) servicio sujeto a reunion tecnica de produccion Valor evento 2 dias (Valor dia)"},3071259,"Sonido de 3500 a 4500 Pax - Sistema Line Array sin estructura (Incluye 20 cajas Hi -Mid / 8 Subs) servicio sujeto a reunion tecnica de produccion Valor evento 2 dias (Valor dia)",3432198,3432198]
[{"$f":"CONCATENATE(B369:B854,\" \",C369:C854)","v":"3071259 Sonido de 3500 a 4500 Pax - Sistema Line Array sin estructura (Incluye 20 cajas Hi -Mid / 8 Subs) servicio sujeto a reunion tecnica de produccion Valor de 3 a 6 dias (Valor dia)"},3071259,"Sonido de 3500 a 4500 Pax - Sistema Line Array sin estructura (Incluye 20 cajas Hi -Mid / 8 Subs) servicio sujeto a reunion tecnica de produccion Valor de 3 a 6 dias (Valor dia)",3089002,3089002]
[{"$f":"CONCATENATE(B370:B855,\" \",C370:C855)","v":"3071259 Sonido de 3500 a 4500 Pax - Sistema Line Array sin estructura (Incluye 20 cajas Hi -Mid / 8 Subs) servicio sujeto a reunion tecnica de produccion Valor de 7 a 18 días (Valor feria)"},3071259,"Sonido de 3500 a 4500 Pax - Sistema Line Array sin estructura (Incluye 20 cajas Hi -Mid / 8 Subs) servicio sujeto a reunion tecnica de produccion Valor de 7 a 18 días (Valor feria)",24711897,24711897]
[{"$f":"CONCATENATE(B371:B856,\" \",C371:C856)","v":"3071280 Consola DMX 16 CH / (No incluye operario permanente) Valor evento 1 día"},3071280,"Consola DMX 16 CH / (No incluye operario permanente) Valor evento 1 día",83300,83300]
[{"$f":"CONCATENATE(B372:B857,\" \",C372:C857)","v":"3071280 Consola DMX 16 CH / (No incluye operario permanente) Valor evento 2 dias (Valor dia)"},3071280,"Consola DMX 16 CH / (No incluye operario permanente) Valor evento 2 dias (Valor dia)",83300,83300]
[{"$f":"CONCATENATE(B373:B858,\" \",C373:C858)","v":"3071280 Consola DMX 16 CH / (No incluye operario permanente) Valor de 3 a 6 dias (Valor dia)"},3071280,"Consola DMX 16 CH / (No incluye operario permanente) Valor de 3 a 6 dias (Valor dia)",81991,81991]
[{"$f":"CONCATENATE(B374:B859,\" \",C374:C859)","v":"3071280 Consola DMX 16 CH / (No incluye operario permanente) Valor de 7 a 18 días (Valor feria)"},3071280,"Consola DMX 16 CH / (No incluye operario permanente) Valor de 7 a 18 días (Valor feria)",655809,655809]
[{"$f":"CONCATENATE(B375:B860,\" \",C375:C860)","v":"3071275 Par Led RGB Indoor - según cantidad se requiere consola DMX Valor evento 1 día"},3071275,"Par Led RGB Indoor - según cantidad se requiere consola DMX Valor evento 1 día",35700,35700]
[{"$f":"CONCATENATE(B376:B861,\" \",C376:C861)","v":"3071275 Par Led RGB Indoor - según cantidad se requiere consola DMX Valor evento 2 dias (Valor dia)"},3071275,"Par Led RGB Indoor - según cantidad se requiere consola DMX Valor evento 2 dias (Valor dia)",35700,35700]
[{"$f":"CONCATENATE(B377:B862,\" \",C377:C862)","v":"3071275 Par Led RGB Indoor - según cantidad se requiere consola DMX Valor de 3 a 6 dias (Valor dia)"},3071275,"Par Led RGB Indoor - según cantidad se requiere consola DMX Valor de 3 a 6 dias (Valor dia)",32249,32249]
[{"$f":"CONCATENATE(B378:B863,\" \",C378:C863)","v":"3071275 Par Led RGB Indoor - según cantidad se requiere consola DMX Valor de 7 a 18 días (Valor feria)"},3071275,"Par Led RGB Indoor - según cantidad se requiere consola DMX Valor de 7 a 18 días (Valor feria)",229908,229908]
[{"$f":"CONCATENATE(B379:B864,\" \",C379:C864)","v":"3071281 Cabeza movil (Beam - Spot - Matrix) Se requiere consola DMX adicional - No incluye Gobo personalizado Valor evento 1 día"},3071281,"Cabeza movil (Beam - Spot - Matrix) Se requiere consola DMX adicional - No incluye Gobo personalizado Valor evento 1 día",235025,235025]
[{"$f":"CONCATENATE(B380:B865,\" \",C380:C865)","v":"3071281 Cabeza movil (Beam - Spot - Matrix) Se requiere consola DMX adicional - No incluye Gobo personalizado Valor evento 2 dias (Valor dia)"},3071281,"Cabeza movil (Beam - Spot - Matrix) Se requiere consola DMX adicional - No incluye Gobo personalizado Valor evento 2 dias (Valor dia)",235025,235025]
[{"$f":"CONCATENATE(B381:B866,\" \",C381:C866)","v":"3071281 Cabeza movil (Beam - Spot - Matrix) Se requiere consola DMX adicional - No incluye Gobo personalizado Valor de 3 a 6 dias (Valor dia)"},3071281,"Cabeza movil (Beam - Spot - Matrix) Se requiere consola DMX adicional - No incluye Gobo personalizado Valor de 3 a 6 dias (Valor dia)",211582,211582]
[{"$f":"CONCATENATE(B382:B867,\" \",C382:C867)","v":"3071281 Cabeza movil (Beam - Spot - Matrix) Se requiere consola DMX adicional - No incluye Gobo personalizado Valor de 7 a 18 días (Valor feria)"},3071281,"Cabeza movil (Beam - Spot - Matrix) Se requiere consola DMX adicional - No incluye Gobo personalizado Valor de 7 a 18 días (Valor feria)",1692180,1692180]
[{"$f":"CONCATENATE(B383:B868,\" \",C383:C868)","v":"3071282 Seguidor profesional para espectaculos Valor evento 1 día"},3071282,"Seguidor profesional para espectaculos Valor evento 1 día",305711,305711]
[{"$f":"CONCATENATE(B384:B869,\" \",C384:C869)","v":"3071282 Seguidor profesional para espectaculos Valor evento 2 dias (Valor dia)"},3071282,"Seguidor profesional para espectaculos Valor evento 2 dias (Valor dia)",305711,305711]
[{"$f":"CONCATENATE(B385:B870,\" \",C385:C870)","v":"3071282 Seguidor profesional para espectaculos Valor de 3 a 6 dias (Valor dia)"},3071282,"Seguidor profesional para espectaculos Valor de 3 a 6 dias (Valor dia)",275128,275128]
[{"$f":"CONCATENATE(B386:B871,\" \",C386:C871)","v":"3071282 Seguidor profesional para espectaculos Valor de 7 a 18 días (Valor feria)"},3071282,"Seguidor profesional para espectaculos Valor de 7 a 18 días (Valor feria)",2200667,2200667]
[{"$f":"CONCATENATE(B387:B872,\" \",C387:C872)","v":"3071287 Tramo de estructura Truss de 2 mts para monontaje de Pantalla Led, sonido Line Array, Iluminacion. (No incluye: Instalacion y operario permanente) Valor evento 1 día"},3071287,"Tramo de estructura Truss de 2 mts para monontaje de Pantalla Led, sonido Line Array, Iluminacion. (No incluye: Instalacion y operario permanente) Valor evento 1 día",70805,70805]
[{"$f":"CONCATENATE(B388:B873,\" \",C388:C873)","v":"3071287 Tramo de estructura Truss de 2 mts para monontaje de Pantalla Led, sonido Line Array, Iluminacion. (No incluye: Instalacion y operario permanente) Valor evento 2 dias (Valor dia)"},3071287,"Tramo de estructura Truss de 2 mts para monontaje de Pantalla Led, sonido Line Array, Iluminacion. (No incluye: Instalacion y operario permanente) Valor evento 2 dias (Valor dia)",70805,70805]
[{"$f":"CONCATENATE(B389:B874,\" \",C389:C874)","v":"3071287 Tramo de estructura Truss de 2 mts para monontaje de Pantalla Led, sonido Line Array, Iluminacion. (No incluye: Instalacion y operario permanente) Valor de 3 a 6 dias (Valor dia)"},3071287,"Tramo de estructura Truss de 2 mts para monontaje de Pantalla Led, sonido Line Array, Iluminacion. (No incluye: Instalacion y operario permanente) Valor de 3 a 6 dias (Valor dia)",63665,63665]
[{"$f":"CONCATENATE(B390:B875,\" \",C390:C875)","v":"3071287 Tramo de estructura Truss de 2 mts para monontaje de Pantalla Led, sonido Line Array, Iluminacion. (No incluye: Instalacion y operario permanente) Valor de 7 a 18 días (Valor feria)"},3071287,"Tramo de estructura Truss de 2 mts para monontaje de Pantalla Led, sonido Line Array, Iluminacion. (No incluye: Instalacion y operario permanente) Valor de 7 a 18 días (Valor feria)",{"$f":"IF(G$3=TRUE,E390/I$3,E390)","v":509439},509439]
[{"$f":"CONCATENATE(B391:B876,\" \",C391:C876)","v":"3070532 Diferencial Manual de 1 Tonelada (No incluye: Instalacion y  operario permanente) Valor evento 1 día"},3070532,"Diferencial Manual de 1 Tonelada (No incluye: Instalacion y  operario permanente) Valor evento 1 día",60809,60809]
[{"$f":"CONCATENATE(B392:B877,\" \",C392:C877)","v":"3070532 Diferencial Manual de 1 Tonelada (No incluye: Instalacion y  operario permanente) Valor evento 2 dias (Valor dia)"},3070532,"Diferencial Manual de 1 Tonelada (No incluye: Instalacion y  operario permanente) Valor evento 2 dias (Valor dia)",60809,60809]
[{"$f":"CONCATENATE(B393:B878,\" \",C393:C878)","v":"3070532 Diferencial Manual de 1 Tonelada (No incluye: Instalacion y  operario permanente) Valor de 3 a 6 dias (Valor dia)"},3070532,"Diferencial Manual de 1 Tonelada (No incluye: Instalacion y  operario permanente) Valor de 3 a 6 dias (Valor dia)",54740,54740]
[{"$f":"CONCATENATE(B394:B879,\" \",C394:C879)","v":"3070532 Diferencial Manual de 1 Tonelada (No incluye: Instalacion y  operario permanente) Valor de 7 a 18 días (Valor feria)"},3070532,"Diferencial Manual de 1 Tonelada (No incluye: Instalacion y  operario permanente) Valor de 7 a 18 días (Valor feria)",437920,437920]
[{"$f":"CONCATENATE(B395:B880,\" \",C395:C880)","v":"3070533 Motor de elevacion para estructuras de 2 Toneladas (No incluye: Instalacion y operario permanente) Valor evento 1 día"},3070533,"Motor de elevacion para estructuras de 2 Toneladas (No incluye: Instalacion y operario permanente) Valor evento 1 día",447678,447678]
[{"$f":"CONCATENATE(B396:B881,\" \",C396:C881)","v":"3070533 Motor de elevacion para estructuras de 2 Toneladas (No incluye: Instalacion y operario permanente) Valor evento 2 dias (Valor dia)"},3070533,"Motor de elevacion para estructuras de 2 Toneladas (No incluye: Instalacion y operario permanente) Valor evento 2 dias (Valor dia)",447678,447678]
[{"$f":"CONCATENATE(B397:B882,\" \",C397:C882)","v":"3070533 Motor de elevacion para estructuras de 2 Toneladas (No incluye: Instalacion y operario permanente) Valor de 3 a 6 dias (Valor dia)"},3070533,"Motor de elevacion para estructuras de 2 Toneladas (No incluye: Instalacion y operario permanente) Valor de 3 a 6 dias (Valor dia)",402934,402934]
[{"$f":"CONCATENATE(B398:B883,\" \",C398:C883)","v":"3070533 Motor de elevacion para estructuras de 2 Toneladas (No incluye: Instalacion y operario permanente) Valor de 7 a 18 días (Valor feria)"},3070533,"Motor de elevacion para estructuras de 2 Toneladas (No incluye: Instalacion y operario permanente) Valor de 7 a 18 días (Valor feria)",2910026,2910026]
[{"$f":"CONCATENATE(B399:B884,\" \",C399:C884)","v":"3071285 Pasador de diapositivas USB de mediano alcance con puntero Laser (Incluye: 2 baterias) Valor evento 1 día"},3071285,"Pasador de diapositivas USB de mediano alcance con puntero Laser (Incluye: 2 baterias) Valor evento 1 día",24871,24871]
[{"$f":"CONCATENATE(B400:B885,\" \",C400:C885)","v":"3071285 Pasador de diapositivas USB de mediano alcance con puntero Laser (Incluye: 2 baterias) Valor evento 2 dias (Valor dia)"},3071285,"Pasador de diapositivas USB de mediano alcance con puntero Laser (Incluye: 2 baterias) Valor evento 2 dias (Valor dia)",24871,24871]
[{"$f":"CONCATENATE(B401:B886,\" \",C401:C886)","v":"3071285 Pasador de diapositivas USB de mediano alcance con puntero Laser (Incluye: 2 baterias) Valor de 3 a 6 dias (Valor dia)"},3071285,"Pasador de diapositivas USB de mediano alcance con puntero Laser (Incluye: 2 baterias) Valor de 3 a 6 dias (Valor dia)",22729,22729]
[{"$f":"CONCATENATE(B402:B887,\" \",C402:C887)","v":"3071285 Pasador de diapositivas USB de mediano alcance con puntero Laser (Incluye: 2 baterias) Valor de 7 a 18 días (Valor feria)"},3071285,"Pasador de diapositivas USB de mediano alcance con puntero Laser (Incluye: 2 baterias) Valor de 7 a 18 días (Valor feria)",160769,160769]
[{"$f":"CONCATENATE(B403:B888,\" \",C403:C888)","v":"3070534 Tecnico Audiovisual de soporte y apoyo / valor por 8 horas Valor evento 1 día"},3070534,"Tecnico Audiovisual de soporte y apoyo / valor por 8 horas Valor evento 1 día",198968,198968]
[{"$f":"CONCATENATE(B404:B889,\" \",C404:C889)","v":"3070534 Tecnico Audiovisual de soporte y apoyo / valor por 8 horas Valor evento 2 dias (Valor dia)"},3070534,"Tecnico Audiovisual de soporte y apoyo / valor por 8 horas Valor evento 2 dias (Valor dia)",198968,198968]
[{"$f":"CONCATENATE(B405:B890,\" \",C405:C890)","v":"3070534 Tecnico Audiovisual de soporte y apoyo / valor por 8 horas Valor de 3 a 6 dias (Valor dia)"},3070534,"Tecnico Audiovisual de soporte y apoyo / valor por 8 horas Valor de 3 a 6 dias (Valor dia)",191233,191233]
[{"$f":"CONCATENATE(B406:B891,\" \",C406:C891)","v":"3070534 Tecnico Audiovisual de soporte y apoyo / valor por 8 horas Valor de 7 a 18 días (Valor feria)"},3070534,"Tecnico Audiovisual de soporte y apoyo / valor por 8 horas Valor de 7 a 18 días (Valor feria)",1364930,1364930]
[{"$f":"CONCATENATE(B407:B892,\" \",C407:C892)","v":"3071300 Tecnico Audiovisual de soporte hora adicional, despues de 8 horas (diurno, nocturno, festivo diurno, festivo nocturno) Valor evento 1 día"},3071300,"Tecnico Audiovisual de soporte hora adicional, despues de 8 horas (diurno, nocturno, festivo diurno, festivo nocturno) Valor evento 1 día",41769,41769]
[{"$f":"CONCATENATE(B408:B893,\" \",C408:C893)","v":"3071300 Tecnico Audiovisual de soporte hora adicional, despues de 8 horas (diurno, nocturno, festivo diurno, festivo nocturno) Valor evento 2 dias (Valor dia)"},3071300,"Tecnico Audiovisual de soporte hora adicional, despues de 8 horas (diurno, nocturno, festivo diurno, festivo nocturno) Valor evento 2 dias (Valor dia)",41769,41769]
[{"$f":"CONCATENATE(B409:B894,\" \",C409:C894)","v":"3071300 Tecnico Audiovisual de soporte hora adicional, despues de 8 horas (diurno, nocturno, festivo diurno, festivo nocturno) Valor de 3 a 6 dias (Valor dia)"},3071300,"Tecnico Audiovisual de soporte hora adicional, despues de 8 horas (diurno, nocturno, festivo diurno, festivo nocturno) Valor de 3 a 6 dias (Valor dia)",41769,41769]
[{"$f":"CONCATENATE(B410:B895,\" \",C410:C895)","v":"3071300 Tecnico Audiovisual de soporte hora adicional, despues de 8 horas (diurno, nocturno, festivo diurno, festivo nocturno) Valor de 7 a 18 días (Valor feria)"},3071300,"Tecnico Audiovisual de soporte hora adicional, despues de 8 horas (diurno, nocturno, festivo diurno, festivo nocturno) Valor de 7 a 18 días (Valor feria)",41769,41769]
[{"$f":"CONCATENATE(B411:B896,\" \",C411:C896)","v":"30713209 Leeko Led White Valor evento 1 día"},30713209,"Leeko Led White Valor evento 1 día",198968,198968]
[{"$f":"CONCATENATE(B412:B897,\" \",C412:C897)","v":"30713209 Leeko Led White Valor evento 2 dias (Valor dia)"},30713209,"Leeko Led White Valor evento 2 dias (Valor dia)",198968,198968]
[{"$f":"CONCATENATE(B413:B898,\" \",C413:C898)","v":"30713209 Leeko Led White Valor de 3 a 6 dias (Valor dia)"},30713209,"Leeko Led White Valor de 3 a 6 dias (Valor dia)",180166,180166]
[{"$f":"CONCATENATE(B414:B899,\" \",C414:C899)","v":"30713209 Leeko Led White Valor de 7 a 18 días (Valor feria)"},30713209,"Leeko Led White Valor de 7 a 18 días (Valor feria)",1261519,1261519]
[{"$f":"CONCATENATE(B415:B900,\" \",C415:C900)","v":"30713210 Camara de Humo - incluye 200 mlt de liquido de Humo Valor evento 1 día"},30713210,"Camara de Humo - incluye 200 mlt de liquido de Humo Valor evento 1 día",167671,167671]
[{"$f":"CONCATENATE(B416:B901,\" \",C416:C901)","v":"30713210 Camara de Humo - incluye 200 mlt de liquido de Humo Valor evento 2 dias (Valor dia)"},30713210,"Camara de Humo - incluye 200 mlt de liquido de Humo Valor evento 2 dias (Valor dia)",167671,167671]
[{"$f":"CONCATENATE(B417:B902,\" \",C417:C902)","v":"30713210 Camara de Humo - incluye 200 mlt de liquido de Humo Valor de 3 a 6 dias (Valor dia)"},30713210,"Camara de Humo - incluye 200 mlt de liquido de Humo Valor de 3 a 6 dias (Valor dia)",150892,150892]
[{"$f":"CONCATENATE(B418:B903,\" \",C418:C903)","v":"30713210 Camara de Humo - incluye 200 mlt de liquido de Humo Valor de 7 a 18 días (Valor feria)"},30713210,"Camara de Humo - incluye 200 mlt de liquido de Humo Valor de 7 a 18 días (Valor feria)",1206898,1206898]
[{"$f":"CONCATENATE(B419:B904,\" \",C419:C904)","v":"30713211 Barra de Luz Led RGB Valor evento 1 día"},30713211,"Barra de Luz Led RGB Valor evento 1 día",95795,95795]
[{"$f":"CONCATENATE(B420:B905,\" \",C420:C905)","v":"30713211 Barra de Luz Led RGB Valor evento 2 dias (Valor dia)"},30713211,"Barra de Luz Led RGB Valor evento 2 dias (Valor dia)",95795,95795]
[{"$f":"CONCATENATE(B421:B906,\" \",C421:C906)","v":"30713211 Barra de Luz Led RGB Valor de 3 a 6 dias (Valor dia)"},30713211,"Barra de Luz Led RGB Valor de 3 a 6 dias (Valor dia)",86156,86156]
[{"$f":"CONCATENATE(B422:B907,\" \",C422:C907)","v":"30713211 Barra de Luz Led RGB Valor de 7 a 18 días (Valor feria)"},30713211,"Barra de Luz Led RGB Valor de 7 a 18 días (Valor feria)",689367,689367]
[{"$f":"CONCATENATE(B423:B908,\" \",C423:C908)","v":"30713212 Sistema de monitoreo In-Ear (No incluye: Baterias y audifonos) Valor evento 1 día"},30713212,"Sistema de monitoreo In-Ear (No incluye: Baterias y audifonos) Valor evento 1 día",232407,232407]
[{"$f":"CONCATENATE(B424:B909,\" \",C424:C909)","v":"30713212 Sistema de monitoreo In-Ear (No incluye: Baterias y audifonos) Valor evento 2 dias (Valor dia)"},30713212,"Sistema de monitoreo In-Ear (No incluye: Baterias y audifonos) Valor evento 2 dias (Valor dia)",232407,232407]
[{"$f":"CONCATENATE(B425:B910,\" \",C425:C910)","v":"30713212 Sistema de monitoreo In-Ear (No incluye: Baterias y audifonos) Valor de 3 a 6 dias (Valor dia)"},30713212,"Sistema de monitoreo In-Ear (No incluye: Baterias y audifonos) Valor de 3 a 6 dias (Valor dia)",209202,209202]
[{"$f":"CONCATENATE(B426:B911,\" \",C426:C911)","v":"30713212 Sistema de monitoreo In-Ear (No incluye: Baterias y audifonos) Valor de 7 a 18 días (Valor feria)"},30713212,"Sistema de monitoreo In-Ear (No incluye: Baterias y audifonos) Valor de 7 a 18 días (Valor feria)",1673497,1673497]
[{"$f":"CONCATENATE(B427:B912,\" \",C427:C912)","v":"30713213 Tarima en madera negra / valor por Mt2 instalado (incluye faldon para tarima negro) Valor evento 1 día"},30713213,"Tarima en madera negra / valor por Mt2 instalado (incluye faldon para tarima negro) Valor evento 1 día",18683,18683]
[{"$f":"CONCATENATE(B428:B913,\" \",C428:C913)","v":"30713213 Tarima en madera negra / valor por Mt2 instalado (incluye faldon para tarima negro) Valor evento 2 dias (Valor dia)"},30713213,"Tarima en madera negra / valor por Mt2 instalado (incluye faldon para tarima negro) Valor evento 2 dias (Valor dia)",18683,18683]
[{"$f":"CONCATENATE(B429:B914,\" \",C429:C914)","v":"30713213 Tarima en madera negra / valor por Mt2 instalado (incluye faldon para tarima negro) Valor de 3 a 6 dias (Valor dia)"},30713213,"Tarima en madera negra / valor por Mt2 instalado (incluye faldon para tarima negro) Valor de 3 a 6 dias (Valor dia)",17017,17017]
[{"$f":"CONCATENATE(B430:B915,\" \",C430:C915)","v":"30713213 Tarima en madera negra / valor por Mt2 instalado (incluye faldon para tarima negro) Valor de 7 a 18 días (Valor feria)"},30713213,"Tarima en madera negra / valor por Mt2 instalado (incluye faldon para tarima negro) Valor de 7 a 18 días (Valor feria)",119238,119238]
[{"$f":"CONCATENATE(B431:B916,\" \",C431:C916)","v":"3071212 Computador portatil de 14\" sistema operativo Windows 10, tarjeta Ram de 4GB, DD 256GB Valor evento 1 día"},3071212,"Computador portatil de 14\" sistema operativo Windows 10, tarjeta Ram de 4GB, DD 256GB Valor evento 1 día",99484,99484]
[{"$f":"CONCATENATE(B432:B917,\" \",C432:C917)","v":"3071212 Computador portatil de 14\" sistema operativo Windows 10, tarjeta Ram de 4GB, DD 256GB Valor evento 2 dias (Valor dia)"},3071212,"Computador portatil de 14\" sistema operativo Windows 10, tarjeta Ram de 4GB, DD 256GB Valor evento 2 dias (Valor dia)",99484,99484]
[{"$f":"CONCATENATE(B433:B918,\" \",C433:C918)","v":"3071212 Computador portatil de 14\" sistema operativo Windows 10, tarjeta Ram de 4GB, DD 256GB Valor de 3 a 6 dias (Valor dia)"},3071212,"Computador portatil de 14\" sistema operativo Windows 10, tarjeta Ram de 4GB, DD 256GB Valor de 3 a 6 dias (Valor dia)",90083,90083]
[{"$f":"CONCATENATE(B434:B919,\" \",C434:C919)","v":"3071212 Computador portatil de 14\" sistema operativo Windows 10, tarjeta Ram de 4GB, DD 256GB Valor de 7 a 18 días (Valor feria)"},3071212,"Computador portatil de 14\" sistema operativo Windows 10, tarjeta Ram de 4GB, DD 256GB Valor de 7 a 18 días (Valor feria)",642600,642600]
[{"$f":"CONCATENATE(B435:B920,\" \",C435:C920)","v":"3071212 Portátil Apple Macbook Air Core I5 1.6Ghz 8Gb 128Gb Ssd 13.3 pulgadas Silver Valor evento 1 día"},3071212,"Portátil Apple Macbook Air Core I5 1.6Ghz 8Gb 128Gb Ssd 13.3 pulgadas Silver Valor evento 1 día",309519,309519]
[{"$f":"CONCATENATE(B436:B921,\" \",C436:C921)","v":"3071212 Portátil Apple Macbook Air Core I5 1.6Ghz 8Gb 128Gb Ssd 13.3 pulgadas Silver Valor evento 2 dias (Valor dia)"},3071212,"Portátil Apple Macbook Air Core I5 1.6Ghz 8Gb 128Gb Ssd 13.3 pulgadas Silver Valor evento 2 dias (Valor dia)",309519,309519]
[{"$f":"CONCATENATE(B437:B922,\" \",C437:C922)","v":"3071212 Portátil Apple Macbook Air Core I5 1.6Ghz 8Gb 128Gb Ssd 13.3 pulgadas Silver Valor de 3 a 6 dias (Valor dia)"},3071212,"Portátil Apple Macbook Air Core I5 1.6Ghz 8Gb 128Gb Ssd 13.3 pulgadas Silver Valor de 3 a 6 dias (Valor dia)",278579,278579]
[{"$f":"CONCATENATE(B438:B923,\" \",C438:C923)","v":"3071212 Portátil Apple Macbook Air Core I5 1.6Ghz 8Gb 128Gb Ssd 13.3 pulgadas Silver Valor de 7 a 18 días (Valor feria)"},3071212,"Portátil Apple Macbook Air Core I5 1.6Ghz 8Gb 128Gb Ssd 13.3 pulgadas Silver Valor de 7 a 18 días (Valor feria)",2236010,2236010]
[{"$f":"CONCATENATE(B439:B924,\" \",C439:C924)","v":"3071237 Computador de escritorio, sistema operativo Windows 10, tarjeta Ram de 8GB, DD 256GB Valor evento 1 día"},3071237,"Computador de escritorio, sistema operativo Windows 10, tarjeta Ram de 8GB, DD 256GB Valor evento 1 día",99484,99484]
[{"$f":"CONCATENATE(B440:B925,\" \",C440:C925)","v":"3071237 Computador de escritorio, sistema operativo Windows 10, tarjeta Ram de 8GB, DD 256GB Valor evento 2 dias (Valor dia)"},3071237,"Computador de escritorio, sistema operativo Windows 10, tarjeta Ram de 8GB, DD 256GB Valor evento 2 dias (Valor dia)",99484,99484]
[{"$f":"CONCATENATE(B441:B926,\" \",C441:C926)","v":"3071237 Computador de escritorio, sistema operativo Windows 10, tarjeta Ram de 8GB, DD 256GB Valor de 3 a 6 dias (Valor dia)"},3071237,"Computador de escritorio, sistema operativo Windows 10, tarjeta Ram de 8GB, DD 256GB Valor de 3 a 6 dias (Valor dia)",90559,90559]
[{"$f":"CONCATENATE(B442:B915,\" \",C442:C915)","v":"3071237 Computador de escritorio, sistema operativo Windows 10, tarjeta Ram de 8GB, DD 256GB Valor de 7 a 18 días (Valor feria)"},3071237,"Computador de escritorio, sistema operativo Windows 10, tarjeta Ram de 8GB, DD 256GB Valor de 7 a 18 días (Valor feria)",646527,646527]
[{"$f":"CONCATENATE(B443:B916,\" \",C443:C916)","v":"3071312 Aseo permanente 8 horas 1 Operario (valor por dia) Día ordinario"},3071312,"Aseo permanente 8 horas 1 Operario (valor por dia) Día ordinario",102221,102221]
[{"$f":"CONCATENATE(B444:B917,\" \",C444:C917)","v":"3071312 Aseo permanente 8 horas 1 Operario (valor por dia) Día dominical o festivo"},3071312,"Aseo permanente 8 horas 1 Operario (valor por dia) Día dominical o festivo",179571,179571]
[{"$f":"CONCATENATE(B445:B921,\" \",C445:C921)","v":"3071433 Corferias Conecta  APP (incluye el internet para un equipo)"},3071433,"Corferias Conecta  APP (incluye el internet para un equipo)",336889,336889]
[{"$f":"CONCATENATE(B446:B922,\" \",C446:C922)","v":"3071432 Corferias Conecta  APP + Tablet con internet"},3071432,"Corferias Conecta  APP + Tablet con internet",466599,466599]
[{"$f":"CONCATENATE(B447:B923,\" \",C447:C923)","v":"3071431 Tablet adicional con internet"},3071431,"Tablet adicional con internet",311066,311066]
[{"$f":"CONCATENATE(B448:B924,\" \",C448:C924)","v":"3071326 Internet adicional para la app por equipo"},3071326,"Internet adicional para la app por equipo",111265,111265]

{"sheet":"FERIAS DE 4 A 6 DIAS","index":2,"n_rows":448,"n_cols":5,"rows_kept":448,"cut":false,"hidden":true,"merged":[]}
["CLAVE","CODIGO","DESCRIPCIÓN","FORMULA","VALOR"]
[{"$f":"CONCATENATE(B2:B494,\" \",C2:C494)","v":"3070101 Instalación Monofásica (Toma corriente doble, consumo hasta 2KW/110V) valor de 1 a 6 dias"},3070101,"Instalación Monofásica (Toma corriente doble, consumo hasta 2KW/110V) valor de 1 a 6 dias",{"$f":"IF('FERIAS 3 DIAS'!G$3=TRUE,'FERIAS DE 4 A 6 DIAS'!E2/'FERIAS 3 DIAS'!I$3,'FERIAS DE 4 A 6 DIAS'!E2)","v":364140},364140]
[{"$f":"CONCATENATE(B3:B495,\" \",C3:C495)","v":"3070103 Instalación kilovatio adicional monofásico (Debe contar con punto principal, MAX 2KW por punto)"},3070103,"Instalación kilovatio adicional monofásico (Debe contar con punto principal, MAX 2KW por punto)",{"$f":"IF('FERIAS 3 DIAS'!G$3=TRUE,'FERIAS DE 4 A 6 DIAS'!E3/'FERIAS 3 DIAS'!I$3,'FERIAS DE 4 A 6 DIAS'!E3)","v":127092},127092]
[{"$f":"CONCATENATE(B4:B496,\" \",C4:C496)","v":"3070102 Instalación trifásica (Regleta plastica, consumo hasta 4KW/208V)"},3070102,"Instalación trifásica (Regleta plastica, consumo hasta 4KW/208V)",{"$f":"IF('FERIAS 3 DIAS'!G$3=TRUE,'FERIAS DE 4 A 6 DIAS'!E4/'FERIAS 3 DIAS'!I$3,'FERIAS DE 4 A 6 DIAS'!E4)","v":678062},678062]
[{"$f":"CONCATENATE(B5:B497,\" \",C5:C497)","v":"3070104 Instalación kilovatio adicional trifásico (Debe contar con punto principal)"},3070104,"Instalación kilovatio adicional trifásico (Debe contar con punto principal)",{"$f":"IF('FERIAS 3 DIAS'!G$3=TRUE,'FERIAS DE 4 A 6 DIAS'!E5/'FERIAS 3 DIAS'!I$3,'FERIAS DE 4 A 6 DIAS'!E5)","v":165886},165886]
[{"$f":"CONCATENATE(B6:B498,\" \",C6:C498)","v":"3071372 De 21 a 50 kilovatios adicionales trifásicos (Valor por KW) (Debe contar con punto principal)"},3071372,"De 21 a 50 kilovatios adicionales trifásicos (Valor por KW) (Debe contar con punto principal)",{"$f":"IF('FERIAS 3 DIAS'!G$3=TRUE,'FERIAS DE 4 A 6 DIAS'!E6/'FERIAS 3 DIAS'!I$3,'FERIAS DE 4 A 6 DIAS'!E6)","v":150892},150892]
[{"$f":"CONCATENATE(B7:B499,\" \",C7:C499)","v":"3071373 De 51 a 100 kilovatios adicionales trifásicos (Valor por KW) (Debe contar con punto principal)"},3071373,"De 51 a 100 kilovatios adicionales trifásicos (Valor por KW) (Debe contar con punto principal)",{"$f":"IF('FERIAS 3 DIAS'!G$3=TRUE,'FERIAS DE 4 A 6 DIAS'!E7/'FERIAS 3 DIAS'!I$3,'FERIAS DE 4 A 6 DIAS'!E7)","v":144228},144228]
[{"$f":"CONCATENATE(B8:B500,\" \",C8:C500)","v":"3071374 Mas de100 kilovatios adicionales trifásicos (Valor por KW) (Debe contar con punto principal)"},3071374,"Mas de100 kilovatios adicionales trifásicos (Valor por KW) (Debe contar con punto principal)",{"$f":"IF('FERIAS 3 DIAS'!G$3=TRUE,'FERIAS DE 4 A 6 DIAS'!E8/'FERIAS 3 DIAS'!I$3,'FERIAS DE 4 A 6 DIAS'!E8)","v":138278},138278]
[{"$f":"CONCATENATE(B9:B501,\" \",C9:C501)","v":"3070402 Lampara de pared ajustable (150W/110V)"},3070402,"Lampara de pared ajustable (150W/110V)",{"$f":"IF('FERIAS 3 DIAS'!G$3=TRUE,'FERIAS DE 4 A 6 DIAS'!E9/'FERIAS 3 DIAS'!I$3,'FERIAS DE 4 A 6 DIAS'!E9)","v":73542},73542]
[{"$f":"CONCATENATE(B10:B502,\" \",C10:C502)","v":"3070405 Reflector Led (50W- mltV)"},3070405,"Reflector Led (50W- mltV)",{"$f":"IF('FERIAS 3 DIAS'!G$3=TRUE,'FERIAS DE 4 A 6 DIAS'!E10/'FERIAS 3 DIAS'!I$3,'FERIAS DE 4 A 6 DIAS'!E10)","v":77350},77350]
[{"$f":"CONCATENATE(B11:B503,\" \",C11:C503)","v":"3070403 Extensión – tomacorriente doble con polo a tierra (1500W/110V) MAX 6mts "},3070403,"Extensión – tomacorriente doble con polo a tierra (1500W/110V) MAX 6mts ",{"$f":"IF('FERIAS 3 DIAS'!G$3=TRUE,'FERIAS DE 4 A 6 DIAS'!E11/'FERIAS 3 DIAS'!I$3,'FERIAS DE 4 A 6 DIAS'!E11)","v":38080},38080]
[{"$f":"CONCATENATE(B12:B504,\" \",C12:C504)","v":"3071345 Lavaplatos 90XL* 60XH* 90 (No incluye agua y desague) valor de 1 a 6 dias"},3071345,"Lavaplatos 90XL* 60XH* 90 (No incluye agua y desague) valor de 1 a 6 dias",{"$f":"IF('FERIAS 3 DIAS'!G$3=TRUE,'FERIAS DE 4 A 6 DIAS'!E12/'FERIAS 3 DIAS'!I$3,'FERIAS DE 4 A 6 DIAS'!E12)","v":168028},168028]
[{"$f":"CONCATENATE(B13:B505,\" \",C13:C505)","v":"3070301 Punto de Agua en 1/2\" (incluye consumo) valor de 1 a 6 dias"},3070301,"Punto de Agua en 1/2\" (incluye consumo) valor de 1 a 6 dias",{"$f":"IF('FERIAS 3 DIAS'!G$3=TRUE,'FERIAS DE 4 A 6 DIAS'!E13/'FERIAS 3 DIAS'!I$3,'FERIAS DE 4 A 6 DIAS'!E13)","v":355096},355096]
[{"$f":"CONCATENATE(B14:B506,\" \",C14:C506)","v":"3070302 Desagüe en 1 1/2\" Por toda la feria (Ubicación asignada por Corferias en su stand) valor de 1 a 6 dias"},3070302,"Desagüe en 1 1/2\" Por toda la feria (Ubicación asignada por Corferias en su stand) valor de 1 a 6 dias",{"$f":"IF('FERIAS 3 DIAS'!G$3=TRUE,'FERIAS DE 4 A 6 DIAS'!E14/'FERIAS 3 DIAS'!I$3,'FERIAS DE 4 A 6 DIAS'!E14)","v":328678},328678]
[{"$f":"CONCATENATE(B15:B507,\" \",C15:C507)","v":"3071341 Aire comprimido para punto con presión máx. de 100 PSI, y caudal máx. 35CFM. valor de 1 a 6 dias"},3071341,"Aire comprimido para punto con presión máx. de 100 PSI, y caudal máx. 35CFM. valor de 1 a 6 dias",{"$f":"IF('FERIAS 3 DIAS'!G$3=TRUE,'FERIAS DE 4 A 6 DIAS'!E15/'FERIAS 3 DIAS'!I$3,'FERIAS DE 4 A 6 DIAS'!E15)","v":475286},475286]
[{"$f":"CONCATENATE(B16:B508,\" \",C16:C508)","v":"3070307 Punto de Agua en 1/2\" (Incluye consumo)  + Desagüe en 1 1/2\" + Lavaplatos valor de 1 a 6 dias"},3070307,"Punto de Agua en 1/2\" (Incluye consumo)  + Desagüe en 1 1/2\" + Lavaplatos valor de 1 a 6 dias",{"$f":"IF('FERIAS 3 DIAS'!G$3=TRUE,'FERIAS DE 4 A 6 DIAS'!E16/'FERIAS 3 DIAS'!I$3,'FERIAS DE 4 A 6 DIAS'!E16)","v":766598},766598]
[{"$f":"CONCATENATE(B17:B509,\" \",C17:C509)","v":"3071321 Instalación de UN (1) punto de gas propano por UN (1) Equipo (Incluye materiales y mano de obra) (No incluye consumo de gas, este será liquidado a través de un medidor una vez finalice la feria y/o evento)"},3071321,"Instalación de UN (1) punto de gas propano por UN (1) Equipo (Incluye materiales y mano de obra) (No incluye consumo de gas, este será liquidado a través de un medidor una vez finalice la feria y/o evento)",{"$f":"IF('FERIAS 3 DIAS'!G$3=TRUE,'FERIAS DE 4 A 6 DIAS'!E17/'FERIAS 3 DIAS'!I$3,'FERIAS DE 4 A 6 DIAS'!E17)","v":102102},102102]
[{"$f":"CONCATENATE(B18:B510,\" \",C18:C510)","v":"3070601 Panel adicional sistema cfe 100cm x 240cm"},3070601,"Panel adicional sistema cfe 100cm x 240cm",{"$f":"IF('FERIAS 3 DIAS'!G$3=TRUE,'FERIAS DE 4 A 6 DIAS'!E18/'FERIAS 3 DIAS'!I$3,'FERIAS DE 4 A 6 DIAS'!E18)","v":39151},39151]
[{"$f":"CONCATENATE(B19:B511,\" \",C19:C511)","v":"3070801 Puerta sistema cfe 90cm x 240cm"},3070801,"Puerta sistema cfe 90cm x 240cm",{"$f":"IF('FERIAS 3 DIAS'!G$3=TRUE,'FERIAS DE 4 A 6 DIAS'!E19/'FERIAS 3 DIAS'!I$3,'FERIAS DE 4 A 6 DIAS'!E19)","v":97104},97104]
[{"$f":"CONCATENATE(B20:B512,\" \",C20:C512)","v":"3070803 Bodega estándar con puerta 150cm x 150cm (Sistema Corferias)"},3070803,"Bodega estándar con puerta 150cm x 150cm (Sistema Corferias)",{"$f":"IF('FERIAS 3 DIAS'!G$3=TRUE,'FERIAS DE 4 A 6 DIAS'!E20/'FERIAS 3 DIAS'!I$3,'FERIAS DE 4 A 6 DIAS'!E20)","v":154938},154938]
[{"$f":"CONCATENATE(B21:B513,\" \",C21:C513)","v":"3071319 Brazo Mecánico por Fracciòn de 15 min (Solo para primer nivel)"},3071319,"Brazo Mecánico por Fracciòn de 15 min (Solo para primer nivel)",{"$f":"IF('FERIAS 3 DIAS'!G$3=TRUE,'FERIAS DE 4 A 6 DIAS'!E21/'FERIAS 3 DIAS'!I$3,'FERIAS DE 4 A 6 DIAS'!E21)","v":66400},66400]
[{"$f":"CONCATENATE(B22:B514,\" \",C22:C514)","v":"3071319 Brazo Mecánico por Fracciòn de 30 min (Solo para primer nivel)"},3071319,"Brazo Mecánico por Fracciòn de 30 min (Solo para primer nivel)",{"$f":"IF('FERIAS 3 DIAS'!G$3=TRUE,'FERIAS DE 4 A 6 DIAS'!E22/'FERIAS 3 DIAS'!I$3,'FERIAS DE 4 A 6 DIAS'!E22)","v":113500},113500]
[{"$f":"CONCATENATE(B23:B516,\" \",C23:C516)","v":"3071319 Brazo Mecánico por Fracciòn de 60 min (Solo para primer nivel)"},3071319,"Brazo Mecánico por Fracciòn de 60 min (Solo para primer nivel)",{"$f":"IF('FERIAS 3 DIAS'!G$3=TRUE,'FERIAS DE 4 A 6 DIAS'!E23/'FERIAS 3 DIAS'!I$3,'FERIAS DE 4 A 6 DIAS'!E23)","v":201700},201700]
[{"$f":"CONCATENATE(B24:B517,\" \",C24:C517)","v":"3070413 Diferencial (Cap. 1 Ton.) + Brazo mecánico (Montaje y desmontaje) "},3070413,"Diferencial (Cap. 1 Ton.) + Brazo mecánico (Montaje y desmontaje) ",{"$f":"IF('FERIAS 3 DIAS'!G$3=TRUE,'FERIAS DE 4 A 6 DIAS'!E24/'FERIAS 3 DIAS'!I$3,'FERIAS DE 4 A 6 DIAS'!E24)","v":313300},313300]
[{"$f":"CONCATENATE(B25:B518,\" \",C25:C518)","v":"3070414 Plataforma Tijera eléctrica por Fracciòn /30 min (Uso para segundos niveles)"},3070414,"Plataforma Tijera eléctrica por Fracciòn /30 min (Uso para segundos niveles)",{"$f":"IF('FERIAS 3 DIAS'!G$3=TRUE,'FERIAS DE 4 A 6 DIAS'!E25/'FERIAS 3 DIAS'!I$3,'FERIAS DE 4 A 6 DIAS'!E25)","v":78000},78000]
[{"$f":"CONCATENATE(B26:B519,\" \",C26:C519)","v":"3071387 Brazo mecánico + Diferencial + TRUSS 2,60 X 2,60"},3071387,"Brazo mecánico + Diferencial + TRUSS 2,60 X 2,60",{"$f":"IF('FERIAS 3 DIAS'!G$3=TRUE,'FERIAS DE 4 A 6 DIAS'!E26/'FERIAS 3 DIAS'!I$3,'FERIAS DE 4 A 6 DIAS'!E26)","v":2668000},2668000]
[{"$f":"CONCATENATE(B27:B520,\" \",C27:C520)","v":"3071351 Brazo mecánico + Diferencial + TRUSS 3,60 X 2,60"},3071351,"Brazo mecánico + Diferencial + TRUSS 3,60 X 2,60",{"$f":"IF('FERIAS 3 DIAS'!G$3=TRUE,'FERIAS DE 4 A 6 DIAS'!E27/'FERIAS 3 DIAS'!I$3,'FERIAS DE 4 A 6 DIAS'!E27)","v":2668000},2668000]
[{"$f":"CONCATENATE(B28:B521,\" \",C28:C521)","v":"3071395 Brazo mecánico + Diferencial + TRUSS 3,60 X 3,60"},3071395,"Brazo mecánico + Diferencial + TRUSS 3,60 X 3,60",{"$f":"IF('FERIAS 3 DIAS'!G$3=TRUE,'FERIAS DE 4 A 6 DIAS'!E28/'FERIAS 3 DIAS'!I$3,'FERIAS DE 4 A 6 DIAS'!E28)","v":2668000},2668000]
[{"$f":"CONCATENATE(B29:B522,\" \",C29:C522)","v":"3071324 Brazo mecánico + Diferencial + TRUSS 5,90 X 5,90"},3071324,"Brazo mecánico + Diferencial + TRUSS 5,90 X 5,90",{"$f":"IF('FERIAS 3 DIAS'!G$3=TRUE,'FERIAS DE 4 A 6 DIAS'!E29/'FERIAS 3 DIAS'!I$3,'FERIAS DE 4 A 6 DIAS'!E29)","v":3335000},3335000]
[{"$f":"CONCATENATE(B30:B523,\" \",C30:C523)","v":"3071436 Brazo mecánico + Diferencial + TRUSS 6,90 X 6,90"},3071436,"Brazo mecánico + Diferencial + TRUSS 6,90 X 6,90",{"$f":"IF('FERIAS 3 DIAS'!G$3=TRUE,'FERIAS DE 4 A 6 DIAS'!E30/'FERIAS 3 DIAS'!I$3,'FERIAS DE 4 A 6 DIAS'!E30)","v":3335000},3335000]
[{"$f":"CONCATENATE(B31:B524,\" \",C31:C524)","v":"3071350 Brazo mecánico + Diferencial + TRUSS 5,60 X 5,60"},3071350,"Brazo mecánico + Diferencial + TRUSS 5,60 X 5,60",{"$f":"IF('FERIAS 3 DIAS'!G$3=TRUE,'FERIAS DE 4 A 6 DIAS'!E31/'FERIAS 3 DIAS'!I$3,'FERIAS DE 4 A 6 DIAS'!E31)","v":3335000},3335000]
[{"$f":"CONCATENATE(B32:B525,\" \",C32:C525)","v":"3071371 Brazo mecánico + Diferencial + TRUSS 6,60 X 6,60"},3071371,"Brazo mecánico + Diferencial + TRUSS 6,60 X 6,60",{"$f":"IF('FERIAS 3 DIAS'!G$3=TRUE,'FERIAS DE 4 A 6 DIAS'!E32/'FERIAS 3 DIAS'!I$3,'FERIAS DE 4 A 6 DIAS'!E32)","v":3335000},3335000]
[{"$f":"CONCATENATE(B33:B526,\" \",C33:C526)","v":"3071393 Brazo mecánico + Diferencial + TRUSS 9,60 X 2,60"},3071393,"Brazo mecánico + Diferencial + TRUSS 9,60 X 2,60",{"$f":"IF('FERIAS 3 DIAS'!G$3=TRUE,'FERIAS DE 4 A 6 DIAS'!E33/'FERIAS 3 DIAS'!I$3,'FERIAS DE 4 A 6 DIAS'!E33)","v":3335000},3335000]
[{"$f":"CONCATENATE(B34:B527,\" \",C34:C527)","v":"3071394 Brazo mecánico + Diferencial + TRUSS 9,60 X 3,60"},3071394,"Brazo mecánico + Diferencial + TRUSS 9,60 X 3,60",{"$f":"IF('FERIAS 3 DIAS'!G$3=TRUE,'FERIAS DE 4 A 6 DIAS'!E34/'FERIAS 3 DIAS'!I$3,'FERIAS DE 4 A 6 DIAS'!E34)","v":3335000},3335000]
[{"$f":"CONCATENATE(B35:B528,\" \",C35:C528)","v":"3071396 Brazo mecánico + Diferencial + TRUSS 9,60 X 5,60"},3071396,"Brazo mecánico + Diferencial + TRUSS 9,60 X 5,60",{"$f":"IF('FERIAS 3 DIAS'!G$3=TRUE,'FERIAS DE 4 A 6 DIAS'!E35/'FERIAS 3 DIAS'!I$3,'FERIAS DE 4 A 6 DIAS'!E35)","v":4416000},4416000]
[{"$f":"CONCATENATE(B36:B529,\" \",C36:C529)","v":"3071397 Brazo mecánico + Diferencial + TRUSS 9,60 X 6,60"},3071397,"Brazo mecánico + Diferencial + TRUSS 9,60 X 6,60",{"$f":"IF('FERIAS 3 DIAS'!G$3=TRUE,'FERIAS DE 4 A 6 DIAS'!E36/'FERIAS 3 DIAS'!I$3,'FERIAS DE 4 A 6 DIAS'!E36)","v":4416000},4416000]
[{"$f":"CONCATENATE(B37:B530,\" \",C37:C530)","v":"3071418 Servicio de Internet Cableado \"PARA UN EQUIPO - DURANTE UN DÍA\"  "},3071418,"Servicio de Internet Cableado \"PARA UN EQUIPO - DURANTE UN DÍA\"  ",{"$f":"IF('FERIAS 3 DIAS'!G$3=TRUE,'FERIAS DE 4 A 6 DIAS'!E37/'FERIAS 3 DIAS'!I$3,'FERIAS DE 4 A 6 DIAS'!E37)","v":74970},74970]
[{"$f":"CONCATENATE(B38:B531,\" \",C38:C531)","v":"3071419 Clave de acceso para la red WiFi  \"PARA UN EQUIPO - DURANTE UN DÍA\""},3071419,"Clave de acceso para la red WiFi  \"PARA UN EQUIPO - DURANTE UN DÍA\"",{"$f":"IF('FERIAS 3 DIAS'!G$3=TRUE,'FERIAS DE 4 A 6 DIAS'!E38/'FERIAS 3 DIAS'!I$3,'FERIAS DE 4 A 6 DIAS'!E38)","v":74970},74970]
[{"$f":"CONCATENATE(B39:B532,\" \",C39:C532)","v":"3071417 Servicio de Internet Cableado \"PARA UN EQUIPO - DURANTE TODA LA FERIA\" valor de 4 a 6 dias"},3071417,"Servicio de Internet Cableado \"PARA UN EQUIPO - DURANTE TODA LA FERIA\" valor de 4 a 6 dias",{"$f":"IF('FERIAS 3 DIAS'!G$3=TRUE,'FERIAS DE 4 A 6 DIAS'!E39/'FERIAS 3 DIAS'!I$3,'FERIAS DE 4 A 6 DIAS'!E39)","v":203490},203490]
[{"$f":"CONCATENATE(B40:B533,\" \",C40:C533)","v":"3071420 Clave de acceso para la Red WiFi \"PARA UN EQUIPO - DURANTE TODA LA FERIA\" valor de 4 a 6 dias"},3071420,"Clave de acceso para la Red WiFi \"PARA UN EQUIPO - DURANTE TODA LA FERIA\" valor de 4 a 6 dias",{"$f":"IF('FERIAS 3 DIAS'!G$3=TRUE,'FERIAS DE 4 A 6 DIAS'!E40/'FERIAS 3 DIAS'!I$3,'FERIAS DE 4 A 6 DIAS'!E40)","v":203490},203490]
[{"$f":"CONCATENATE(B41:B534,\" \",C41:C534)","v":"3071423 Conexión para Datafono + Clave de acceso WIFI (Para un equipo durante toda la feria)  valor de 4 a 6 dias"},3071423,"Conexión para Datafono + Clave de acceso WIFI (Para un equipo durante toda la feria)  valor de 4 a 6 dias",{"$f":"IF('FERIAS 3 DIAS'!G$3=TRUE,'FERIAS DE 4 A 6 DIAS'!E41/'FERIAS 3 DIAS'!I$3,'FERIAS DE 4 A 6 DIAS'!E41)","v":314160},314160]
[{"$f":"CONCATENATE(B42:B535,\" \",C42:C535)","v":"3071424 Conexión para Datafono + Servicio de Internet Cableado (Para un equipo durante toda la feria)  valor de 4 a 6 dias"},3071424,"Conexión para Datafono + Servicio de Internet Cableado (Para un equipo durante toda la feria)  valor de 4 a 6 dias",{"$f":"IF('FERIAS 3 DIAS'!G$3=TRUE,'FERIAS DE 4 A 6 DIAS'!E42/'FERIAS 3 DIAS'!I$3,'FERIAS DE 4 A 6 DIAS'!E42)","v":314160},314160]
[{"$f":"CONCATENATE(B43:B536,\" \",C43:C536)","v":"3071425 Servicio de Internet Cableado + Clave de acceso WIFI (Para un equipo durante toda la feria)  valor de 4 a 6 dias"},3071425,"Servicio de Internet Cableado + Clave de acceso WIFI (Para un equipo durante toda la feria)  valor de 4 a 6 dias",{"$f":"IF('FERIAS 3 DIAS'!G$3=TRUE,'FERIAS DE 4 A 6 DIAS'!E43/'FERIAS 3 DIAS'!I$3,'FERIAS DE 4 A 6 DIAS'!E43)","v":366282},366282]
[{"$f":"CONCATENATE(B44:B537,\" \",C44:C537)","v":"3071437 Internet Dedicado: Si requiere conexión banda ancha para diferentes servicios o redes locales, contáctese con serviciosplus@corferias.com para brindarle asesoria y cotización."},3071437,"Internet Dedicado: Si requiere conexión banda ancha para diferentes servicios o redes locales, contáctese con serviciosplus@corferias.com para brindarle asesoria y cotización.",{"$f":"IF('FERIAS 3 DIAS'!G$3=TRUE,'FERIAS DE 4 A 6 DIAS'!E44/'FERIAS 3 DIAS'!I$3,'FERIAS DE 4 A 6 DIAS'!E44)","v":"Según cotización"},"Según cotización"]
[{"$f":"CONCATENATE(B45:B538,\" \",C45:C538)","v":"3071406 Instalación Punto de Red:Incluye un cable UTP por punto"},3071406,"Instalación Punto de Red:Incluye un cable UTP por punto",{"$f":"IF('FERIAS 3 DIAS'!G$3=TRUE,'FERIAS DE 4 A 6 DIAS'!E45/'FERIAS 3 DIAS'!I$3,'FERIAS DE 4 A 6 DIAS'!E45)","v":90797},90797]
[{"$f":"CONCATENATE(B46:B539,\" \",C46:C539)","v":"3071407 Switch VALOR POR FERIA "},3071407,"Switch VALOR POR FERIA ",{"$f":"IF('FERIAS 3 DIAS'!G$3=TRUE,'FERIAS DE 4 A 6 DIAS'!E46/'FERIAS 3 DIAS'!I$3,'FERIAS DE 4 A 6 DIAS'!E46)","v":87346},87346]
[{"$f":"CONCATENATE(B47:B540,\" \",C47:C540)","v":"3071402 Servicio de VLAN: Servicio virtual de red.  VALOR POR FERIA"},3071402,"Servicio de VLAN: Servicio virtual de red.  VALOR POR FERIA",{"$f":"IF('FERIAS 3 DIAS'!G$3=TRUE,'FERIAS DE 4 A 6 DIAS'!E47/'FERIAS 3 DIAS'!I$3,'FERIAS DE 4 A 6 DIAS'!E47)","v":367115},367115]
[{"$f":"CONCATENATE(B48:B541,\" \",C48:C541)","v":"3071430 Extension LAN VALOR POR FERIA  (Incluye punto de red y aplica para extender el servicio de internet contratado con terceros)"},3071430,"Extension LAN VALOR POR FERIA  (Incluye punto de red y aplica para extender el servicio de internet contratado con terceros)",{"$f":"IF('FERIAS 3 DIAS'!G$3=TRUE,'FERIAS DE 4 A 6 DIAS'!E48/'FERIAS 3 DIAS'!I$3,'FERIAS DE 4 A 6 DIAS'!E48)","v":1401344},1401344]
[{"$f":"CONCATENATE(B49:B542,\" \",C49:C542)","v":"3071442 Soporte técnico permanente (Por espacio de 8 horas) de un técnico. VALOR DÍARIO "},3071442,"Soporte técnico permanente (Por espacio de 8 horas) de un técnico. VALOR DÍARIO ",{"$f":"IF('FERIAS 3 DIAS'!G$3=TRUE,'FERIAS DE 4 A 6 DIAS'!E49/'FERIAS 3 DIAS'!I$3,'FERIAS DE 4 A 6 DIAS'!E49)","v":243474},243474]
[{"$f":"CONCATENATE(B50:B543,\" \",C50:C543)","v":"3070202 Servicio Telefónico Urbano con Aparato (Incluye consumo local ilimitado)"},3070202,"Servicio Telefónico Urbano con Aparato (Incluye consumo local ilimitado)",{"$f":"IF('FERIAS 3 DIAS'!G$3=TRUE,'FERIAS DE 4 A 6 DIAS'!E50/'FERIAS 3 DIAS'!I$3,'FERIAS DE 4 A 6 DIAS'!E50)","v":42483},42483]
[{"$f":"CONCATENATE(B51:B544,\" \",C51:C544)","v":"3070203 Servicio Telefónico Larga Distancia con aparato"},3070203,"Servicio Telefónico Larga Distancia con aparato",{"$f":"IF('FERIAS 3 DIAS'!G$3=TRUE,'FERIAS DE 4 A 6 DIAS'!E51/'FERIAS 3 DIAS'!I$3,'FERIAS DE 4 A 6 DIAS'!E51)","v":42483},42483]
[{"$f":"CONCATENATE(B52:B545,\" \",C52:C545)","v":"3070201 Línea Externa no conmutada (Previa solicitud a Etb, Claro, EPM, Colomsat u otro operador)"},3070201,"Línea Externa no conmutada (Previa solicitud a Etb, Claro, EPM, Colomsat u otro operador)",{"$f":"IF('FERIAS 3 DIAS'!G$3=TRUE,'FERIAS DE 4 A 6 DIAS'!E52/'FERIAS 3 DIAS'!I$3,'FERIAS DE 4 A 6 DIAS'!E52)","v":120071},120071]
[{"$f":"CONCATENATE(B53:B546,\" \",C53:C546)","v":"3070207 Conexión cableada para Datafono:(No incluye Datafono)"},3070207,"Conexión cableada para Datafono:(No incluye Datafono)",{"$f":"IF('FERIAS 3 DIAS'!G$3=TRUE,'FERIAS DE 4 A 6 DIAS'!E53/'FERIAS 3 DIAS'!I$3,'FERIAS DE 4 A 6 DIAS'!E53)","v":127092},127092]
[{"$f":"CONCATENATE(B54:B536,\" \",C54:C536)","v":"3071107 Archivador Regina (70cm x 37cm x50cm)"},3071107,"Archivador Regina (70cm x 37cm x50cm)",{"$f":"IF('FERIAS 3 DIAS'!G$3=TRUE,'FERIAS DE 4 A 6 DIAS'!E54/'FERIAS 3 DIAS'!I$3,'FERIAS DE 4 A 6 DIAS'!E54)","v":158151},158151]
[{"$f":"CONCATENATE(B55:B537,\" \",C55:C537)","v":"3070954 Counter Mónaco (Melaminico) (100cm x 100cm x 30cm)"},3070954,"Counter Mónaco (Melaminico) (100cm x 100cm x 30cm)",{"$f":"IF('FERIAS 3 DIAS'!G$3=TRUE,'FERIAS DE 4 A 6 DIAS'!E55/'FERIAS 3 DIAS'!I$3,'FERIAS DE 4 A 6 DIAS'!E55)","v":171241},171241]
[{"$f":"CONCATENATE(B56:B538,\" \",C56:C538)","v":"3070954 Counter Mónaco (Miel) (100cm x 100cm x 30cm)"},3070954,"Counter Mónaco (Miel) (100cm x 100cm x 30cm)",{"$f":"IF('FERIAS 3 DIAS'!G$3=TRUE,'FERIAS DE 4 A 6 DIAS'!E56/'FERIAS 3 DIAS'!I$3,'FERIAS DE 4 A 6 DIAS'!E56)","v":171241},171241]
[{"$f":"CONCATENATE(B57:B539,\" \",C57:C539)","v":"3070954 Counter Mónaco (Roble Gris) (100cm x 100cm x 30cm)"},3070954,"Counter Mónaco (Roble Gris) (100cm x 100cm x 30cm)",{"$f":"IF('FERIAS 3 DIAS'!G$3=TRUE,'FERIAS DE 4 A 6 DIAS'!E57/'FERIAS 3 DIAS'!I$3,'FERIAS DE 4 A 6 DIAS'!E57)","v":171241},171241]
[{"$f":"CONCATENATE(B58:B540,\" \",C58:C540)","v":"3070954 Counter Mónaco (Rovere) (100cm x 100cm x 30cm)"},3070954,"Counter Mónaco (Rovere) (100cm x 100cm x 30cm)",{"$f":"IF('FERIAS 3 DIAS'!G$3=TRUE,'FERIAS DE 4 A 6 DIAS'!E58/'FERIAS 3 DIAS'!I$3,'FERIAS DE 4 A 6 DIAS'!E58)","v":171241},171241]
[{"$f":"CONCATENATE(B59:B541,\" \",C59:C541)","v":"3070714 Cubo de exhibición (40cm x 40cm x 25cm)"},3070714,"Cubo de exhibición (40cm x 40cm x 25cm)",{"$f":"IF('FERIAS 3 DIAS'!G$3=TRUE,'FERIAS DE 4 A 6 DIAS'!E59/'FERIAS 3 DIAS'!I$3,'FERIAS DE 4 A 6 DIAS'!E59)","v":35700},35700]
[{"$f":"CONCATENATE(B60:B542,\" \",C60:C542)","v":"3070503 Estantería Polo (Melaminico)   (200cm x 93cm x 35cm)"},3070503,"Estantería Polo (Melaminico)   (200cm x 93cm x 35cm)",{"$f":"IF('FERIAS 3 DIAS'!G$3=TRUE,'FERIAS DE 4 A 6 DIAS'!E60/'FERIAS 3 DIAS'!I$3,'FERIAS DE 4 A 6 DIAS'!E60)","v":181951},181951]
[{"$f":"CONCATENATE(B61:B543,\" \",C61:C543)","v":"3070503 Estantería Polo (Miel)  (200cm x 93cm x 35cm)"},3070503,"Estantería Polo (Miel)  (200cm x 93cm x 35cm)",{"$f":"IF('FERIAS 3 DIAS'!G$3=TRUE,'FERIAS DE 4 A 6 DIAS'!E61/'FERIAS 3 DIAS'!I$3,'FERIAS DE 4 A 6 DIAS'!E61)","v":181951},181951]
[{"$f":"CONCATENATE(B62:B544,\" \",C62:C544)","v":"3070503 Estantería Polo (OSB)  (200cm x 93cm x 35cm)"},3070503,"Estantería Polo (OSB)  (200cm x 93cm x 35cm)",{"$f":"IF('FERIAS 3 DIAS'!G$3=TRUE,'FERIAS DE 4 A 6 DIAS'!E62/'FERIAS 3 DIAS'!I$3,'FERIAS DE 4 A 6 DIAS'!E62)","v":181951},181951]
[{"$f":"CONCATENATE(B63:B545,\" \",C63:C545)","v":"3070503 Estantería Polo (Roble Gris)  (200cm x 93cm x 35cm)"},3070503,"Estantería Polo (Roble Gris)  (200cm x 93cm x 35cm)",{"$f":"IF('FERIAS 3 DIAS'!G$3=TRUE,'FERIAS DE 4 A 6 DIAS'!E63/'FERIAS 3 DIAS'!I$3,'FERIAS DE 4 A 6 DIAS'!E63)","v":181951},181951]
[{"$f":"CONCATENATE(B64:B546,\" \",C64:C546)","v":"3070503 Estantería Polo (Rovere)  (200cm x 93cm x 35cm)"},3070503,"Estantería Polo (Rovere)  (200cm x 93cm x 35cm)",{"$f":"IF('FERIAS 3 DIAS'!G$3=TRUE,'FERIAS DE 4 A 6 DIAS'!E64/'FERIAS 3 DIAS'!I$3,'FERIAS DE 4 A 6 DIAS'!E64)","v":181951},181951]
[{"$f":"CONCATENATE(B65:B547,\" \",C65:C547)","v":"3071108 Estantería Shelf 4E (190cm x 125cm x 41cm)"},3071108,"Estantería Shelf 4E (190cm x 125cm x 41cm)",{"$f":"IF('FERIAS 3 DIAS'!G$3=TRUE,'FERIAS DE 4 A 6 DIAS'!E65/'FERIAS 3 DIAS'!I$3,'FERIAS DE 4 A 6 DIAS'!E65)","v":151606},151606]
[{"$f":"CONCATENATE(B66:B549,\" \",C66:C549)","v":"3071105 KIT básico oficina 2 (2 sillas interlocutoras negras, 1 silla ejecutiva cuero, 1 mesa oficina)"},3071105,"KIT básico oficina 2 (2 sillas interlocutoras negras, 1 silla ejecutiva cuero, 1 mesa oficina)",{"$f":"IF('FERIAS 3 DIAS'!G$3=TRUE,'FERIAS DE 4 A 6 DIAS'!E66/'FERIAS 3 DIAS'!I$3,'FERIAS DE 4 A 6 DIAS'!E66)","v":237286},237286]
[{"$f":"CONCATENATE(B67:B550,\" \",C67:C550)","v":"3070512 Locker 12 puestos"},3070512,"Locker 12 puestos",{"$f":"IF('FERIAS 3 DIAS'!G$3=TRUE,'FERIAS DE 4 A 6 DIAS'!E67/'FERIAS 3 DIAS'!I$3,'FERIAS DE 4 A 6 DIAS'!E67)","v":357000},357000]
[{"$f":"CONCATENATE(B68:B552,\" \",C68:C552)","v":"3070512 Mesa alta Daysa (Melaminico) (100cm x 60cm)"},3070512,"Mesa alta Daysa (Melaminico) (100cm x 60cm)",{"$f":"IF('FERIAS 3 DIAS'!G$3=TRUE,'FERIAS DE 4 A 6 DIAS'!E68/'FERIAS 3 DIAS'!I$3,'FERIAS DE 4 A 6 DIAS'!E68)","v":105553},105553]
[{"$f":"CONCATENATE(B69:B553,\" \",C69:C553)","v":"3071115 Mesa alta Daysa (Miel) (100cm x 60cm)"},3071115,"Mesa alta Daysa (Miel) (100cm x 60cm)",{"$f":"IF('FERIAS 3 DIAS'!G$3=TRUE,'FERIAS DE 4 A 6 DIAS'!E69/'FERIAS 3 DIAS'!I$3,'FERIAS DE 4 A 6 DIAS'!E69)","v":105553},105553]
[{"$f":"CONCATENATE(B70:B554,\" \",C70:C554)","v":"3071115 Mesa alta Daysa (Roble Gris) (100cm x 60cm)"},3071115,"Mesa alta Daysa (Roble Gris) (100cm x 60cm)",{"$f":"IF('FERIAS 3 DIAS'!G$3=TRUE,'FERIAS DE 4 A 6 DIAS'!E70/'FERIAS 3 DIAS'!I$3,'FERIAS DE 4 A 6 DIAS'!E70)","v":105553},105553]
[{"$f":"CONCATENATE(B71:B555,\" \",C71:C555)","v":"3071115 Mesa alta Daysa (Rovere) (100cm x 60cm)"},3071115,"Mesa alta Daysa (Rovere) (100cm x 60cm)",{"$f":"IF('FERIAS 3 DIAS'!G$3=TRUE,'FERIAS DE 4 A 6 DIAS'!E71/'FERIAS 3 DIAS'!I$3,'FERIAS DE 4 A 6 DIAS'!E71)","v":105553},105553]
[{"$f":"CONCATENATE(B72:B556,\" \",C72:C556)","v":"3071039 Mesa alta Daysa + 2 sillas neumaticas altas marsella"},3071039,"Mesa alta Daysa + 2 sillas neumaticas altas marsella",{"$f":"IF('FERIAS 3 DIAS'!G$3=TRUE,'FERIAS DE 4 A 6 DIAS'!E72/'FERIAS 3 DIAS'!I$3,'FERIAS DE 4 A 6 DIAS'!E72)","v":247163},247163]
[{"$f":"CONCATENATE(B73:B557,\" \",C73:C557)","v":"3071093 Mesa alta Daysa vidrio (100cm x 60cm)"},3071093,"Mesa alta Daysa vidrio (100cm x 60cm)",{"$f":"IF('FERIAS 3 DIAS'!G$3=TRUE,'FERIAS DE 4 A 6 DIAS'!E73/'FERIAS 3 DIAS'!I$3,'FERIAS DE 4 A 6 DIAS'!E73)","v":118643},118643]
[{"$f":"CONCATENATE(B74:B558,\" \",C74:C558)","v":"3071100 Mesa Centro Circular doble nivel (melaminico) (50cm x 110cm x 60cm)"},3071100,"Mesa Centro Circular doble nivel (melaminico) (50cm x 110cm x 60cm)",{"$f":"IF('FERIAS 3 DIAS'!G$3=TRUE,'FERIAS DE 4 A 6 DIAS'!E74/'FERIAS 3 DIAS'!I$3,'FERIAS DE 4 A 6 DIAS'!E74)","v":117453},117453]
[{"$f":"CONCATENATE(B75:B559,\" \",C75:C559)","v":"3071104 Mesa Centro Cuadrada 2 Niveles (melaminico) (50cm x 60cm x 60)"},3071104,"Mesa Centro Cuadrada 2 Niveles (melaminico) (50cm x 60cm x 60)",{"$f":"IF('FERIAS 3 DIAS'!G$3=TRUE,'FERIAS DE 4 A 6 DIAS'!E75/'FERIAS 3 DIAS'!I$3,'FERIAS DE 4 A 6 DIAS'!E75)","v":85442},85442]
[{"$f":"CONCATENATE(B76:B560,\" \",C76:C560)","v":"3071068 Mesa Centro Rectangular doble nivel (melaminico) (50cm x 75cm x 50cm)"},3071068,"Mesa Centro Rectangular doble nivel (melaminico) (50cm x 75cm x 50cm)",{"$f":"IF('FERIAS 3 DIAS'!G$3=TRUE,'FERIAS DE 4 A 6 DIAS'!E76/'FERIAS 3 DIAS'!I$3,'FERIAS DE 4 A 6 DIAS'!E76)","v":85442},85442]
[{"$f":"CONCATENATE(B77:B561,\" \",C77:C561)","v":"3071098 Mesa estandar Chia Blanca"},3071098,"Mesa estandar Chia Blanca",{"$f":"IF('FERIAS 3 DIAS'!G$3=TRUE,'FERIAS DE 4 A 6 DIAS'!E77/'FERIAS 3 DIAS'!I$3,'FERIAS DE 4 A 6 DIAS'!E77)","v":105553},105553]
[{"$f":"CONCATENATE(B78:B562,\" \",C78:C562)","v":"3071098 Mesa estandar Chia Negra"},3071098,"Mesa estandar Chia Negra",{"$f":"IF('FERIAS 3 DIAS'!G$3=TRUE,'FERIAS DE 4 A 6 DIAS'!E78/'FERIAS 3 DIAS'!I$3,'FERIAS DE 4 A 6 DIAS'!E78)","v":105553},105553]
[{"$f":"CONCATENATE(B79:B563,\" \",C79:C563)","v":"3071097 Mesa estandar Daysa (76cm x 60cm)"},3071097,"Mesa estandar Daysa (76cm x 60cm)",{"$f":"IF('FERIAS 3 DIAS'!G$3=TRUE,'FERIAS DE 4 A 6 DIAS'!E79/'FERIAS 3 DIAS'!I$3,'FERIAS DE 4 A 6 DIAS'!E79)","v":105553},105553]
[{"$f":"CONCATENATE(B80:B564,\" \",C80:C564)","v":"3071116 Mesa estandar Lotus (70cm x 64cm x 81cm)"},3071116,"Mesa estandar Lotus (70cm x 64cm x 81cm)",{"$f":"IF('FERIAS 3 DIAS'!G$3=TRUE,'FERIAS DE 4 A 6 DIAS'!E80/'FERIAS 3 DIAS'!I$3,'FERIAS DE 4 A 6 DIAS'!E80)","v":158151},158151]
[{"$f":"CONCATENATE(B81:B565,\" \",C81:C565)","v":"3071054 Mesa estandar lotus vidrio + 2 sillas tipo huevo"},3071054,"Mesa estandar lotus vidrio + 2 sillas tipo huevo",{"$f":"IF('FERIAS 3 DIAS'!G$3=TRUE,'FERIAS DE 4 A 6 DIAS'!E81/'FERIAS 3 DIAS'!I$3,'FERIAS DE 4 A 6 DIAS'!E81)","v":272153},272153]
[{"$f":"CONCATENATE(B82:B566,\" \",C82:C566)","v":"30713200 Mesa Oficina (78cm x 120cm x 50cm)"},30713200,"Mesa Oficina (78cm x 120cm x 50cm)",{"$f":"IF('FERIAS 3 DIAS'!G$3=TRUE,'FERIAS DE 4 A 6 DIAS'!E82/'FERIAS 3 DIAS'!I$3,'FERIAS DE 4 A 6 DIAS'!E82)","v":133042},133042]
[{"$f":"CONCATENATE(B83:B567,\" \",C83:C567)","v":"3071036 Mesa plegable plastico + 2 sillas interlocutoras negras"},3071036,"Mesa plegable plastico + 2 sillas interlocutoras negras",{"$f":"IF('FERIAS 3 DIAS'!G$3=TRUE,'FERIAS DE 4 A 6 DIAS'!E83/'FERIAS 3 DIAS'!I$3,'FERIAS DE 4 A 6 DIAS'!E83)","v":190400},190400]
[{"$f":"CONCATENATE(B84:B568,\" \",C84:C568)","v":"3070936 Mesón plegable plástico (Gris o blanco) (73cm x 182cm x 76cm)"},3070936,"Mesón plegable plástico (Gris o blanco) (73cm x 182cm x 76cm)",{"$f":"IF('FERIAS 3 DIAS'!G$3=TRUE,'FERIAS DE 4 A 6 DIAS'!E84/'FERIAS 3 DIAS'!I$3,'FERIAS DE 4 A 6 DIAS'!E84)","v":104601},104601]
[{"$f":"CONCATENATE(B85:B569,\" \",C85:C569)","v":"3071103 Nevera Estandar 230LT ( 55.6cm X 157.6cm X 67cm)"},3071103,"Nevera Estandar 230LT ( 55.6cm X 157.6cm X 67cm)",{"$f":"IF('FERIAS 3 DIAS'!G$3=TRUE,'FERIAS DE 4 A 6 DIAS'!E85/'FERIAS 3 DIAS'!I$3,'FERIAS DE 4 A 6 DIAS'!E85)","v":299999},299999]
[{"$f":"CONCATENATE(B86:B570,\" \",C86:C570)","v":"3071103 Nevera Minibar 121 LT (48.5cm X 85.1cm X 60cm)"},3071103,"Nevera Minibar 121 LT (48.5cm X 85.1cm X 60cm)",{"$f":"IF('FERIAS 3 DIAS'!G$3=TRUE,'FERIAS DE 4 A 6 DIAS'!E86/'FERIAS 3 DIAS'!I$3,'FERIAS DE 4 A 6 DIAS'!E86)","v":203371},203371]
[{"$f":"CONCATENATE(B87:B571,\" \",C87:C571)","v":"3071302 Papelera plastica negra"},3071302,"Papelera plastica negra",{"$f":"IF('FERIAS 3 DIAS'!G$3=TRUE,'FERIAS DE 4 A 6 DIAS'!E87/'FERIAS 3 DIAS'!I$3,'FERIAS DE 4 A 6 DIAS'!E87)","v":23443},23443]
[{"$f":"CONCATENATE(B88:B572,\" \",C88:C572)","v":"3070957 Pedestal cuadrado (30cm x 30cm x 30cm)"},3070957,"Pedestal cuadrado (30cm x 30cm x 30cm)",{"$f":"IF('FERIAS 3 DIAS'!G$3=TRUE,'FERIAS DE 4 A 6 DIAS'!E88/'FERIAS 3 DIAS'!I$3,'FERIAS DE 4 A 6 DIAS'!E88)","v":34391},34391]
[{"$f":"CONCATENATE(B89:B573,\" \",C89:C573)","v":"3070956 Pedestal rectangular 60cm (60cm x 30cm x 30cm)"},3070956,"Pedestal rectangular 60cm (60cm x 30cm x 30cm)",{"$f":"IF('FERIAS 3 DIAS'!G$3=TRUE,'FERIAS DE 4 A 6 DIAS'!E89/'FERIAS 3 DIAS'!I$3,'FERIAS DE 4 A 6 DIAS'!E89)","v":39627},39627]
[{"$f":"CONCATENATE(B90:B574,\" \",C90:C574)","v":"3070955 Pedestal rectangular 90cm (90cm x 30cm x 30cm)"},3070955,"Pedestal rectangular 90cm (90cm x 30cm x 30cm)",{"$f":"IF('FERIAS 3 DIAS'!G$3=TRUE,'FERIAS DE 4 A 6 DIAS'!E90/'FERIAS 3 DIAS'!I$3,'FERIAS DE 4 A 6 DIAS'!E90)","v":44982},44982]
[{"$f":"CONCATENATE(B91:B575,\" \",C91:C575)","v":"3070521 Perchero básico 1 pedestal (120cm Ancho - Altura) graduable + 5 ganchos"},3070521,"Perchero básico 1 pedestal (120cm Ancho - Altura) graduable + 5 ganchos",{"$f":"IF('FERIAS 3 DIAS'!G$3=TRUE,'FERIAS DE 4 A 6 DIAS'!E91/'FERIAS 3 DIAS'!I$3,'FERIAS DE 4 A 6 DIAS'!E91)","v":77469},77469]
[{"$f":"CONCATENATE(B92:B576,\" \",C92:C576)","v":"3070521 Perchero doble 2 pedestal (120cm Ancho-Altura) graduable + 5 ganchos"},3070521,"Perchero doble 2 pedestal (120cm Ancho-Altura) graduable + 5 ganchos",{"$f":"IF('FERIAS 3 DIAS'!G$3=TRUE,'FERIAS DE 4 A 6 DIAS'!E92/'FERIAS 3 DIAS'!I$3,'FERIAS DE 4 A 6 DIAS'!E92)","v":89369},89369]
[{"$f":"CONCATENATE(B93:B577,\" \",C93:C577)","v":"30713201 Poltrona Buggy (72cm x 64cm)"},30713201,"Poltrona Buggy (72cm x 64cm)",{"$f":"IF('FERIAS 3 DIAS'!G$3=TRUE,'FERIAS DE 4 A 6 DIAS'!E93/'FERIAS 3 DIAS'!I$3,'FERIAS DE 4 A 6 DIAS'!E93)","v":155176},155176]
[{"$f":"CONCATENATE(B94:B578,\" \",C94:C578)","v":"3071059 Poltrona Levis (73cm x 86cm x 73cm)"},3071059,"Poltrona Levis (73cm x 86cm x 73cm)",{"$f":"IF('FERIAS 3 DIAS'!G$3=TRUE,'FERIAS DE 4 A 6 DIAS'!E94/'FERIAS 3 DIAS'!I$3,'FERIAS DE 4 A 6 DIAS'!E94)","v":197778},197778]
[{"$f":"CONCATENATE(B95:B579,\" \",C95:C579)","v":"3071325 Poste separador 120cm de alto"},3071325,"Poste separador 120cm de alto",{"$f":"IF('FERIAS 3 DIAS'!G$3=TRUE,'FERIAS DE 4 A 6 DIAS'!E95/'FERIAS 3 DIAS'!I$3,'FERIAS DE 4 A 6 DIAS'!E95)","v":46291},46291]
[{"$f":"CONCATENATE(B96:B580,\" \",C96:C580)","v":"3071090 Puff estandar cuadrado (43cm x 43cm x 43cm)"},3071090,"Puff estandar cuadrado (43cm x 43cm x 43cm)",{"$f":"IF('FERIAS 3 DIAS'!G$3=TRUE,'FERIAS DE 4 A 6 DIAS'!E96/'FERIAS 3 DIAS'!I$3,'FERIAS DE 4 A 6 DIAS'!E96)","v":55216},55216]
[{"$f":"CONCATENATE(B97:B581,\" \",C97:C581)","v":"3071091 Puff Trunk 2 cuerpos (48cm x 81cm x 40cm)"},3071091,"Puff Trunk 2 cuerpos (48cm x 81cm x 40cm)",{"$f":"IF('FERIAS 3 DIAS'!G$3=TRUE,'FERIAS DE 4 A 6 DIAS'!E97/'FERIAS 3 DIAS'!I$3,'FERIAS DE 4 A 6 DIAS'!E97)","v":105553},105553]
[{"$f":"CONCATENATE(B98:B582,\" \",C98:C582)","v":"3071114 Puff Trunk 3 cuerpos (46cm x 120cm x 54cm)"},3071114,"Puff Trunk 3 cuerpos (46cm x 120cm x 54cm)",{"$f":"IF('FERIAS 3 DIAS'!G$3=TRUE,'FERIAS DE 4 A 6 DIAS'!E98/'FERIAS 3 DIAS'!I$3,'FERIAS DE 4 A 6 DIAS'!E98)","v":105553},105553]
[{"$f":"CONCATENATE(B99:B583,\" \",C99:C583)","v":"3071370 Revistero plegable (140cm x 25cm x 29cm)"},3071370,"Revistero plegable (140cm x 25cm x 29cm)",{"$f":"IF('FERIAS 3 DIAS'!G$3=TRUE,'FERIAS DE 4 A 6 DIAS'!E99/'FERIAS 3 DIAS'!I$3,'FERIAS DE 4 A 6 DIAS'!E99)","v":78540},78540]
[{"$f":"CONCATENATE(B100:B584,\" \",C100:C584)","v":" Sala de Juntas"},null,"Sala de Juntas",{"$f":"IF('FERIAS 3 DIAS'!G$3=TRUE,'FERIAS DE 4 A 6 DIAS'!E100/'FERIAS 3 DIAS'!I$3,'FERIAS DE 4 A 6 DIAS'!E100)","v":297500},297500]
[{"$f":"CONCATENATE(B101:B585,\" \",C101:C585)","v":"3071113 Sala Osaka (1 sofá Toronto, 2 puffs Donna, 1 mesa centro cuadrada 2 niveles)"},3071113,"Sala Osaka (1 sofá Toronto, 2 puffs Donna, 1 mesa centro cuadrada 2 niveles)",{"$f":"IF('FERIAS 3 DIAS'!G$3=TRUE,'FERIAS DE 4 A 6 DIAS'!E101/'FERIAS 3 DIAS'!I$3,'FERIAS DE 4 A 6 DIAS'!E101)","v":461244},461244]
[{"$f":"CONCATENATE(B102:B586,\" \",C102:C586)","v":"3071095 Sala VIP (1 sofá Victoria derecho, 1 sofá Victoria izquierdo, 2 poltronas, 1 mesa centro cuadrada 2 niveles)"},3071095,"Sala VIP (1 sofá Victoria derecho, 1 sofá Victoria izquierdo, 2 poltronas, 1 mesa centro cuadrada 2 niveles)",{"$f":"IF('FERIAS 3 DIAS'!G$3=TRUE,'FERIAS DE 4 A 6 DIAS'!E102/'FERIAS 3 DIAS'!I$3,'FERIAS DE 4 A 6 DIAS'!E102)","v":690200},690200]
[{"$f":"CONCATENATE(B103:B587,\" \",C103:C587)","v":" Silla Bombonera Roja"},null,"Silla Bombonera Roja",{"$f":"IF('FERIAS 3 DIAS'!G$3=TRUE,'FERIAS DE 4 A 6 DIAS'!E103/'FERIAS 3 DIAS'!I$3,'FERIAS DE 4 A 6 DIAS'!E103)","v":65926},65926]
[{"$f":"CONCATENATE(B104:B588,\" \",C104:C588)","v":"3071081 Silla Ejecutiva Cuero (57cm x 93cm x 52cm)"},3071081,"Silla Ejecutiva Cuero (57cm x 93cm x 52cm)",{"$f":"IF('FERIAS 3 DIAS'!G$3=TRUE,'FERIAS DE 4 A 6 DIAS'!E104/'FERIAS 3 DIAS'!I$3,'FERIAS DE 4 A 6 DIAS'!E104)","v":75327},75327]
[{"$f":"CONCATENATE(B105:B589,\" \",C105:C589)","v":"3071081 Silla Ejecutiva Malla"},3071081,"Silla Ejecutiva Malla",{"$f":"IF('FERIAS 3 DIAS'!G$3=TRUE,'FERIAS DE 4 A 6 DIAS'!E105/'FERIAS 3 DIAS'!I$3,'FERIAS DE 4 A 6 DIAS'!E105)","v":155176},155176]
[{"$f":"CONCATENATE(B106:B590,\" \",C106:C590)","v":"3071061 Silla estandar Suiza (48cm x 46cm x 45cm)"},3071061,"Silla estandar Suiza (48cm x 46cm x 45cm)",{"$f":"IF('FERIAS 3 DIAS'!G$3=TRUE,'FERIAS DE 4 A 6 DIAS'!E106/'FERIAS 3 DIAS'!I$3,'FERIAS DE 4 A 6 DIAS'!E106)","v":68901},68901]
[{"$f":"CONCATENATE(B107:B591,\" \",C107:C591)","v":"3071008 Silla estandar Tipo Huevo (48cm x 46cm x 45cm)"},3071008,"Silla estandar Tipo Huevo (48cm x 46cm x 45cm)",{"$f":"IF('FERIAS 3 DIAS'!G$3=TRUE,'FERIAS DE 4 A 6 DIAS'!E107/'FERIAS 3 DIAS'!I$3,'FERIAS DE 4 A 6 DIAS'!E107)","v":68901},68901]
[{"$f":"CONCATENATE(B108:B592,\" \",C108:C592)","v":"30713198 Silla Gerencial (100cm x 49cm x 49cm)"},30713198,"Silla Gerencial (100cm x 49cm x 49cm)",{"$f":"IF('FERIAS 3 DIAS'!G$3=TRUE,'FERIAS DE 4 A 6 DIAS'!E108/'FERIAS 3 DIAS'!I$3,'FERIAS DE 4 A 6 DIAS'!E108)","v":155176},155176]
[{"$f":"CONCATENATE(B109:B593,\" \",C109:C593)","v":"3071006 Silla Interlocutora Negra (79cm x 53cm x 42cm)"},3071006,"Silla Interlocutora Negra (79cm x 53cm x 42cm)",{"$f":"IF('FERIAS 3 DIAS'!G$3=TRUE,'FERIAS DE 4 A 6 DIAS'!E109/'FERIAS 3 DIAS'!I$3,'FERIAS DE 4 A 6 DIAS'!E109)","v":49504},49504]
[{"$f":"CONCATENATE(B110:B594,\" \",C110:C594)","v":"3071077 Silla Neumática alta Marsella (80cm x 40cm x 40cm)"},3071077,"Silla Neumática alta Marsella (80cm x 40cm x 40cm)",{"$f":"IF('FERIAS 3 DIAS'!G$3=TRUE,'FERIAS DE 4 A 6 DIAS'!E110/'FERIAS 3 DIAS'!I$3,'FERIAS DE 4 A 6 DIAS'!E110)","v":82824},82824]
[{"$f":"CONCATENATE(B111:B595,\" \",C111:C595)","v":"3071022 Silla Neumatica alta Versalles (80cm x 40 cm x 40cm"},3071022,"Silla Neumatica alta Versalles (80cm x 40 cm x 40cm",{"$f":"IF('FERIAS 3 DIAS'!G$3=TRUE,'FERIAS DE 4 A 6 DIAS'!E111/'FERIAS 3 DIAS'!I$3,'FERIAS DE 4 A 6 DIAS'!E111)","v":104125},104125]
[{"$f":"CONCATENATE(B112:B596,\" \",C112:C596)","v":" Silla Oslo Blanca"},null,"Silla Oslo Blanca",{"$f":"IF('FERIAS 3 DIAS'!G$3=TRUE,'FERIAS DE 4 A 6 DIAS'!E112/'FERIAS 3 DIAS'!I$3,'FERIAS DE 4 A 6 DIAS'!E112)","v":75327},75327]
[{"$f":"CONCATENATE(B113:B597,\" \",C113:C597)","v":" Silla Tipo Bar Madera"},null,"Silla Tipo Bar Madera",{"$f":"IF('FERIAS 3 DIAS'!G$3=TRUE,'FERIAS DE 4 A 6 DIAS'!E113/'FERIAS 3 DIAS'!I$3,'FERIAS DE 4 A 6 DIAS'!E113)","v":81872},81872]
[{"$f":"CONCATENATE(B114:B598,\" \",C114:C598)","v":"3071085 Sofa Otawa 2 cuerpos (85cm x 120cm x 76cm)"},3071085,"Sofa Otawa 2 cuerpos (85cm x 120cm x 76cm)",{"$f":"IF('FERIAS 3 DIAS'!G$3=TRUE,'FERIAS DE 4 A 6 DIAS'!E114/'FERIAS 3 DIAS'!I$3,'FERIAS DE 4 A 6 DIAS'!E114)","v":210987},210987]
[{"$f":"CONCATENATE(B115:B599,\" \",C115:C599)","v":"3071031 Sofa Terranova 2 cuerpos (88cm x 173cm x 80cm)"},3071031,"Sofa Terranova 2 cuerpos (88cm x 173cm x 80cm)",{"$f":"IF('FERIAS 3 DIAS'!G$3=TRUE,'FERIAS DE 4 A 6 DIAS'!E115/'FERIAS 3 DIAS'!I$3,'FERIAS DE 4 A 6 DIAS'!E115)","v":224077},224077]
[{"$f":"CONCATENATE(B116:B600,\" \",C116:C600)","v":"3071083 Sofa Toronto 3 cuerpos (88cm x 173cm x 80cm)"},3071083,"Sofa Toronto 3 cuerpos (88cm x 173cm x 80cm)",{"$f":"IF('FERIAS 3 DIAS'!G$3=TRUE,'FERIAS DE 4 A 6 DIAS'!E116/'FERIAS 3 DIAS'!I$3,'FERIAS DE 4 A 6 DIAS'!E116)","v":224077},224077]
[{"$f":"CONCATENATE(B117:B601,\" \",C117:C601)","v":"3071013 Sofa Victoria derecho (70cm x 100cm x 75cm)"},3071013,"Sofa Victoria derecho (70cm x 100cm x 75cm)",{"$f":"IF('FERIAS 3 DIAS'!G$3=TRUE,'FERIAS DE 4 A 6 DIAS'!E117/'FERIAS 3 DIAS'!I$3,'FERIAS DE 4 A 6 DIAS'!E117)","v":182070},182070]
[{"$f":"CONCATENATE(B118:B602,\" \",C118:C602)","v":"3071023 Sofa Victoria izquierdo (70cm x 100cm x 75cm)"},3071023,"Sofa Victoria izquierdo (70cm x 100cm x 75cm)",{"$f":"IF('FERIAS 3 DIAS'!G$3=TRUE,'FERIAS DE 4 A 6 DIAS'!E118/'FERIAS 3 DIAS'!I$3,'FERIAS DE 4 A 6 DIAS'!E118)","v":182070},182070]
[{"$f":"CONCATENATE(B119:B603,\" \",C119:C603)","v":"3070505 Tarima 120x120x60, (Previa verificación con área de montaje)"},3070505,"Tarima 120x120x60, (Previa verificación con área de montaje)",{"$f":"IF('FERIAS 3 DIAS'!G$3=TRUE,'FERIAS DE 4 A 6 DIAS'!E119/'FERIAS 3 DIAS'!I$3,'FERIAS DE 4 A 6 DIAS'!E119)","v":247996},247996]
[{"$f":"CONCATENATE(B120:B604,\" \",C120:C604)","v":"3070535 Vitrina Isla 2E (200cm x 50cm x 50cm)"},3070535,"Vitrina Isla 2E (200cm x 50cm x 50cm)",{"$f":"IF('FERIAS 3 DIAS'!G$3=TRUE,'FERIAS DE 4 A 6 DIAS'!E120/'FERIAS 3 DIAS'!I$3,'FERIAS DE 4 A 6 DIAS'!E120)","v":286671},286671]
[{"$f":"CONCATENATE(B121:B605,\" \",C121:C605)","v":"3070517 Vitrina Mostrador 2E (100cm x 100cm x 40cm)"},3070517,"Vitrina Mostrador 2E (100cm x 100cm x 40cm)",{"$f":"IF('FERIAS 3 DIAS'!G$3=TRUE,'FERIAS DE 4 A 6 DIAS'!E121/'FERIAS 3 DIAS'!I$3,'FERIAS DE 4 A 6 DIAS'!E121)","v":214081},214081]
[{"$f":"CONCATENATE(B122:B606,\" \",C122:C606)","v":"3070518 Vitrina Mostrador Tipo 2 1E (92cm x 90 cm x 40cm)"},3070518,"Vitrina Mostrador Tipo 2 1E (92cm x 90 cm x 40cm)",{"$f":"IF('FERIAS 3 DIAS'!G$3=TRUE,'FERIAS DE 4 A 6 DIAS'!E122/'FERIAS 3 DIAS'!I$3,'FERIAS DE 4 A 6 DIAS'!E122)","v":214081},214081]
[{"$f":"CONCATENATE(B123:B607,\" \",C123:C607)","v":"3071111 Vitrina Rectangular 2E (200cm x 100cm x 40cm)"},3071111,"Vitrina Rectangular 2E (200cm x 100cm x 40cm)",{"$f":"IF('FERIAS 3 DIAS'!G$3=TRUE,'FERIAS DE 4 A 6 DIAS'!E123/'FERIAS 3 DIAS'!I$3,'FERIAS DE 4 A 6 DIAS'!E123)","v":286671},286671]
[{"$f":"CONCATENATE(B124:B616,\" \",C124:C616)","v":"3071375 Planta + matera plástica (Pequeña)"},3071375,"Planta + matera plástica (Pequeña)",{"$f":"IF('FERIAS 3 DIAS'!G$3=TRUE,'FERIAS DE 4 A 6 DIAS'!E124/'FERIAS 3 DIAS'!I$3,'FERIAS DE 4 A 6 DIAS'!E124)","v":20600},20600]
[{"$f":"CONCATENATE(B125:B615,\" \",C125:C615)","v":"3071376 Planta + matera plástica (Mediana)"},3071376,"Planta + matera plástica (Mediana)",{"$f":"IF('FERIAS 3 DIAS'!G$3=TRUE,'FERIAS DE 4 A 6 DIAS'!E125/'FERIAS 3 DIAS'!I$3,'FERIAS DE 4 A 6 DIAS'!E125)","v":46400},46400]
[{"$f":"CONCATENATE(B126:B616,\" \",C126:C616)","v":"3071377 Planta + matera plástica (Grande)"},3071377,"Planta + matera plástica (Grande)",{"$f":"IF('FERIAS 3 DIAS'!G$3=TRUE,'FERIAS DE 4 A 6 DIAS'!E126/'FERIAS 3 DIAS'!I$3,'FERIAS DE 4 A 6 DIAS'!E126)","v":59200},59200]
[{"$f":"CONCATENATE(B127:B617,\" \",C127:C617)","v":"3071378 Jardinera en madera + 3 Plantas grandes"},3071378,"Jardinera en madera + 3 Plantas grandes",{"$f":"IF('FERIAS 3 DIAS'!G$3=TRUE,'FERIAS DE 4 A 6 DIAS'!E127/'FERIAS 3 DIAS'!I$3,'FERIAS DE 4 A 6 DIAS'!E127)","v":100300},100300]
[{"$f":"CONCATENATE(B128:B618,\" \",C128:C618)","v":"3071379 Jardinera en madera + 3 Plantas medianas"},3071379,"Jardinera en madera + 3 Plantas medianas",{"$f":"IF('FERIAS 3 DIAS'!G$3=TRUE,'FERIAS DE 4 A 6 DIAS'!E128/'FERIAS 3 DIAS'!I$3,'FERIAS DE 4 A 6 DIAS'!E128)","v":81100},81100]
[{"$f":"CONCATENATE(B129:B619,\" \",C129:C619)","v":"3071380 Jardinera en madera + 7 Plantas pequeñas"},3071380,"Jardinera en madera + 7 Plantas pequeñas",{"$f":"IF('FERIAS 3 DIAS'!G$3=TRUE,'FERIAS DE 4 A 6 DIAS'!E129/'FERIAS 3 DIAS'!I$3,'FERIAS DE 4 A 6 DIAS'!E129)","v":83500},83500]
[{"$f":"CONCATENATE(B130:B620,\" \",C130:C620)","v":"3071381 Cajoneras con flores"},3071381,"Cajoneras con flores",{"$f":"IF('FERIAS 3 DIAS'!G$3=TRUE,'FERIAS DE 4 A 6 DIAS'!E130/'FERIAS 3 DIAS'!I$3,'FERIAS DE 4 A 6 DIAS'!E130)","v":155800},155800]
[{"$f":"CONCATENATE(B131:B621,\" \",C131:C621)","v":"3071314 Grandes (61cm x 120cm)"},3071314,"Grandes (61cm x 120cm)",{"$f":"IF('FERIAS 3 DIAS'!G$3=TRUE,'FERIAS DE 4 A 6 DIAS'!E131/'FERIAS 3 DIAS'!I$3,'FERIAS DE 4 A 6 DIAS'!E131)","v":31700},31700]
[{"$f":"CONCATENATE(B132:B622,\" \",C132:C622)","v":"3071301 Medianas (31cm x 120cm)"},3071301,"Medianas (31cm x 120cm)",{"$f":"IF('FERIAS 3 DIAS'!G$3=TRUE,'FERIAS DE 4 A 6 DIAS'!E132/'FERIAS 3 DIAS'!I$3,'FERIAS DE 4 A 6 DIAS'!E132)","v":25000},25000]
[{"$f":"CONCATENATE(B133:B623,\" \",C133:C623)","v":"3071317 Pequeñas (10cm x 30cm)"},3071317,"Pequeñas (10cm x 30cm)",{"$f":"IF('FERIAS 3 DIAS'!G$3=TRUE,'FERIAS DE 4 A 6 DIAS'!E133/'FERIAS 3 DIAS'!I$3,'FERIAS DE 4 A 6 DIAS'!E133)","v":11100},11100]
[{"$f":"CONCATENATE(B134:B624,\" \",C134:C624)","v":"3071382 Suculentas (10cm x 15cm)"},3071382,"Suculentas (10cm x 15cm)",{"$f":"IF('FERIAS 3 DIAS'!G$3=TRUE,'FERIAS DE 4 A 6 DIAS'!E134/'FERIAS 3 DIAS'!I$3,'FERIAS DE 4 A 6 DIAS'!E134)","v":11100},11100]
[{"$f":"CONCATENATE(B135:B625,\" \",C135:C625)","v":"3071383 Chamizos"},3071383,"Chamizos",{"$f":"IF('FERIAS 3 DIAS'!G$3=TRUE,'FERIAS DE 4 A 6 DIAS'!E135/'FERIAS 3 DIAS'!I$3,'FERIAS DE 4 A 6 DIAS'!E135)","v":11100},11100]
[{"$f":"CONCATENATE(B136:B626,\" \",C136:C626)","v":"3071355 De barro grande"},3071355,"De barro grande",{"$f":"IF('FERIAS 3 DIAS'!G$3=TRUE,'FERIAS DE 4 A 6 DIAS'!E136/'FERIAS 3 DIAS'!I$3,'FERIAS DE 4 A 6 DIAS'!E136)","v":30700},30700]
[{"$f":"CONCATENATE(B137:B627,\" \",C137:C627)","v":"3071356 De barro mediana"},3071356,"De barro mediana",{"$f":"IF('FERIAS 3 DIAS'!G$3=TRUE,'FERIAS DE 4 A 6 DIAS'!E137/'FERIAS 3 DIAS'!I$3,'FERIAS DE 4 A 6 DIAS'!E137)","v":23900},23900]
[{"$f":"CONCATENATE(B138:B628,\" \",C138:C628)","v":"3071384 De barro pequeña"},3071384,"De barro pequeña",{"$f":"IF('FERIAS 3 DIAS'!G$3=TRUE,'FERIAS DE 4 A 6 DIAS'!E138/'FERIAS 3 DIAS'!I$3,'FERIAS DE 4 A 6 DIAS'!E138)","v":10600},10600]
[{"$f":"CONCATENATE(B139:B629,\" \",C139:C629)","v":"3071357 Plástica grande"},3071357,"Plástica grande",{"$f":"IF('FERIAS 3 DIAS'!G$3=TRUE,'FERIAS DE 4 A 6 DIAS'!E139/'FERIAS 3 DIAS'!I$3,'FERIAS DE 4 A 6 DIAS'!E139)","v":30700},30700]
[{"$f":"CONCATENATE(B140:B630,\" \",C140:C630)","v":"3071358 Plástica mediana"},3071358,"Plástica mediana",{"$f":"IF('FERIAS 3 DIAS'!G$3=TRUE,'FERIAS DE 4 A 6 DIAS'!E140/'FERIAS 3 DIAS'!I$3,'FERIAS DE 4 A 6 DIAS'!E140)","v":23900},23900]
[{"$f":"CONCATENATE(B141:B631,\" \",C141:C631)","v":"3071359 Plástica pequeña"},3071359,"Plástica pequeña",{"$f":"IF('FERIAS 3 DIAS'!G$3=TRUE,'FERIAS DE 4 A 6 DIAS'!E141/'FERIAS 3 DIAS'!I$3,'FERIAS DE 4 A 6 DIAS'!E141)","v":10600},10600]
[{"$f":"CONCATENATE(B142:B632,\" \",C142:C632)","v":"3071360 Jardinera en madera (35cm x 100cm x 35cm)"},3071360,"Jardinera en madera (35cm x 100cm x 35cm)",{"$f":"IF('FERIAS 3 DIAS'!G$3=TRUE,'FERIAS DE 4 A 6 DIAS'!E142/'FERIAS 3 DIAS'!I$3,'FERIAS DE 4 A 6 DIAS'!E142)","v":10600},10600]
[{"$f":"CONCATENATE(B143:B633,\" \",C143:C633)","v":"3071352 Grandes"},3071352,"Grandes",{"$f":"IF('FERIAS 3 DIAS'!G$3=TRUE,'FERIAS DE 4 A 6 DIAS'!E143/'FERIAS 3 DIAS'!I$3,'FERIAS DE 4 A 6 DIAS'!E143)","v":93800},93800]
[{"$f":"CONCATENATE(B144:B634,\" \",C144:C634)","v":"3071353 Medianos"},3071353,"Medianos",{"$f":"IF('FERIAS 3 DIAS'!G$3=TRUE,'FERIAS DE 4 A 6 DIAS'!E144/'FERIAS 3 DIAS'!I$3,'FERIAS DE 4 A 6 DIAS'!E144)","v":54600},54600]
[{"$f":"CONCATENATE(B145:B635,\" \",C145:C635)","v":"3071354 Pequeños"},3071354,"Pequeños",{"$f":"IF('FERIAS 3 DIAS'!G$3=TRUE,'FERIAS DE 4 A 6 DIAS'!E145/'FERIAS 3 DIAS'!I$3,'FERIAS DE 4 A 6 DIAS'!E145)","v":24000},24000]
[{"$f":"CONCATENATE(B146:B636,\" \",C146:C636)","v":"3071364 Topiario en forma de animales o frutas "},3071364,"Topiario en forma de animales o frutas ",{"$f":"IF('FERIAS 3 DIAS'!G$3=TRUE,'FERIAS DE 4 A 6 DIAS'!E146/'FERIAS 3 DIAS'!I$3,'FERIAS DE 4 A 6 DIAS'!E146)","v":228500},228500]
[{"$f":"CONCATENATE(B147:B637,\" \",C147:C637)","v":"3071365 Topiario en bolas grandes"},3071365,"Topiario en bolas grandes",{"$f":"IF('FERIAS 3 DIAS'!G$3=TRUE,'FERIAS DE 4 A 6 DIAS'!E147/'FERIAS 3 DIAS'!I$3,'FERIAS DE 4 A 6 DIAS'!E147)","v":228500},228500]
[{"$f":"CONCATENATE(B148:B638,\" \",C148:C638)","v":"3071385 Topiario en bolas pequeñas"},3071385,"Topiario en bolas pequeñas",{"$f":"IF('FERIAS 3 DIAS'!G$3=TRUE,'FERIAS DE 4 A 6 DIAS'!E148/'FERIAS 3 DIAS'!I$3,'FERIAS DE 4 A 6 DIAS'!E148)","v":207700},207700]
[{"$f":"CONCATENATE(B149:B639,\" \",C149:C639)","v":"3071363 Piedras (Por m2)"},3071363,"Piedras (Por m2)",{"$f":"IF('FERIAS 3 DIAS'!G$3=TRUE,'FERIAS DE 4 A 6 DIAS'!E149/'FERIAS 3 DIAS'!I$3,'FERIAS DE 4 A 6 DIAS'!E149)","v":23900},23900]
[{"$f":"CONCATENATE(B150:B640,\" \",C150:C640)","v":"3071367 Pino patula (Por bulto)"},3071367,"Pino patula (Por bulto)",{"$f":"IF('FERIAS 3 DIAS'!G$3=TRUE,'FERIAS DE 4 A 6 DIAS'!E150/'FERIAS 3 DIAS'!I$3,'FERIAS DE 4 A 6 DIAS'!E150)","v":10600},10600]
[{"$f":"CONCATENATE(B151:B641,\" \",C151:C641)","v":"3071361 Gravilla (Por m2)"},3071361,"Gravilla (Por m2)",{"$f":"IF('FERIAS 3 DIAS'!G$3=TRUE,'FERIAS DE 4 A 6 DIAS'!E151/'FERIAS 3 DIAS'!I$3,'FERIAS DE 4 A 6 DIAS'!E151)","v":10600},10600]
[{"$f":"CONCATENATE(B152:B642,\" \",C152:C642)","v":"3071386 Muros verticales (Por m2)"},3071386,"Muros verticales (Por m2)",{"$f":"IF('FERIAS 3 DIAS'!G$3=TRUE,'FERIAS DE 4 A 6 DIAS'!E152/'FERIAS 3 DIAS'!I$3,'FERIAS DE 4 A 6 DIAS'!E152)","v":328500},328500]
[{"$f":"CONCATENATE(B153:B643,\" \",C153:C643)","v":"3071366 Cascarilla (Por bulto)"},3071366,"Cascarilla (Por bulto)",{"$f":"IF('FERIAS 3 DIAS'!G$3=TRUE,'FERIAS DE 4 A 6 DIAS'!E153/'FERIAS 3 DIAS'!I$3,'FERIAS DE 4 A 6 DIAS'!E153)","v":10600},10600]
[{"$f":"CONCATENATE(B154:B644,\" \",C154:C644)","v":"3071362 Rocas (Por unidad)"},3071362,"Rocas (Por unidad)",{"$f":"IF('FERIAS 3 DIAS'!G$3=TRUE,'FERIAS DE 4 A 6 DIAS'!E154/'FERIAS 3 DIAS'!I$3,'FERIAS DE 4 A 6 DIAS'!E154)","v":63300},63300]
[{"$f":"CONCATENATE(B155:B645,\" \",C155:C645)","v":"3071346 Base para Tv Led - LCD adaptable  (No Incluye Instalacion) Valor evento 1 día"},3071346,"Base para Tv Led - LCD adaptable  (No Incluye Instalacion) Valor evento 1 día",{"$f":"IF('FERIAS 3 DIAS'!G$3=TRUE,'FERIAS DE 4 A 6 DIAS'!E155/'FERIAS 3 DIAS'!I$3,'FERIAS DE 4 A 6 DIAS'!E155)","v":44744},44744]
[{"$f":"CONCATENATE(B156:B646,\" \",C156:C646)","v":"3071346 Base para Tv Led - LCD adaptable  (No Incluye Instalacion) Valor evento 2 dias (Valor dia)"},3071346,"Base para Tv Led - LCD adaptable  (No Incluye Instalacion) Valor evento 2 dias (Valor dia)",{"$f":"IF('FERIAS 3 DIAS'!G$3=TRUE,'FERIAS DE 4 A 6 DIAS'!E156/'FERIAS 3 DIAS'!I$3,'FERIAS DE 4 A 6 DIAS'!E156)","v":44744},44744]
[{"$f":"CONCATENATE(B157:B647,\" \",C157:C647)","v":"3071346 Base para Tv Led - LCD adaptable  (No Incluye Instalacion) Valor de 3 a 6 dias (Valor dia)"},3071346,"Base para Tv Led - LCD adaptable  (No Incluye Instalacion) Valor de 3 a 6 dias (Valor dia)",{"$f":"IF('FERIAS 3 DIAS'!G$3=TRUE,'FERIAS DE 4 A 6 DIAS'!E157/'FERIAS 3 DIAS'!I$3,'FERIAS DE 4 A 6 DIAS'!E157)","v":40698},40698]
[{"$f":"CONCATENATE(B158:B648,\" \",C158:C648)","v":"3071346 Base para Tv Led - LCD adaptable  (No Incluye Instalacion) Valor de 7 a 18 días (Valor feria)"},3071346,"Base para Tv Led - LCD adaptable  (No Incluye Instalacion) Valor de 7 a 18 días (Valor feria)",{"$f":"IF('FERIAS 3 DIAS'!G$3=TRUE,'FERIAS DE 4 A 6 DIAS'!E158/'FERIAS 3 DIAS'!I$3,'FERIAS DE 4 A 6 DIAS'!E158)","v":289765},289765]
[{"$f":"CONCATENATE(B159:B649,\" \",C159:C649)","v":"3071204 Tv Smart  42\" 106cms ( Incluye base para tv / cable de corriente / 1 cable HDMI) IN: HDMI, USB Valor evento 1 día"},3071204,"Tv Smart  42\" 106cms ( Incluye base para tv / cable de corriente / 1 cable HDMI) IN: HDMI, USB Valor evento 1 día",{"$f":"IF('FERIAS 3 DIAS'!G$3=TRUE,'FERIAS DE 4 A 6 DIAS'!E159/'FERIAS 3 DIAS'!I$3,'FERIAS DE 4 A 6 DIAS'!E159)","v":149226},149226]
[{"$f":"CONCATENATE(B160:B650,\" \",C160:C650)","v":"3071204 Tv Smart  42\" 106cms ( Incluye base para tv / cable de corriente / 1 cable HDMI) IN: HDMI, USB Valor evento 2 dias (Valor dia)"},3071204,"Tv Smart  42\" 106cms ( Incluye base para tv / cable de corriente / 1 cable HDMI) IN: HDMI, USB Valor evento 2 dias (Valor dia)",{"$f":"IF('FERIAS 3 DIAS'!G$3=TRUE,'FERIAS DE 4 A 6 DIAS'!E160/'FERIAS 3 DIAS'!I$3,'FERIAS DE 4 A 6 DIAS'!E160)","v":149226},149226]
[{"$f":"CONCATENATE(B161:B651,\" \",C161:C651)","v":"3071204 Tv Smart  42\" 106cms ( Incluye base para tv / cable de corriente / 1 cable HDMI) IN: HDMI, USB Valor de 3 a 6 dias (Valor dia)"},3071204,"Tv Smart  42\" 106cms ( Incluye base para tv / cable de corriente / 1 cable HDMI) IN: HDMI, USB Valor de 3 a 6 dias (Valor dia)",{"$f":"IF('FERIAS 3 DIAS'!G$3=TRUE,'FERIAS DE 4 A 6 DIAS'!E161/'FERIAS 3 DIAS'!I$3,'FERIAS DE 4 A 6 DIAS'!E161)","v":136136},136136]
[{"$f":"CONCATENATE(B162:B652,\" \",C162:C652)","v":"3071204 Tv Smart  42\" 106cms ( Incluye base para tv / cable de corriente / 1 cable HDMI) IN: HDMI, USB Valor de 7 a 18 días (Valor feria)"},3071204,"Tv Smart  42\" 106cms ( Incluye base para tv / cable de corriente / 1 cable HDMI) IN: HDMI, USB Valor de 7 a 18 días (Valor feria)",{"$f":"IF('FERIAS 3 DIAS'!G$3=TRUE,'FERIAS DE 4 A 6 DIAS'!E162/'FERIAS 3 DIAS'!I$3,'FERIAS DE 4 A 6 DIAS'!E162)","v":971635},971635]
[{"$f":"CONCATENATE(B163:B653,\" \",C163:C653)","v":"3071206 Tv Smart  55\" 140cms ( Incluye base para tv / cable de corriente / 1 cable HDMI) IN: HDMI, USB Valor evento 1 día"},3071206,"Tv Smart  55\" 140cms ( Incluye base para tv / cable de corriente / 1 cable HDMI) IN: HDMI, USB Valor evento 1 día",{"$f":"IF('FERIAS 3 DIAS'!G$3=TRUE,'FERIAS DE 4 A 6 DIAS'!E163/'FERIAS 3 DIAS'!I$3,'FERIAS DE 4 A 6 DIAS'!E163)","v":223839},223839]
[{"$f":"CONCATENATE(B164:B654,\" \",C164:C654)","v":"3071206 Tv Smart  55\" 140cms ( Incluye base para tv / cable de corriente / 1 cable HDMI) IN: HDMI, USB Valor evento 2 dias (Valor dia)"},3071206,"Tv Smart  55\" 140cms ( Incluye base para tv / cable de corriente / 1 cable HDMI) IN: HDMI, USB Valor evento 2 dias (Valor dia)",{"$f":"IF('FERIAS 3 DIAS'!G$3=TRUE,'FERIAS DE 4 A 6 DIAS'!E164/'FERIAS 3 DIAS'!I$3,'FERIAS DE 4 A 6 DIAS'!E164)","v":223839},223839]
[{"$f":"CONCATENATE(B165:B655,\" \",C165:C655)","v":"3071206 Tv Smart  55\" 140cms ( Incluye base para tv / cable de corriente / 1 cable HDMI) IN: HDMI, USB Valor de 3 a 6 dias (Valor dia)"},3071206,"Tv Smart  55\" 140cms ( Incluye base para tv / cable de corriente / 1 cable HDMI) IN: HDMI, USB Valor de 3 a 6 dias (Valor dia)",{"$f":"IF('FERIAS 3 DIAS'!G$3=TRUE,'FERIAS DE 4 A 6 DIAS'!E165/'FERIAS 3 DIAS'!I$3,'FERIAS DE 4 A 6 DIAS'!E165)","v":203966},203966]
[{"$f":"CONCATENATE(B166:B656,\" \",C166:C656)","v":"3071206 Tv Smart  55\" 140cms ( Incluye base para tv / cable de corriente / 1 cable HDMI) IN: HDMI, USB Valor de 7 a 18 días (Valor feria)"},3071206,"Tv Smart  55\" 140cms ( Incluye base para tv / cable de corriente / 1 cable HDMI) IN: HDMI, USB Valor de 7 a 18 días (Valor feria)",{"$f":"IF('FERIAS 3 DIAS'!G$3=TRUE,'FERIAS DE 4 A 6 DIAS'!E166/'FERIAS 3 DIAS'!I$3,'FERIAS DE 4 A 6 DIAS'!E166)","v":1455251},1455251]
[{"$f":"CONCATENATE(B167:B657,\" \",C167:C657)","v":"30713202 Tv Smart  65\" 165cms ( Incluye base para tv / cable de corriente /1 cable HDMI) IN: HDMI, USB Valor evento 1 día"},30713202,"Tv Smart  65\" 165cms ( Incluye base para tv / cable de corriente /1 cable HDMI) IN: HDMI, USB Valor evento 1 día",{"$f":"IF('FERIAS 3 DIAS'!G$3=TRUE,'FERIAS DE 4 A 6 DIAS'!E167/'FERIAS 3 DIAS'!I$3,'FERIAS DE 4 A 6 DIAS'!E167)","v":348194},348194]
[{"$f":"CONCATENATE(B168:B658,\" \",C168:C658)","v":"30713202 Tv Smart  65\" 165cms ( Incluye base para tv / cable de corriente /1 cable HDMI) IN: HDMI, USB Valor evento 2 dias (Valor dia)"},30713202,"Tv Smart  65\" 165cms ( Incluye base para tv / cable de corriente /1 cable HDMI) IN: HDMI, USB Valor evento 2 dias (Valor dia)",{"$f":"IF('FERIAS 3 DIAS'!G$3=TRUE,'FERIAS DE 4 A 6 DIAS'!E168/'FERIAS 3 DIAS'!I$3,'FERIAS DE 4 A 6 DIAS'!E168)","v":348194},348194]
[{"$f":"CONCATENATE(B169:B659,\" \",C169:C659)","v":"30713202 Tv Smart  65\" 165cms ( Incluye base para tv / cable de corriente /1 cable HDMI) IN: HDMI, USB Valor de 3 a 6 dias (Valor dia)"},30713202,"Tv Smart  65\" 165cms ( Incluye base para tv / cable de corriente /1 cable HDMI) IN: HDMI, USB Valor de 3 a 6 dias (Valor dia)",{"$f":"IF('FERIAS 3 DIAS'!G$3=TRUE,'FERIAS DE 4 A 6 DIAS'!E169/'FERIAS 3 DIAS'!I$3,'FERIAS DE 4 A 6 DIAS'!E169)","v":329035},329035]
[{"$f":"CONCATENATE(B170:B660,\" \",C170:C660)","v":"30713202 Tv Smart  65\" 165cms ( Incluye base para tv / cable de corriente /1 cable HDMI) IN: HDMI, USB Valor de 7 a 18 días (Valor feria)"},30713202,"Tv Smart  65\" 165cms ( Incluye base para tv / cable de corriente /1 cable HDMI) IN: HDMI, USB Valor de 7 a 18 días (Valor feria)",{"$f":"IF('FERIAS 3 DIAS'!G$3=TRUE,'FERIAS DE 4 A 6 DIAS'!E170/'FERIAS 3 DIAS'!I$3,'FERIAS DE 4 A 6 DIAS'!E170)","v":1666595},1666595]
[{"$f":"CONCATENATE(B171:B661,\" \",C171:C661)","v":"3071279 Tv Smart  70\" 177,8cms ( Incluye base para tv / cable de corriente /1 cable HDMI) IN: HDMI, USB Valor evento 1 día"},3071279,"Tv Smart  70\" 177,8cms ( Incluye base para tv / cable de corriente /1 cable HDMI) IN: HDMI, USB Valor evento 1 día",{"$f":"IF('FERIAS 3 DIAS'!G$3=TRUE,'FERIAS DE 4 A 6 DIAS'!E171/'FERIAS 3 DIAS'!I$3,'FERIAS DE 4 A 6 DIAS'!E171)","v":559657},559657]
[{"$f":"CONCATENATE(B172:B662,\" \",C172:C662)","v":"3071279 Tv Smart  70\" 177,8cms ( Incluye base para tv / cable de corriente /1 cable HDMI) IN: HDMI, USB Valor evento 2 dias (Valor dia)"},3071279,"Tv Smart  70\" 177,8cms ( Incluye base para tv / cable de corriente /1 cable HDMI) IN: HDMI, USB Valor evento 2 dias (Valor dia)",{"$f":"IF('FERIAS 3 DIAS'!G$3=TRUE,'FERIAS DE 4 A 6 DIAS'!E172/'FERIAS 3 DIAS'!I$3,'FERIAS DE 4 A 6 DIAS'!E172)","v":559657},559657]
[{"$f":"CONCATENATE(B173:B663,\" \",C173:C663)","v":"3071279 Tv Smart  70\" 177,8cms ( Incluye base para tv / cable de corriente /1 cable HDMI) IN: HDMI, USB Valor de 3 a 6 dias (Valor dia)"},3071279,"Tv Smart  70\" 177,8cms ( Incluye base para tv / cable de corriente /1 cable HDMI) IN: HDMI, USB Valor de 3 a 6 dias (Valor dia)",{"$f":"IF('FERIAS 3 DIAS'!G$3=TRUE,'FERIAS DE 4 A 6 DIAS'!E173/'FERIAS 3 DIAS'!I$3,'FERIAS DE 4 A 6 DIAS'!E173)","v":509320},509320]
[{"$f":"CONCATENATE(B174:B664,\" \",C174:C664)","v":"3071279 Tv Smart  70\" 177,8cms ( Incluye base para tv / cable de corriente /1 cable HDMI) IN: HDMI, USB Valor de 7 a 18 días (Valor feria)"},3071279,"Tv Smart  70\" 177,8cms ( Incluye base para tv / cable de corriente /1 cable HDMI) IN: HDMI, USB Valor de 7 a 18 días (Valor feria)",{"$f":"IF('FERIAS 3 DIAS'!G$3=TRUE,'FERIAS DE 4 A 6 DIAS'!E174/'FERIAS 3 DIAS'!I$3,'FERIAS DE 4 A 6 DIAS'!E174)","v":3637711},3637711]
[{"$f":"CONCATENATE(B175:B665,\" \",C175:C665)","v":"3071222 Tv Smart  82\" 204cms ( Incluye base para tv / cable de corriente /1 cable HDMI) IN: HDMI, USB Valor evento 1 día"},3071222,"Tv Smart  82\" 204cms ( Incluye base para tv / cable de corriente /1 cable HDMI) IN: HDMI, USB Valor evento 1 día",{"$f":"IF('FERIAS 3 DIAS'!G$3=TRUE,'FERIAS DE 4 A 6 DIAS'!E175/'FERIAS 3 DIAS'!I$3,'FERIAS DE 4 A 6 DIAS'!E175)","v":1039584},1039584]
[{"$f":"CONCATENATE(B176:B666,\" \",C176:C666)","v":"3071222 Tv Smart  82\" 204cms ( Incluye base para tv / cable de corriente /1 cable HDMI) IN: HDMI, USB Valor evento 2 dias (Valor dia)"},3071222,"Tv Smart  82\" 204cms ( Incluye base para tv / cable de corriente /1 cable HDMI) IN: HDMI, USB Valor evento 2 dias (Valor dia)",{"$f":"IF('FERIAS 3 DIAS'!G$3=TRUE,'FERIAS DE 4 A 6 DIAS'!E176/'FERIAS 3 DIAS'!I$3,'FERIAS DE 4 A 6 DIAS'!E176)","v":1039584},1039584]
[{"$f":"CONCATENATE(B177:B667,\" \",C177:C667)","v":"3071222 Tv Smart  82\" 204cms ( Incluye base para tv / cable de corriente /1 cable HDMI) IN: HDMI, USB Valor de 3 a 6 dias (Valor dia)"},3071222,"Tv Smart  82\" 204cms ( Incluye base para tv / cable de corriente /1 cable HDMI) IN: HDMI, USB Valor de 3 a 6 dias (Valor dia)",{"$f":"IF('FERIAS 3 DIAS'!G$3=TRUE,'FERIAS DE 4 A 6 DIAS'!E177/'FERIAS 3 DIAS'!I$3,'FERIAS DE 4 A 6 DIAS'!E177)","v":945931},945931]
[{"$f":"CONCATENATE(B178:B668,\" \",C178:C668)","v":"3071222 Tv Smart  82\" 204cms ( Incluye base para tv / cable de corriente /1 cable HDMI) IN: HDMI, USB Valor de 7 a 18 días (Valor feria)"},3071222,"Tv Smart  82\" 204cms ( Incluye base para tv / cable de corriente /1 cable HDMI) IN: HDMI, USB Valor de 7 a 18 días (Valor feria)",{"$f":"IF('FERIAS 3 DIAS'!G$3=TRUE,'FERIAS DE 4 A 6 DIAS'!E178/'FERIAS 3 DIAS'!I$3,'FERIAS DE 4 A 6 DIAS'!E178)","v":6755273},6755273]
[{"$f":"CONCATENATE(B179:B669,\" \",C179:C669)","v":"3071261 Monitor tactil 65\" 165cms ( Incluye base para monitor / cableado) IN: HDMI Valor evento 1 día"},3071261,"Monitor tactil 65\" 165cms ( Incluye base para monitor / cableado) IN: HDMI Valor evento 1 día",{"$f":"IF('FERIAS 3 DIAS'!G$3=TRUE,'FERIAS DE 4 A 6 DIAS'!E179/'FERIAS 3 DIAS'!I$3,'FERIAS DE 4 A 6 DIAS'!E179)","v":702100},702100]
[{"$f":"CONCATENATE(B180:B670,\" \",C180:C670)","v":"3071261 Monitor tactil 65\" 165cms ( Incluye base para monitor / cableado) IN: HDMI Valor evento 2 dias (Valor dia)"},3071261,"Monitor tactil 65\" 165cms ( Incluye base para monitor / cableado) IN: HDMI Valor evento 2 dias (Valor dia)",{"$f":"IF('FERIAS 3 DIAS'!G$3=TRUE,'FERIAS DE 4 A 6 DIAS'!E180/'FERIAS 3 DIAS'!I$3,'FERIAS DE 4 A 6 DIAS'!E180)","v":702100},702100]
[{"$f":"CONCATENATE(B181:B671,\" \",C181:C671)","v":"3071261 Monitor tactil 65\" 165cms ( Incluye base para monitor / cableado) IN: HDMI Valor de 3 a 6 dias (Valor dia)"},3071261,"Monitor tactil 65\" 165cms ( Incluye base para monitor / cableado) IN: HDMI Valor de 3 a 6 dias (Valor dia)",{"$f":"IF('FERIAS 3 DIAS'!G$3=TRUE,'FERIAS DE 4 A 6 DIAS'!E181/'FERIAS 3 DIAS'!I$3,'FERIAS DE 4 A 6 DIAS'!E181)","v":511462},511462]
[{"$f":"CONCATENATE(B182:B672,\" \",C182:C672)","v":"3071261 Monitor tactil 65\" 165cms ( Incluye base para monitor / cableado) IN: HDMI Valor de 7 a 18 días (Valor feria)"},3071261,"Monitor tactil 65\" 165cms ( Incluye base para monitor / cableado) IN: HDMI Valor de 7 a 18 días (Valor feria)",{"$f":"IF('FERIAS 3 DIAS'!G$3=TRUE,'FERIAS DE 4 A 6 DIAS'!E182/'FERIAS 3 DIAS'!I$3,'FERIAS DE 4 A 6 DIAS'!E182)","v":5105100},5105100]
[{"$f":"CONCATENATE(B183:B673,\" \",C183:C673)","v":"3071284 Tablet tactil 7\" RAM:1GB / Conectividad: 3G / Sistema Operativo Android 9.0 Valor evento 1 día"},3071284,"Tablet tactil 7\" RAM:1GB / Conectividad: 3G / Sistema Operativo Android 9.0 Valor evento 1 día",{"$f":"IF('FERIAS 3 DIAS'!G$3=TRUE,'FERIAS DE 4 A 6 DIAS'!E183/'FERIAS 3 DIAS'!I$3,'FERIAS DE 4 A 6 DIAS'!E183)","v":87108},87108]
[{"$f":"CONCATENATE(B184:B674,\" \",C184:C674)","v":"3071284 Tablet tactil 7\" RAM:1GB / Conectividad: 3G / Sistema Operativo Android 9.0 Valor evento 2 dias (Valor dia)"},3071284,"Tablet tactil 7\" RAM:1GB / Conectividad: 3G / Sistema Operativo Android 9.0 Valor evento 2 dias (Valor dia)",{"$f":"IF('FERIAS 3 DIAS'!G$3=TRUE,'FERIAS DE 4 A 6 DIAS'!E184/'FERIAS 3 DIAS'!I$3,'FERIAS DE 4 A 6 DIAS'!E184)","v":87108},87108]
[{"$f":"CONCATENATE(B185:B675,\" \",C185:C675)","v":"3071284 Tablet tactil 7\" RAM:1GB / Conectividad: 3G / Sistema Operativo Android 9.0 Valor de 3 a 6 dias (Valor dia)"},3071284,"Tablet tactil 7\" RAM:1GB / Conectividad: 3G / Sistema Operativo Android 9.0 Valor de 3 a 6 dias (Valor dia)",{"$f":"IF('FERIAS 3 DIAS'!G$3=TRUE,'FERIAS DE 4 A 6 DIAS'!E185/'FERIAS 3 DIAS'!I$3,'FERIAS DE 4 A 6 DIAS'!E185)","v":79373},79373]
[{"$f":"CONCATENATE(B186:B676,\" \",C186:C676)","v":"3071284 Tablet tactil 7\" RAM:1GB / Conectividad: 3G / Sistema Operativo Android 9.0 Valor de 7 a 18 días (Valor feria)"},3071284,"Tablet tactil 7\" RAM:1GB / Conectividad: 3G / Sistema Operativo Android 9.0 Valor de 7 a 18 días (Valor feria)",{"$f":"IF('FERIAS 3 DIAS'!G$3=TRUE,'FERIAS DE 4 A 6 DIAS'!E186/'FERIAS 3 DIAS'!I$3,'FERIAS DE 4 A 6 DIAS'!E186)","v":565845},565845]
[{"$f":"CONCATENATE(B187:B677,\" \",C187:C677)","v":"3071260 Pantalla Led Full Hd Indoor / Medida 3,20mts x 2,96mts / Pitch 3,9 / No incluye estructura para montaje Valor evento 1 día"},3071260,"Pantalla Led Full Hd Indoor / Medida 3,20mts x 2,96mts / Pitch 3,9 / No incluye estructura para montaje Valor evento 1 día",{"$f":"IF('FERIAS 3 DIAS'!G$3=TRUE,'FERIAS DE 4 A 6 DIAS'!E187/'FERIAS 3 DIAS'!I$3,'FERIAS DE 4 A 6 DIAS'!E187)","v":1545453},1545453]
[{"$f":"CONCATENATE(B188:B678,\" \",C188:C678)","v":"3071260 Pantalla Led Full Hd Indoor / Medida 3,20mts x 2,96mts / Pitch 3,9 / No incluye estructura para montaje Valor evento 2 dias (Valor dia)"},3071260,"Pantalla Led Full Hd Indoor / Medida 3,20mts x 2,96mts / Pitch 3,9 / No incluye estructura para montaje Valor evento 2 dias (Valor dia)",{"$f":"IF('FERIAS 3 DIAS'!G$3=TRUE,'FERIAS DE 4 A 6 DIAS'!E188/'FERIAS 3 DIAS'!I$3,'FERIAS DE 4 A 6 DIAS'!E188)","v":1545453},1545453]
[{"$f":"CONCATENATE(B189:B679,\" \",C189:C679)","v":"3071260 Pantalla Led Full Hd Indoor / Medida 3,20mts x 2,96mts / Pitch 3,9 / No incluye estructura para montaje Valor de 3 a 6 dias (Valor dia)"},3071260,"Pantalla Led Full Hd Indoor / Medida 3,20mts x 2,96mts / Pitch 3,9 / No incluye estructura para montaje Valor de 3 a 6 dias (Valor dia)",{"$f":"IF('FERIAS 3 DIAS'!G$3=TRUE,'FERIAS DE 4 A 6 DIAS'!E189/'FERIAS 3 DIAS'!I$3,'FERIAS DE 4 A 6 DIAS'!E189)","v":1390872},1390872]
[{"$f":"CONCATENATE(B190:B680,\" \",C190:C680)","v":"3071260 Pantalla Led Full Hd Indoor / Medida 3,20mts x 2,96mts / Pitch 3,9 / No incluye estructura para montaje Valor de 7 a 18 días (Valor feria)"},3071260,"Pantalla Led Full Hd Indoor / Medida 3,20mts x 2,96mts / Pitch 3,9 / No incluye estructura para montaje Valor de 7 a 18 días (Valor feria)",{"$f":"IF('FERIAS 3 DIAS'!G$3=TRUE,'FERIAS DE 4 A 6 DIAS'!E190/'FERIAS 3 DIAS'!I$3,'FERIAS DE 4 A 6 DIAS'!E190)","v":13078100},13078100]
[{"$f":"CONCATENATE(B191:B681,\" \",C191:C681)","v":"3071260 Pantalla Led Full Hd Indoor / Medida 4,48mts x 3,20mts / Pitch 3,9 / No incluye estructura para montaje Valor evento 1 día"},3071260,"Pantalla Led Full Hd Indoor / Medida 4,48mts x 3,20mts / Pitch 3,9 / No incluye estructura para montaje Valor evento 1 día",{"$f":"IF('FERIAS 3 DIAS'!G$3=TRUE,'FERIAS DE 4 A 6 DIAS'!E191/'FERIAS 3 DIAS'!I$3,'FERIAS DE 4 A 6 DIAS'!E191)","v":1790831},1790831]
[{"$f":"CONCATENATE(B192:B682,\" \",C192:C682)","v":"3071260 Pantalla Led Full Hd Indoor / Medida 4,48mts x 3,20mts / Pitch 3,9 / No incluye estructura para montaje Valor evento 2 dias (Valor dia)"},3071260,"Pantalla Led Full Hd Indoor / Medida 4,48mts x 3,20mts / Pitch 3,9 / No incluye estructura para montaje Valor evento 2 dias (Valor dia)",{"$f":"IF('FERIAS 3 DIAS'!G$3=TRUE,'FERIAS DE 4 A 6 DIAS'!E192/'FERIAS 3 DIAS'!I$3,'FERIAS DE 4 A 6 DIAS'!E192)","v":1790831},1790831]
[{"$f":"CONCATENATE(B193:B683,\" \",C193:C683)","v":"3071260 Pantalla Led Full Hd Indoor / Medida 4,48mts x 3,20mts / Pitch 3,9 / No incluye estructura para montaje Valor de 3 a 6 dias (Valor dia)"},3071260,"Pantalla Led Full Hd Indoor / Medida 4,48mts x 3,20mts / Pitch 3,9 / No incluye estructura para montaje Valor de 3 a 6 dias (Valor dia)",{"$f":"IF('FERIAS 3 DIAS'!G$3=TRUE,'FERIAS DE 4 A 6 DIAS'!E193/'FERIAS 3 DIAS'!I$3,'FERIAS DE 4 A 6 DIAS'!E193)","v":1611736},1611736]
[{"$f":"CONCATENATE(B194:B684,\" \",C194:C684)","v":"3071260 Pantalla Led Full Hd Indoor / Medida 4,48mts x 3,20mts / Pitch 3,9 / No incluye estructura para montaje Valor de 7 a 18 días (Valor feria)"},3071260,"Pantalla Led Full Hd Indoor / Medida 4,48mts x 3,20mts / Pitch 3,9 / No incluye estructura para montaje Valor de 7 a 18 días (Valor feria)",{"$f":"IF('FERIAS 3 DIAS'!G$3=TRUE,'FERIAS DE 4 A 6 DIAS'!E194/'FERIAS 3 DIAS'!I$3,'FERIAS DE 4 A 6 DIAS'!E194)","v":18857811},18857811]
[{"$f":"CONCATENATE(B195:B685,\" \",C195:C685)","v":"3071260 Pantalla Led Full Hd Indoor / Medida 6,4mts x 3,20mts /mts2: 20,48 / Pitch 3,9 / No incluye estructura para montaje Valor evento 1 día"},3071260,"Pantalla Led Full Hd Indoor / Medida 6,4mts x 3,20mts /mts2: 20,48 / Pitch 3,9 / No incluye estructura para montaje Valor evento 1 día",{"$f":"IF('FERIAS 3 DIAS'!G$3=TRUE,'FERIAS DE 4 A 6 DIAS'!E195/'FERIAS 3 DIAS'!I$3,'FERIAS DE 4 A 6 DIAS'!E195)","v":2126530},2126530]
[{"$f":"CONCATENATE(B196:B678,\" \",C196:C678)","v":"3071260 Pantalla Led Full Hd Indoor / Medida 6,4mts x 3,20mts /mts2: 20,48 / Pitch 3,9 / No incluye estructura para montaje Valor evento 2 dias (Valor dia)"},3071260,"Pantalla Led Full Hd Indoor / Medida 6,4mts x 3,20mts /mts2: 20,48 / Pitch 3,9 / No incluye estructura para montaje Valor evento 2 dias (Valor dia)",{"$f":"IF('FERIAS 3 DIAS'!G$3=TRUE,'FERIAS DE 4 A 6 DIAS'!E196/'FERIAS 3 DIAS'!I$3,'FERIAS DE 4 A 6 DIAS'!E196)","v":2126530},2126530]
[{"$f":"CONCATENATE(B197:B679,\" \",C197:C679)","v":"3071260 Pantalla Led Full Hd Indoor / Medida 6,4mts x 3,20mts /mts2: 20,48 / Pitch 3,9 / No incluye estructura para montaje Valor de 3 a 6 dias (Valor dia)"},3071260,"Pantalla Led Full Hd Indoor / Medida 6,4mts x 3,20mts /mts2: 20,48 / Pitch 3,9 / No incluye estructura para montaje Valor de 3 a 6 dias (Valor dia)",{"$f":"IF('FERIAS 3 DIAS'!G$3=TRUE,'FERIAS DE 4 A 6 DIAS'!E197/'FERIAS 3 DIAS'!I$3,'FERIAS DE 4 A 6 DIAS'!E197)","v":1926015},1926015]
[{"$f":"CONCATENATE(B198:B680,\" \",C198:C680)","v":"3071260 Pantalla Led Full Hd Indoor / Medida 6,4mts x 3,20mts /mts2: 20,48 / Pitch 3,9 / No incluye estructura para montaje Valor de 7 a 18 días (Valor feria)"},3071260,"Pantalla Led Full Hd Indoor / Medida 6,4mts x 3,20mts /mts2: 20,48 / Pitch 3,9 / No incluye estructura para montaje Valor de 7 a 18 días (Valor feria)",{"$f":"IF('FERIAS 3 DIAS'!G$3=TRUE,'FERIAS DE 4 A 6 DIAS'!E198/'FERIAS 3 DIAS'!I$3,'FERIAS DE 4 A 6 DIAS'!E198)","v":13756043},13756043]
[{"$f":"CONCATENATE(B199:B681,\" \",C199:C681)","v":"3071264 Pantalla Led Full Hd Indoor / Medida 6,4mts x 4,48mts /mts2: 28,67 / Pitch 3,9 / No incluye estructura para montaje Valor evento 1 día"},3071264,"Pantalla Led Full Hd Indoor / Medida 6,4mts x 4,48mts /mts2: 28,67 / Pitch 3,9 / No incluye estructura para montaje Valor evento 1 día",{"$f":"IF('FERIAS 3 DIAS'!G$3=TRUE,'FERIAS DE 4 A 6 DIAS'!E199/'FERIAS 3 DIAS'!I$3,'FERIAS DE 4 A 6 DIAS'!E199)","v":2835294},2835294]
[{"$f":"CONCATENATE(B200:B682,\" \",C200:C682)","v":"3071264 Pantalla Led Full Hd Indoor / Medida 6,4mts x 4,48mts /mts2: 28,67 / Pitch 3,9 / No incluye estructura para montaje Valor evento 2 dias (Valor dia)"},3071264,"Pantalla Led Full Hd Indoor / Medida 6,4mts x 4,48mts /mts2: 28,67 / Pitch 3,9 / No incluye estructura para montaje Valor evento 2 dias (Valor dia)",{"$f":"IF('FERIAS 3 DIAS'!G$3=TRUE,'FERIAS DE 4 A 6 DIAS'!E200/'FERIAS 3 DIAS'!I$3,'FERIAS DE 4 A 6 DIAS'!E200)","v":2835294},2835294]
[{"$f":"CONCATENATE(B201:B683,\" \",C201:C683)","v":"3071264 Pantalla Led Full Hd Indoor / Medida 6,4mts x 4,48mts /mts2: 28,67 / Pitch 3,9 / No incluye estructura para montaje Valor de 3 a 6 dias (Valor dia)"},3071264,"Pantalla Led Full Hd Indoor / Medida 6,4mts x 4,48mts /mts2: 28,67 / Pitch 3,9 / No incluye estructura para montaje Valor de 3 a 6 dias (Valor dia)",{"$f":"IF('FERIAS 3 DIAS'!G$3=TRUE,'FERIAS DE 4 A 6 DIAS'!E201/'FERIAS 3 DIAS'!I$3,'FERIAS DE 4 A 6 DIAS'!E201)","v":2567782},2567782]
[{"$f":"CONCATENATE(B202:B684,\" \",C202:C684)","v":"3071264 Pantalla Led Full Hd Indoor / Medida 6,4mts x 4,48mts /mts2: 28,67 / Pitch 3,9 / No incluye estructura para montaje Valor de 7 a 18 días (Valor feria)"},3071264,"Pantalla Led Full Hd Indoor / Medida 6,4mts x 4,48mts /mts2: 28,67 / Pitch 3,9 / No incluye estructura para montaje Valor de 7 a 18 días (Valor feria)",{"$f":"IF('FERIAS 3 DIAS'!G$3=TRUE,'FERIAS DE 4 A 6 DIAS'!E202/'FERIAS 3 DIAS'!I$3,'FERIAS DE 4 A 6 DIAS'!E202)","v":18341351},18341351]
[{"$f":"CONCATENATE(B203:B685,\" \",C203:C685)","v":"3071265 Pantalla Led Full Hd Indoor / Medida 7,4mts x 5,12mts /mts2: 36,04 / Pitch 3,9 / No incluye estructura para montaje Valor evento 1 día"},3071265,"Pantalla Led Full Hd Indoor / Medida 7,4mts x 5,12mts /mts2: 36,04 / Pitch 3,9 / No incluye estructura para montaje Valor evento 1 día",{"$f":"IF('FERIAS 3 DIAS'!G$3=TRUE,'FERIAS DE 4 A 6 DIAS'!E203/'FERIAS 3 DIAS'!I$3,'FERIAS DE 4 A 6 DIAS'!E203)","v":4134774},4134774]
[{"$f":"CONCATENATE(B204:B686,\" \",C204:C686)","v":"3071265 Pantalla Led Full Hd Indoor / Medida 7,4mts x 5,12mts /mts2: 36,04 / Pitch 3,9 / No incluye estructura para montaje Valor evento 2 dias (Valor dia)"},3071265,"Pantalla Led Full Hd Indoor / Medida 7,4mts x 5,12mts /mts2: 36,04 / Pitch 3,9 / No incluye estructura para montaje Valor evento 2 dias (Valor dia)",{"$f":"IF('FERIAS 3 DIAS'!G$3=TRUE,'FERIAS DE 4 A 6 DIAS'!E204/'FERIAS 3 DIAS'!I$3,'FERIAS DE 4 A 6 DIAS'!E204)","v":4134774},4134774]
[{"$f":"CONCATENATE(B205:B687,\" \",C205:C687)","v":"3071265 Pantalla Led Full Hd Indoor / Medida 7,4mts x 5,12mts /mts2: 36,04 / Pitch 3,9 / No incluye estructura para montaje Valor de 3 a 6 dias (Valor dia)"},3071265,"Pantalla Led Full Hd Indoor / Medida 7,4mts x 5,12mts /mts2: 36,04 / Pitch 3,9 / No incluye estructura para montaje Valor de 3 a 6 dias (Valor dia)",{"$f":"IF('FERIAS 3 DIAS'!G$3=TRUE,'FERIAS DE 4 A 6 DIAS'!E205/'FERIAS 3 DIAS'!I$3,'FERIAS DE 4 A 6 DIAS'!E205)","v":3744692},3744692]
[{"$f":"CONCATENATE(B206:B688,\" \",C206:C688)","v":"3071265 Pantalla Led Full Hd Indoor / Medida 7,4mts x 5,12mts /mts2: 36,04 / Pitch 3,9 / No incluye estructura para montaje Valor de 7 a 18 días (Valor feria)"},3071265,"Pantalla Led Full Hd Indoor / Medida 7,4mts x 5,12mts /mts2: 36,04 / Pitch 3,9 / No incluye estructura para montaje Valor de 7 a 18 días (Valor feria)",{"$f":"IF('FERIAS 3 DIAS'!G$3=TRUE,'FERIAS DE 4 A 6 DIAS'!E206/'FERIAS 3 DIAS'!I$3,'FERIAS DE 4 A 6 DIAS'!E206)","v":26747749},26747749]
[{"$f":"CONCATENATE(B207:B689,\" \",C207:C689)","v":"3071266 Pantalla Led Full Hd Indoor / Medida 8,32mts x 6,40mts /mts2: 53,25 / Pitch 3,9 / No incluye estructura para montaje Valor evento 1 día"},3071266,"Pantalla Led Full Hd Indoor / Medida 8,32mts x 6,40mts /mts2: 53,25 / Pitch 3,9 / No incluye estructura para montaje Valor evento 1 día",{"$f":"IF('FERIAS 3 DIAS'!G$3=TRUE,'FERIAS DE 4 A 6 DIAS'!E207/'FERIAS 3 DIAS'!I$3,'FERIAS DE 4 A 6 DIAS'!E207)","v":5670588},5670588]
[{"$f":"CONCATENATE(B208:B690,\" \",C208:C690)","v":"3071266 Pantalla Led Full Hd Indoor / Medida 8,32mts x 6,40mts /mts2: 53,25 / Pitch 3,9 / No incluye estructura para montaje Valor evento 2 dias (Valor dia)"},3071266,"Pantalla Led Full Hd Indoor / Medida 8,32mts x 6,40mts /mts2: 53,25 / Pitch 3,9 / No incluye estructura para montaje Valor evento 2 dias (Valor dia)",{"$f":"IF('FERIAS 3 DIAS'!G$3=TRUE,'FERIAS DE 4 A 6 DIAS'!E208/'FERIAS 3 DIAS'!I$3,'FERIAS DE 4 A 6 DIAS'!E208)","v":5670588},5670588]
[{"$f":"CONCATENATE(B209:B691,\" \",C209:C691)","v":"3071266 Pantalla Led Full Hd Indoor / Medida 8,32mts x 6,40mts /mts2: 53,25 / Pitch 3,9 / No incluye estructura para montaje Valor de 3 a 6 dias (Valor dia)"},3071266,"Pantalla Led Full Hd Indoor / Medida 8,32mts x 6,40mts /mts2: 53,25 / Pitch 3,9 / No incluye estructura para montaje Valor de 3 a 6 dias (Valor dia)",{"$f":"IF('FERIAS 3 DIAS'!G$3=TRUE,'FERIAS DE 4 A 6 DIAS'!E209/'FERIAS 3 DIAS'!I$3,'FERIAS DE 4 A 6 DIAS'!E209)","v":5135802},5135802]
[{"$f":"CONCATENATE(B210:B692,\" \",C210:C692)","v":"3071266 Pantalla Led Full Hd Indoor / Medida 8,32mts x 6,40mts /mts2: 53,25 / Pitch 3,9 / No incluye estructura para montaje Valor de 7 a 18 días (Valor feria)"},3071266,"Pantalla Led Full Hd Indoor / Medida 8,32mts x 6,40mts /mts2: 53,25 / Pitch 3,9 / No incluye estructura para montaje Valor de 7 a 18 días (Valor feria)",{"$f":"IF('FERIAS 3 DIAS'!G$3=TRUE,'FERIAS DE 4 A 6 DIAS'!E210/'FERIAS 3 DIAS'!I$3,'FERIAS DE 4 A 6 DIAS'!E210)","v":36682702},36682702]
[{"$f":"CONCATENATE(B211:B693,\" \",C211:C693)","v":"3071267 Pantalla Led Full Hd Outdoor / Medida 6,4mts x 4,48mts  /mts2: 28,67 / Pitch 4,8 / No incluye estructura para montaje Valor evento 1 día"},3071267,"Pantalla Led Full Hd Outdoor / Medida 6,4mts x 4,48mts  /mts2: 28,67 / Pitch 4,8 / No incluye estructura para montaje Valor evento 1 día",{"$f":"IF('FERIAS 3 DIAS'!G$3=TRUE,'FERIAS DE 4 A 6 DIAS'!E211/'FERIAS 3 DIAS'!I$3,'FERIAS DE 4 A 6 DIAS'!E211)","v":2835294},2835294]
[{"$f":"CONCATENATE(B212:B694,\" \",C212:C694)","v":"3071267 Pantalla Led Full Hd Outdoor / Medida 6,4mts x 4,48mts  /mts2: 28,67 / Pitch 4,8 / No incluye estructura para montaje Valor evento 2 dias (Valor dia)"},3071267,"Pantalla Led Full Hd Outdoor / Medida 6,4mts x 4,48mts  /mts2: 28,67 / Pitch 4,8 / No incluye estructura para montaje Valor evento 2 dias (Valor dia)",{"$f":"IF('FERIAS 3 DIAS'!G$3=TRUE,'FERIAS DE 4 A 6 DIAS'!E212/'FERIAS 3 DIAS'!I$3,'FERIAS DE 4 A 6 DIAS'!E212)","v":2835294},2835294]
[{"$f":"CONCATENATE(B213:B695,\" \",C213:C695)","v":"3071267 Pantalla Led Full Hd Outdoor / Medida 6,4mts x 4,48mts  /mts2: 28,67 / Pitch 4,8 / No incluye estructura para montaje Valor de 3 a 6 dias (Valor dia)"},3071267,"Pantalla Led Full Hd Outdoor / Medida 6,4mts x 4,48mts  /mts2: 28,67 / Pitch 4,8 / No incluye estructura para montaje Valor de 3 a 6 dias (Valor dia)",{"$f":"IF('FERIAS 3 DIAS'!G$3=TRUE,'FERIAS DE 4 A 6 DIAS'!E213/'FERIAS 3 DIAS'!I$3,'FERIAS DE 4 A 6 DIAS'!E213)","v":2566235},2566235]
[{"$f":"CONCATENATE(B214:B696,\" \",C214:C696)","v":"3071267 Pantalla Led Full Hd Outdoor / Medida 6,4mts x 4,48mts  /mts2: 28,67 / Pitch 4,8 / No incluye estructura para montaje Valor de 7 a 18 días (Valor feria)"},3071267,"Pantalla Led Full Hd Outdoor / Medida 6,4mts x 4,48mts  /mts2: 28,67 / Pitch 4,8 / No incluye estructura para montaje Valor de 7 a 18 días (Valor feria)",{"$f":"IF('FERIAS 3 DIAS'!G$3=TRUE,'FERIAS DE 4 A 6 DIAS'!E214/'FERIAS 3 DIAS'!I$3,'FERIAS DE 4 A 6 DIAS'!E214)","v":18328856},18328856]
[{"$f":"CONCATENATE(B215:B697,\" \",C215:C697)","v":"3071268 Pantalla Led Full Hd Outdoor / Medida 7,4mts x 5,12mts /mts2: 36,04/ Pitch 4,8 / No incluye estructura para montaje Valor evento 1 día"},3071268,"Pantalla Led Full Hd Outdoor / Medida 7,4mts x 5,12mts /mts2: 36,04/ Pitch 4,8 / No incluye estructura para montaje Valor evento 1 día",{"$f":"IF('FERIAS 3 DIAS'!G$3=TRUE,'FERIAS DE 4 A 6 DIAS'!E215/'FERIAS 3 DIAS'!I$3,'FERIAS DE 4 A 6 DIAS'!E215)","v":4134774},4134774]
[{"$f":"CONCATENATE(B216:B698,\" \",C216:C698)","v":"3071268 Pantalla Led Full Hd Outdoor / Medida 7,4mts x 5,12mts /mts2: 36,04/ Pitch 4,8 / No incluye estructura para montaje Valor evento 2 dias (Valor dia)"},3071268,"Pantalla Led Full Hd Outdoor / Medida 7,4mts x 5,12mts /mts2: 36,04/ Pitch 4,8 / No incluye estructura para montaje Valor evento 2 dias (Valor dia)",{"$f":"IF('FERIAS 3 DIAS'!G$3=TRUE,'FERIAS DE 4 A 6 DIAS'!E216/'FERIAS 3 DIAS'!I$3,'FERIAS DE 4 A 6 DIAS'!E216)","v":4134774},4134774]
[{"$f":"CONCATENATE(B217:B699,\" \",C217:C699)","v":"3071268 Pantalla Led Full Hd Outdoor / Medida 7,4mts x 5,12mts /mts2: 36,04/ Pitch 4,8 / No incluye estructura para montaje Valor de 3 a 6 dias (Valor dia)"},3071268,"Pantalla Led Full Hd Outdoor / Medida 7,4mts x 5,12mts /mts2: 36,04/ Pitch 4,8 / No incluye estructura para montaje Valor de 3 a 6 dias (Valor dia)",{"$f":"IF('FERIAS 3 DIAS'!G$3=TRUE,'FERIAS DE 4 A 6 DIAS'!E217/'FERIAS 3 DIAS'!I$3,'FERIAS DE 4 A 6 DIAS'!E217)","v":3742193},3742193]
[{"$f":"CONCATENATE(B218:B700,\" \",C218:C700)","v":"3071268 Pantalla Led Full Hd Outdoor / Medida 7,4mts x 5,12mts /mts2: 36,04/ Pitch 4,8 / No incluye estructura para montaje Valor de 7 a 18 días (Valor feria)"},3071268,"Pantalla Led Full Hd Outdoor / Medida 7,4mts x 5,12mts /mts2: 36,04/ Pitch 4,8 / No incluye estructura para montaje Valor de 7 a 18 días (Valor feria)",{"$f":"IF('FERIAS 3 DIAS'!G$3=TRUE,'FERIAS DE 4 A 6 DIAS'!E218/'FERIAS 3 DIAS'!I$3,'FERIAS DE 4 A 6 DIAS'!E218)","v":26729423},26729423]
[{"$f":"CONCATENATE(B219:B701,\" \",C219:C701)","v":"3071269 Pantalla Led Full Hd Outdoor / Medida 8,32mts x 6,40mts /mts2: 53,25/ Pitch 4,8 / No incluye estructura para montaje Valor evento 1 día"},3071269,"Pantalla Led Full Hd Outdoor / Medida 8,32mts x 6,40mts /mts2: 53,25/ Pitch 4,8 / No incluye estructura para montaje Valor evento 1 día",{"$f":"IF('FERIAS 3 DIAS'!G$3=TRUE,'FERIAS DE 4 A 6 DIAS'!E219/'FERIAS 3 DIAS'!I$3,'FERIAS DE 4 A 6 DIAS'!E219)","v":5670588},5670588]
[{"$f":"CONCATENATE(B220:B702,\" \",C220:C702)","v":"3071269 Pantalla Led Full Hd Outdoor / Medida 8,32mts x 6,40mts /mts2: 53,25/ Pitch 4,8 / No incluye estructura para montaje Valor evento 2 dias (Valor dia)"},3071269,"Pantalla Led Full Hd Outdoor / Medida 8,32mts x 6,40mts /mts2: 53,25/ Pitch 4,8 / No incluye estructura para montaje Valor evento 2 dias (Valor dia)",{"$f":"IF('FERIAS 3 DIAS'!G$3=TRUE,'FERIAS DE 4 A 6 DIAS'!E220/'FERIAS 3 DIAS'!I$3,'FERIAS DE 4 A 6 DIAS'!E220)","v":5670588},5670588]
[{"$f":"CONCATENATE(B221:B703,\" \",C221:C703)","v":"3071269 Pantalla Led Full Hd Outdoor / Medida 8,32mts x 6,40mts /mts2: 53,25/ Pitch 4,8 / No incluye estructura para montaje Valor de 3 a 6 dias (Valor dia)"},3071269,"Pantalla Led Full Hd Outdoor / Medida 8,32mts x 6,40mts /mts2: 53,25/ Pitch 4,8 / No incluye estructura para montaje Valor de 3 a 6 dias (Valor dia)",{"$f":"IF('FERIAS 3 DIAS'!G$3=TRUE,'FERIAS DE 4 A 6 DIAS'!E221/'FERIAS 3 DIAS'!I$3,'FERIAS DE 4 A 6 DIAS'!E221)","v":5132232},5132232]
[{"$f":"CONCATENATE(B222:B704,\" \",C222:C704)","v":"3071269 Pantalla Led Full Hd Outdoor / Medida 8,32mts x 6,40mts /mts2: 53,25/ Pitch 4,8 / No incluye estructura para montaje Valor de 7 a 18 días (Valor feria)"},3071269,"Pantalla Led Full Hd Outdoor / Medida 8,32mts x 6,40mts /mts2: 53,25/ Pitch 4,8 / No incluye estructura para montaje Valor de 7 a 18 días (Valor feria)",{"$f":"IF('FERIAS 3 DIAS'!G$3=TRUE,'FERIAS DE 4 A 6 DIAS'!E222/'FERIAS 3 DIAS'!I$3,'FERIAS DE 4 A 6 DIAS'!E222)","v":36657355},36657355]
[{"$f":"CONCATENATE(B223:B705,\" \",C223:C705)","v":"3071234 Video Proyector de 4.500 Lumens HD - El lugar de Proyeccion debe estar lo mas oscuro posible Valor evento 1 día"},3071234,"Video Proyector de 4.500 Lumens HD - El lugar de Proyeccion debe estar lo mas oscuro posible Valor evento 1 día",{"$f":"IF('FERIAS 3 DIAS'!G$3=TRUE,'FERIAS DE 4 A 6 DIAS'!E223/'FERIAS 3 DIAS'!I$3,'FERIAS DE 4 A 6 DIAS'!E223)","v":435302},435302]
[{"$f":"CONCATENATE(B224:B706,\" \",C224:C706)","v":"3071234 Video Proyector de 4.500 Lumens HD - El lugar de Proyeccion debe estar lo mas oscuro posible Valor evento 2 dias (Valor dia)"},3071234,"Video Proyector de 4.500 Lumens HD - El lugar de Proyeccion debe estar lo mas oscuro posible Valor evento 2 dias (Valor dia)",{"$f":"IF('FERIAS 3 DIAS'!G$3=TRUE,'FERIAS DE 4 A 6 DIAS'!E224/'FERIAS 3 DIAS'!I$3,'FERIAS DE 4 A 6 DIAS'!E224)","v":435302},435302]
[{"$f":"CONCATENATE(B225:B707,\" \",C225:C707)","v":"3071234 Video Proyector de 4.500 Lumens HD - El lugar de Proyeccion debe estar lo mas oscuro posible Valor de 3 a 6 dias (Valor dia)"},3071234,"Video Proyector de 4.500 Lumens HD - El lugar de Proyeccion debe estar lo mas oscuro posible Valor de 3 a 6 dias (Valor dia)",{"$f":"IF('FERIAS 3 DIAS'!G$3=TRUE,'FERIAS DE 4 A 6 DIAS'!E225/'FERIAS 3 DIAS'!I$3,'FERIAS DE 4 A 6 DIAS'!E225)","v":422331},422331]
[{"$f":"CONCATENATE(B226:B708,\" \",C226:C708)","v":"3071234 Video Proyector de 4.500 Lumens HD - El lugar de Proyeccion debe estar lo mas oscuro posible Valor de 7 a 18 días (Valor feria)"},3071234,"Video Proyector de 4.500 Lumens HD - El lugar de Proyeccion debe estar lo mas oscuro posible Valor de 7 a 18 días (Valor feria)",{"$f":"IF('FERIAS 3 DIAS'!G$3=TRUE,'FERIAS DE 4 A 6 DIAS'!E226/'FERIAS 3 DIAS'!I$3,'FERIAS DE 4 A 6 DIAS'!E226)","v":2622046},2622046]
[{"$f":"CONCATENATE(B227:B709,\" \",C227:C709)","v":"3071244 Video Proyector de 6.000 Lumens HD - El lugar de Proyeccion debe estar lo mas oscuro posible Valor evento 1 día"},3071244,"Video Proyector de 6.000 Lumens HD - El lugar de Proyeccion debe estar lo mas oscuro posible Valor evento 1 día",{"$f":"IF('FERIAS 3 DIAS'!G$3=TRUE,'FERIAS DE 4 A 6 DIAS'!E227/'FERIAS 3 DIAS'!I$3,'FERIAS DE 4 A 6 DIAS'!E227)","v":583100},583100]
[{"$f":"CONCATENATE(B228:B710,\" \",C228:C710)","v":"3071244 Video Proyector de 6.000 Lumens HD - El lugar de Proyeccion debe estar lo mas oscuro posible Valor evento 2 dias (Valor dia)"},3071244,"Video Proyector de 6.000 Lumens HD - El lugar de Proyeccion debe estar lo mas oscuro posible Valor evento 2 dias (Valor dia)",{"$f":"IF('FERIAS 3 DIAS'!G$3=TRUE,'FERIAS DE 4 A 6 DIAS'!E228/'FERIAS 3 DIAS'!I$3,'FERIAS DE 4 A 6 DIAS'!E228)","v":583100},583100]
[{"$f":"CONCATENATE(B229:B711,\" \",C229:C711)","v":"3071244 Video Proyector de 6.000 Lumens HD - El lugar de Proyeccion debe estar lo mas oscuro posible Valor de 3 a 6 dias (Valor dia)"},3071244,"Video Proyector de 6.000 Lumens HD - El lugar de Proyeccion debe estar lo mas oscuro posible Valor de 3 a 6 dias (Valor dia)",{"$f":"IF('FERIAS 3 DIAS'!G$3=TRUE,'FERIAS DE 4 A 6 DIAS'!E229/'FERIAS 3 DIAS'!I$3,'FERIAS DE 4 A 6 DIAS'!E229)","v":499800},499800]
[{"$f":"CONCATENATE(B230:B712,\" \",C230:C712)","v":"3071244 Video Proyector de 6.000 Lumens HD - El lugar de Proyeccion debe estar lo mas oscuro posible Valor de 7 a 18 días (Valor feria)"},3071244,"Video Proyector de 6.000 Lumens HD - El lugar de Proyeccion debe estar lo mas oscuro posible Valor de 7 a 18 días (Valor feria)",{"$f":"IF('FERIAS 3 DIAS'!G$3=TRUE,'FERIAS DE 4 A 6 DIAS'!E230/'FERIAS 3 DIAS'!I$3,'FERIAS DE 4 A 6 DIAS'!E230)","v":4033505},4033505]
[{"$f":"CONCATENATE(B231:B713,\" \",C231:C713)","v":"3071271 Video Proyector de 10.000 Lumens HD - El lugar de Proyeccion debe estar lo mas oscuro posible Valor evento 1 día"},3071271,"Video Proyector de 10.000 Lumens HD - El lugar de Proyeccion debe estar lo mas oscuro posible Valor evento 1 día",{"$f":"IF('FERIAS 3 DIAS'!G$3=TRUE,'FERIAS DE 4 A 6 DIAS'!E231/'FERIAS 3 DIAS'!I$3,'FERIAS DE 4 A 6 DIAS'!E231)","v":1740970},1740970]
[{"$f":"CONCATENATE(B232:B714,\" \",C232:C714)","v":"3071271 Video Proyector de 10.000 Lumens HD - El lugar de Proyeccion debe estar lo mas oscuro posible Valor evento 2 dias (Valor dia)"},3071271,"Video Proyector de 10.000 Lumens HD - El lugar de Proyeccion debe estar lo mas oscuro posible Valor evento 2 dias (Valor dia)",{"$f":"IF('FERIAS 3 DIAS'!G$3=TRUE,'FERIAS DE 4 A 6 DIAS'!E232/'FERIAS 3 DIAS'!I$3,'FERIAS DE 4 A 6 DIAS'!E232)","v":1803207},1803207]
[{"$f":"CONCATENATE(B233:B715,\" \",C233:C715)","v":"3071271 Video Proyector de 10.000 Lumens HD - El lugar de Proyeccion debe estar lo mas oscuro posible Valor de 3 a 6 dias (Valor dia)"},3071271,"Video Proyector de 10.000 Lumens HD - El lugar de Proyeccion debe estar lo mas oscuro posible Valor de 3 a 6 dias (Valor dia)",{"$f":"IF('FERIAS 3 DIAS'!G$3=TRUE,'FERIAS DE 4 A 6 DIAS'!E233/'FERIAS 3 DIAS'!I$3,'FERIAS DE 4 A 6 DIAS'!E233)","v":1651125},1651125]
[{"$f":"CONCATENATE(B234:B716,\" \",C234:C716)","v":"3071271 Video Proyector de 10.000 Lumens HD - El lugar de Proyeccion debe estar lo mas oscuro posible Valor de 7 a 18 días (Valor feria)"},3071271,"Video Proyector de 10.000 Lumens HD - El lugar de Proyeccion debe estar lo mas oscuro posible Valor de 7 a 18 días (Valor feria)",{"$f":"IF('FERIAS 3 DIAS'!G$3=TRUE,'FERIAS DE 4 A 6 DIAS'!E234/'FERIAS 3 DIAS'!I$3,'FERIAS DE 4 A 6 DIAS'!E234)","v":11410077},11410077]
[{"$f":"CONCATENATE(B235:B717,\" \",C235:C717)","v":"3071232 Telon proyección estructura profesional tela frontal y retro 1,80x1,20 cms Valor evento 1 día"},3071232,"Telon proyección estructura profesional tela frontal y retro 1,80x1,20 cms Valor evento 1 día",{"$f":"IF('FERIAS 3 DIAS'!G$3=TRUE,'FERIAS DE 4 A 6 DIAS'!E235/'FERIAS 3 DIAS'!I$3,'FERIAS DE 4 A 6 DIAS'!E235)","v":43554},43554]
[{"$f":"CONCATENATE(B236:B718,\" \",C236:C718)","v":"3071232 Telon proyección estructura profesional tela frontal y retro 1,80x1,20 cms Valor evento 2 dias (Valor dia)"},3071232,"Telon proyección estructura profesional tela frontal y retro 1,80x1,20 cms Valor evento 2 dias (Valor dia)",{"$f":"IF('FERIAS 3 DIAS'!G$3=TRUE,'FERIAS DE 4 A 6 DIAS'!E236/'FERIAS 3 DIAS'!I$3,'FERIAS DE 4 A 6 DIAS'!E236)","v":43554},43554]
[{"$f":"CONCATENATE(B237:B719,\" \",C237:C719)","v":"3071232 Telon proyección estructura profesional tela frontal y retro 1,80x1,20 cms Valor de 3 a 6 dias (Valor dia)"},3071232,"Telon proyección estructura profesional tela frontal y retro 1,80x1,20 cms Valor de 3 a 6 dias (Valor dia)",{"$f":"IF('FERIAS 3 DIAS'!G$3=TRUE,'FERIAS DE 4 A 6 DIAS'!E237/'FERIAS 3 DIAS'!I$3,'FERIAS DE 4 A 6 DIAS'!E237)","v":39865},39865]
[{"$f":"CONCATENATE(B238:B720,\" \",C238:C720)","v":"3071232 Telon proyección estructura profesional tela frontal y retro 1,80x1,20 cms Valor de 7 a 18 días (Valor feria)"},3071232,"Telon proyección estructura profesional tela frontal y retro 1,80x1,20 cms Valor de 7 a 18 días (Valor feria)",{"$f":"IF('FERIAS 3 DIAS'!G$3=TRUE,'FERIAS DE 4 A 6 DIAS'!E238/'FERIAS 3 DIAS'!I$3,'FERIAS DE 4 A 6 DIAS'!E238)","v":283577},283577]
[{"$f":"CONCATENATE(B239:B721,\" \",C239:C721)","v":"3071231 Telon proyección estructura profesional tela frontal y retro 3,05x2,29 cms Valor evento 1 día"},3071231,"Telon proyección estructura profesional tela frontal y retro 3,05x2,29 cms Valor evento 1 día",{"$f":"IF('FERIAS 3 DIAS'!G$3=TRUE,'FERIAS DE 4 A 6 DIAS'!E239/'FERIAS 3 DIAS'!I$3,'FERIAS DE 4 A 6 DIAS'!E239)","v":221459},221459]
[{"$f":"CONCATENATE(B240:B722,\" \",C240:C722)","v":"3071231 Telon proyección estructura profesional tela frontal y retro 3,05x2,29 cms Valor evento 2 dias (Valor dia)"},3071231,"Telon proyección estructura profesional tela frontal y retro 3,05x2,29 cms Valor evento 2 dias (Valor dia)",{"$f":"IF('FERIAS 3 DIAS'!G$3=TRUE,'FERIAS DE 4 A 6 DIAS'!E240/'FERIAS 3 DIAS'!I$3,'FERIAS DE 4 A 6 DIAS'!E240)","v":221459},221459]
[{"$f":"CONCATENATE(B241:B723,\" \",C241:C723)","v":"3071231 Telon proyección estructura profesional tela frontal y retro 3,05x2,29 cms Valor de 3 a 6 dias (Valor dia)"},3071231,"Telon proyección estructura profesional tela frontal y retro 3,05x2,29 cms Valor de 3 a 6 dias (Valor dia)",{"$f":"IF('FERIAS 3 DIAS'!G$3=TRUE,'FERIAS DE 4 A 6 DIAS'!E241/'FERIAS 3 DIAS'!I$3,'FERIAS DE 4 A 6 DIAS'!E241)","v":202181},202181]
[{"$f":"CONCATENATE(B242:B724,\" \",C242:C724)","v":"3071231 Telon proyección estructura profesional tela frontal y retro 3,05x2,29 cms Valor de 7 a 18 días (Valor feria)"},3071231,"Telon proyección estructura profesional tela frontal y retro 3,05x2,29 cms Valor de 7 a 18 días (Valor feria)",{"$f":"IF('FERIAS 3 DIAS'!G$3=TRUE,'FERIAS DE 4 A 6 DIAS'!E242/'FERIAS 3 DIAS'!I$3,'FERIAS DE 4 A 6 DIAS'!E242)","v":1443232},1443232]
[{"$f":"CONCATENATE(B243:B725,\" \",C243:C725)","v":"3071219 Telon proyección estructura profesional tela frontal y retro 3,66x2,74 cms Valor evento 1 día"},3071219,"Telon proyección estructura profesional tela frontal y retro 3,66x2,74 cms Valor evento 1 día",{"$f":"IF('FERIAS 3 DIAS'!G$3=TRUE,'FERIAS DE 4 A 6 DIAS'!E243/'FERIAS 3 DIAS'!I$3,'FERIAS DE 4 A 6 DIAS'!E243)","v":186473},186473]
[{"$f":"CONCATENATE(B244:B726,\" \",C244:C726)","v":"3071219 Telon proyección estructura profesional tela frontal y retro 3,66x2,74 cms Valor evento 2 dias (Valor dia)"},3071219,"Telon proyección estructura profesional tela frontal y retro 3,66x2,74 cms Valor evento 2 dias (Valor dia)",{"$f":"IF('FERIAS 3 DIAS'!G$3=TRUE,'FERIAS DE 4 A 6 DIAS'!E244/'FERIAS 3 DIAS'!I$3,'FERIAS DE 4 A 6 DIAS'!E244)","v":186473},186473]
[{"$f":"CONCATENATE(B245:B727,\" \",C245:C727)","v":"3071219 Telon proyección estructura profesional tela frontal y retro 3,66x2,74 cms Valor de 3 a 6 dias (Valor dia)"},3071219,"Telon proyección estructura profesional tela frontal y retro 3,66x2,74 cms Valor de 3 a 6 dias (Valor dia)",{"$f":"IF('FERIAS 3 DIAS'!G$3=TRUE,'FERIAS DE 4 A 6 DIAS'!E245/'FERIAS 3 DIAS'!I$3,'FERIAS DE 4 A 6 DIAS'!E245)","v":167790},167790]
[{"$f":"CONCATENATE(B246:B728,\" \",C246:C728)","v":"3071219 Telon proyección estructura profesional tela frontal y retro 3,66x2,74 cms Valor de 7 a 18 días (Valor feria)"},3071219,"Telon proyección estructura profesional tela frontal y retro 3,66x2,74 cms Valor de 7 a 18 días (Valor feria)",{"$f":"IF('FERIAS 3 DIAS'!G$3=TRUE,'FERIAS DE 4 A 6 DIAS'!E246/'FERIAS 3 DIAS'!I$3,'FERIAS DE 4 A 6 DIAS'!E246)","v":1342201},1342201]
[{"$f":"CONCATENATE(B247:B729,\" \",C247:C729)","v":"3071217 Telon proyección estructura profesional tela frontal y retro 4,27x3,20 cms Valor evento 1 día"},3071217,"Telon proyección estructura profesional tela frontal y retro 4,27x3,20 cms Valor evento 1 día",{"$f":"IF('FERIAS 3 DIAS'!G$3=TRUE,'FERIAS DE 4 A 6 DIAS'!E247/'FERIAS 3 DIAS'!I$3,'FERIAS DE 4 A 6 DIAS'!E247)","v":391748},391748]
[{"$f":"CONCATENATE(B248:B730,\" \",C248:C730)","v":"3071217 Telon proyección estructura profesional tela frontal y retro 4,27x3,20 cms Valor evento 2 dias (Valor dia)"},3071217,"Telon proyección estructura profesional tela frontal y retro 4,27x3,20 cms Valor evento 2 dias (Valor dia)",{"$f":"IF('FERIAS 3 DIAS'!G$3=TRUE,'FERIAS DE 4 A 6 DIAS'!E248/'FERIAS 3 DIAS'!I$3,'FERIAS DE 4 A 6 DIAS'!E248)","v":391748},391748]
[{"$f":"CONCATENATE(B249:B731,\" \",C249:C731)","v":"3071217 Telon proyección estructura profesional tela frontal y retro 4,27x3,20 cms Valor de 3 a 6 dias (Valor dia)"},3071217,"Telon proyección estructura profesional tela frontal y retro 4,27x3,20 cms Valor de 3 a 6 dias (Valor dia)",{"$f":"IF('FERIAS 3 DIAS'!G$3=TRUE,'FERIAS DE 4 A 6 DIAS'!E249/'FERIAS 3 DIAS'!I$3,'FERIAS DE 4 A 6 DIAS'!E249)","v":355572},355572]
[{"$f":"CONCATENATE(B250:B732,\" \",C250:C732)","v":"3071217 Telon proyección estructura profesional tela frontal y retro 4,27x3,20 cms Valor de 7 a 18 días (Valor feria)"},3071217,"Telon proyección estructura profesional tela frontal y retro 4,27x3,20 cms Valor de 7 a 18 días (Valor feria)",{"$f":"IF('FERIAS 3 DIAS'!G$3=TRUE,'FERIAS DE 4 A 6 DIAS'!E250/'FERIAS 3 DIAS'!I$3,'FERIAS DE 4 A 6 DIAS'!E250)","v":2539103},2539103]
[{"$f":"CONCATENATE(B251:B733,\" \",C251:C733)","v":"3071273 Telon proyección estructura profesional tela frontal y retro 4,87x2,74 cms Valor evento 1 día"},3071273,"Telon proyección estructura profesional tela frontal y retro 4,87x2,74 cms Valor evento 1 día",{"$f":"IF('FERIAS 3 DIAS'!G$3=TRUE,'FERIAS DE 4 A 6 DIAS'!E251/'FERIAS 3 DIAS'!I$3,'FERIAS DE 4 A 6 DIAS'!E251)","v":559657},559657]
[{"$f":"CONCATENATE(B252:B734,\" \",C252:C734)","v":"3071273 Telon proyección estructura profesional tela frontal y retro 4,87x2,74 cms Valor evento 2 dias (Valor dia)"},3071273,"Telon proyección estructura profesional tela frontal y retro 4,87x2,74 cms Valor evento 2 dias (Valor dia)",{"$f":"IF('FERIAS 3 DIAS'!G$3=TRUE,'FERIAS DE 4 A 6 DIAS'!E252/'FERIAS 3 DIAS'!I$3,'FERIAS DE 4 A 6 DIAS'!E252)","v":559657},559657]
[{"$f":"CONCATENATE(B253:B735,\" \",C253:C735)","v":"3071273 Telon proyección estructura profesional tela frontal y retro 4,87x2,74 cms Valor de 3 a 6 dias (Valor dia)"},3071273,"Telon proyección estructura profesional tela frontal y retro 4,87x2,74 cms Valor de 3 a 6 dias (Valor dia)",{"$f":"IF('FERIAS 3 DIAS'!G$3=TRUE,'FERIAS DE 4 A 6 DIAS'!E253/'FERIAS 3 DIAS'!I$3,'FERIAS DE 4 A 6 DIAS'!E253)","v":556206},556206]
[{"$f":"CONCATENATE(B254:B736,\" \",C254:C736)","v":"3071273 Telon proyección estructura profesional tela frontal y retro 4,87x2,74 cms Valor de 7 a 18 días (Valor feria)"},3071273,"Telon proyección estructura profesional tela frontal y retro 4,87x2,74 cms Valor de 7 a 18 días (Valor feria)",{"$f":"IF('FERIAS 3 DIAS'!G$3=TRUE,'FERIAS DE 4 A 6 DIAS'!E254/'FERIAS 3 DIAS'!I$3,'FERIAS DE 4 A 6 DIAS'!E254)","v":4449886},4449886]
[{"$f":"CONCATENATE(B255:B737,\" \",C255:C737)","v":"3071288 Scalador de presentaciones / HDMI / SDI Valor evento 1 día"},3071288,"Scalador de presentaciones / HDMI / SDI Valor evento 1 día",{"$f":"IF('FERIAS 3 DIAS'!G$3=TRUE,'FERIAS DE 4 A 6 DIAS'!E255/'FERIAS 3 DIAS'!I$3,'FERIAS DE 4 A 6 DIAS'!E255)","v":273700},273700]
[{"$f":"CONCATENATE(B256:B738,\" \",C256:C738)","v":"3071288 Scalador de presentaciones / HDMI / SDI Valor evento 2 dias (Valor dia)"},3071288,"Scalador de presentaciones / HDMI / SDI Valor evento 2 dias (Valor dia)",{"$f":"IF('FERIAS 3 DIAS'!G$3=TRUE,'FERIAS DE 4 A 6 DIAS'!E256/'FERIAS 3 DIAS'!I$3,'FERIAS DE 4 A 6 DIAS'!E256)","v":273700},273700]
[{"$f":"CONCATENATE(B257:B739,\" \",C257:C739)","v":"3071288 Scalador de presentaciones / HDMI / SDI Valor de 3 a 6 dias (Valor dia)"},3071288,"Scalador de presentaciones / HDMI / SDI Valor de 3 a 6 dias (Valor dia)",{"$f":"IF('FERIAS 3 DIAS'!G$3=TRUE,'FERIAS DE 4 A 6 DIAS'!E257/'FERIAS 3 DIAS'!I$3,'FERIAS DE 4 A 6 DIAS'!E257)","v":256802},256802]
[{"$f":"CONCATENATE(B258:B740,\" \",C258:C740)","v":"3071288 Scalador de presentaciones / HDMI / SDI Valor de 7 a 18 días (Valor feria)"},3071288,"Scalador de presentaciones / HDMI / SDI Valor de 7 a 18 días (Valor feria)",{"$f":"IF('FERIAS 3 DIAS'!G$3=TRUE,'FERIAS DE 4 A 6 DIAS'!E258/'FERIAS 3 DIAS'!I$3,'FERIAS DE 4 A 6 DIAS'!E258)","v":2054654},2054654]
[{"$f":"CONCATENATE(B259:B741,\" \",C259:C741)","v":"3071289 Switcher HDMI de 6 entradas Valor evento 1 día"},3071289,"Switcher HDMI de 6 entradas Valor evento 1 día",{"$f":"IF('FERIAS 3 DIAS'!G$3=TRUE,'FERIAS DE 4 A 6 DIAS'!E259/'FERIAS 3 DIAS'!I$3,'FERIAS DE 4 A 6 DIAS'!E259)","v":310114},310114]
[{"$f":"CONCATENATE(B260:B742,\" \",C260:C742)","v":"3071289 Switcher HDMI de 6 entradas Valor evento 2 dias (Valor dia)"},3071289,"Switcher HDMI de 6 entradas Valor evento 2 dias (Valor dia)",{"$f":"IF('FERIAS 3 DIAS'!G$3=TRUE,'FERIAS DE 4 A 6 DIAS'!E260/'FERIAS 3 DIAS'!I$3,'FERIAS DE 4 A 6 DIAS'!E260)","v":310114},310114]
[{"$f":"CONCATENATE(B261:B743,\" \",C261:C743)","v":"3071289 Switcher HDMI de 6 entradas Valor de 3 a 6 dias (Valor dia)"},3071289,"Switcher HDMI de 6 entradas Valor de 3 a 6 dias (Valor dia)",{"$f":"IF('FERIAS 3 DIAS'!G$3=TRUE,'FERIAS DE 4 A 6 DIAS'!E261/'FERIAS 3 DIAS'!I$3,'FERIAS DE 4 A 6 DIAS'!E261)","v":282387},282387]
[{"$f":"CONCATENATE(B262:B744,\" \",C262:C744)","v":"3071289 Switcher HDMI de 6 entradas Valor de 7 a 18 días (Valor feria)"},3071289,"Switcher HDMI de 6 entradas Valor de 7 a 18 días (Valor feria)",{"$f":"IF('FERIAS 3 DIAS'!G$3=TRUE,'FERIAS DE 4 A 6 DIAS'!E262/'FERIAS 3 DIAS'!I$3,'FERIAS DE 4 A 6 DIAS'!E262)","v":1575560},1575560]
[{"$f":"CONCATENATE(B263:B745,\" \",C263:C745)","v":"3071290 Distribuidor de señales HDMI / SDI  Valor evento 1 día"},3071290,"Distribuidor de señales HDMI / SDI  Valor evento 1 día",{"$f":"IF('FERIAS 3 DIAS'!G$3=TRUE,'FERIAS DE 4 A 6 DIAS'!E263/'FERIAS 3 DIAS'!I$3,'FERIAS DE 4 A 6 DIAS'!E263)","v":126854},126854]
[{"$f":"CONCATENATE(B264:B746,\" \",C264:C746)","v":"3071290 Distribuidor de señales HDMI / SDI Valor evento 2 dias (Valor dia)"},3071290,"Distribuidor de señales HDMI / SDI Valor evento 2 dias (Valor dia)",{"$f":"IF('FERIAS 3 DIAS'!G$3=TRUE,'FERIAS DE 4 A 6 DIAS'!E264/'FERIAS 3 DIAS'!I$3,'FERIAS DE 4 A 6 DIAS'!E264)","v":126854},126854]
[{"$f":"CONCATENATE(B265:B747,\" \",C265:C747)","v":"3071290 Distribuidor de señales HDMI / SDI Valor de 3 a 6 dias (Valor dia)"},3071290,"Distribuidor de señales HDMI / SDI Valor de 3 a 6 dias (Valor dia)",{"$f":"IF('FERIAS 3 DIAS'!G$3=TRUE,'FERIAS DE 4 A 6 DIAS'!E265/'FERIAS 3 DIAS'!I$3,'FERIAS DE 4 A 6 DIAS'!E265)","v":115073},115073]
[{"$f":"CONCATENATE(B266:B748,\" \",C266:C748)","v":"3071290 Distribuidor de señales HDMI / SDI Valor de 7 a 18 días (Valor feria)"},3071290,"Distribuidor de señales HDMI / SDI Valor de 7 a 18 días (Valor feria)",{"$f":"IF('FERIAS 3 DIAS'!G$3=TRUE,'FERIAS DE 4 A 6 DIAS'!E266/'FERIAS 3 DIAS'!I$3,'FERIAS DE 4 A 6 DIAS'!E266)","v":820981},820981]
[{"$f":"CONCATENATE(B267:B749,\" \",C267:C749)","v":"3071387 Punto Fijo de Video HD (Incluye: 1 Switcher de video / 1 computador portatil / 1 Monitor / 1 multi viewer/ 1 Tecnico de Video 8 horas) Valor evento 1 día"},3071387,"Punto Fijo de Video HD (Incluye: 1 Switcher de video / 1 computador portatil / 1 Monitor / 1 multi viewer/ 1 Tecnico de Video 8 horas) Valor evento 1 día",{"$f":"IF('FERIAS 3 DIAS'!G$3=TRUE,'FERIAS DE 4 A 6 DIAS'!E267/'FERIAS 3 DIAS'!I$3,'FERIAS DE 4 A 6 DIAS'!E267)","v":746130},746130]
[{"$f":"CONCATENATE(B268:B750,\" \",C268:C750)","v":"3071387 Punto Fijo de Video HD (Incluye: 1 Switcher de video / 1 computador portatil / 1 Monitor / 1 multi viewer/ 1 Tecnico de Video 8 horas) Valor evento 2 dias (Valor dia)"},3071387,"Punto Fijo de Video HD (Incluye: 1 Switcher de video / 1 computador portatil / 1 Monitor / 1 multi viewer/ 1 Tecnico de Video 8 horas) Valor evento 2 dias (Valor dia)",{"$f":"IF('FERIAS 3 DIAS'!G$3=TRUE,'FERIAS DE 4 A 6 DIAS'!E268/'FERIAS 3 DIAS'!I$3,'FERIAS DE 4 A 6 DIAS'!E268)","v":746130},746130]
[{"$f":"CONCATENATE(B269:B751,\" \",C269:C751)","v":"3071387 Punto Fijo de Video HD (Incluye: 1 Switcher de video / 1 computador portatil / 1 Monitor / 1 multi viewer/ 1 Tecnico de Video 8 horas) Valor de 3 a 6 dias (Valor dia)"},3071387,"Punto Fijo de Video HD (Incluye: 1 Switcher de video / 1 computador portatil / 1 Monitor / 1 multi viewer/ 1 Tecnico de Video 8 horas) Valor de 3 a 6 dias (Valor dia)",{"$f":"IF('FERIAS 3 DIAS'!G$3=TRUE,'FERIAS DE 4 A 6 DIAS'!E269/'FERIAS 3 DIAS'!I$3,'FERIAS DE 4 A 6 DIAS'!E269)","v":681394},681394]
[{"$f":"CONCATENATE(B270:B752,\" \",C270:C752)","v":"3071387 Punto Fijo de Video HD (Incluye: 1 Switcher de video / 1 computador portatil / 1 Monitor / 1 multi viewer/ 1 Tecnico de Video 8 horas) Valor de 7 a 18 días (Valor feria)"},3071387,"Punto Fijo de Video HD (Incluye: 1 Switcher de video / 1 computador portatil / 1 Monitor / 1 multi viewer/ 1 Tecnico de Video 8 horas) Valor de 7 a 18 días (Valor feria)",{"$f":"IF('FERIAS 3 DIAS'!G$3=TRUE,'FERIAS DE 4 A 6 DIAS'!E270/'FERIAS 3 DIAS'!I$3,'FERIAS DE 4 A 6 DIAS'!E270)","v":4865791},4865791]
[{"$f":"CONCATENATE(B271:B753,\" \",C271:C753)","v":"3071291 CCTV (Tipo 1) Valor evento 1 día"},3071291,"CCTV (Tipo 1) Valor evento 1 día",{"$f":"IF('FERIAS 3 DIAS'!G$3=TRUE,'FERIAS DE 4 A 6 DIAS'!E271/'FERIAS 3 DIAS'!I$3,'FERIAS DE 4 A 6 DIAS'!E271)","v":1094324},1094324]
[{"$f":"CONCATENATE(B272:B754,\" \",C272:C754)","v":"3071291 CCTV (Tipo 1)  Valor evento 2 dias (Valor dia)"},3071291,"CCTV (Tipo 1)  Valor evento 2 dias (Valor dia)",{"$f":"IF('FERIAS 3 DIAS'!G$3=TRUE,'FERIAS DE 4 A 6 DIAS'!E272/'FERIAS 3 DIAS'!I$3,'FERIAS DE 4 A 6 DIAS'!E272)","v":1094324},1094324]
[{"$f":"CONCATENATE(B273:B755,\" \",C273:C755)","v":"3071291 CCTV (Tipo 1)  Valor de 3 a 6 dias (Valor dia)"},3071291,"CCTV (Tipo 1)  Valor de 3 a 6 dias (Valor dia)",{"$f":"IF('FERIAS 3 DIAS'!G$3=TRUE,'FERIAS DE 4 A 6 DIAS'!E273/'FERIAS 3 DIAS'!I$3,'FERIAS DE 4 A 6 DIAS'!E273)","v":993650},993650]
[{"$f":"CONCATENATE(B274:B756,\" \",C274:C756)","v":"3071291 CCTV (Tipo 1)  Valor de 7 a 18 días (Valor feria)"},3071291,"CCTV (Tipo 1)  Valor de 7 a 18 días (Valor feria)",{"$f":"IF('FERIAS 3 DIAS'!G$3=TRUE,'FERIAS DE 4 A 6 DIAS'!E274/'FERIAS 3 DIAS'!I$3,'FERIAS DE 4 A 6 DIAS'!E274)","v":7096446},7096446]
[{"$f":"CONCATENATE(B275:B757,\" \",C275:C757)","v":"30713203 CCTV (Tipo 2) Valor evento 1 día"},30713203,"CCTV (Tipo 2) Valor evento 1 día",{"$f":"IF('FERIAS 3 DIAS'!G$3=TRUE,'FERIAS DE 4 A 6 DIAS'!E275/'FERIAS 3 DIAS'!I$3,'FERIAS DE 4 A 6 DIAS'!E275)","v":1499043},1499043]
[{"$f":"CONCATENATE(B276:B758,\" \",C276:C758)","v":"30713203 CCTV (Tipo 2) Valor evento 2 dias (Valor dia)"},30713203,"CCTV (Tipo 2) Valor evento 2 dias (Valor dia)",{"$f":"IF('FERIAS 3 DIAS'!G$3=TRUE,'FERIAS DE 4 A 6 DIAS'!E276/'FERIAS 3 DIAS'!I$3,'FERIAS DE 4 A 6 DIAS'!E276)","v":1499043},1499043]
[{"$f":"CONCATENATE(B277:B759,\" \",C277:C759)","v":"30713203 CCTV (Tipo 2) Valor de 3 a 6 dias (Valor dia)"},30713203,"CCTV (Tipo 2) Valor de 3 a 6 dias (Valor dia)",{"$f":"IF('FERIAS 3 DIAS'!G$3=TRUE,'FERIAS DE 4 A 6 DIAS'!E277/'FERIAS 3 DIAS'!I$3,'FERIAS DE 4 A 6 DIAS'!E277)","v":1349103},1349103]
[{"$f":"CONCATENATE(B278:B760,\" \",C278:C760)","v":"30713203 CCTV (Tipo 2) Valor de 7 a 18 días (Valor feria)"},30713203,"CCTV (Tipo 2) Valor de 7 a 18 días (Valor feria)",{"$f":"IF('FERIAS 3 DIAS'!G$3=TRUE,'FERIAS DE 4 A 6 DIAS'!E278/'FERIAS 3 DIAS'!I$3,'FERIAS DE 4 A 6 DIAS'!E278)","v":10792586},10792586]
[{"$f":"CONCATENATE(B279:B761,\" \",C279:C761)","v":"3071292 CCTV (Tipo 3) Valor evento 1 día"},3071292,"CCTV (Tipo 3) Valor evento 1 día",{"$f":"IF('FERIAS 3 DIAS'!G$3=TRUE,'FERIAS DE 4 A 6 DIAS'!E279/'FERIAS 3 DIAS'!I$3,'FERIAS DE 4 A 6 DIAS'!E279)","v":1809871},1809871]
[{"$f":"CONCATENATE(B280:B762,\" \",C280:C762)","v":"3071292 CCTV (Tipo 3) Valor evento 2 dias (Valor dia)"},3071292,"CCTV (Tipo 3) Valor evento 2 dias (Valor dia)",{"$f":"IF('FERIAS 3 DIAS'!G$3=TRUE,'FERIAS DE 4 A 6 DIAS'!E280/'FERIAS 3 DIAS'!I$3,'FERIAS DE 4 A 6 DIAS'!E280)","v":1809871},1809871]
[{"$f":"CONCATENATE(B281:B763,\" \",C281:C763)","v":"3071292 CCTV (Tipo 3) Valor de 3 a 6 dias (Valor dia)"},3071292,"CCTV (Tipo 3) Valor de 3 a 6 dias (Valor dia)",{"$f":"IF('FERIAS 3 DIAS'!G$3=TRUE,'FERIAS DE 4 A 6 DIAS'!E281/'FERIAS 3 DIAS'!I$3,'FERIAS DE 4 A 6 DIAS'!E281)","v":1628991},1628991]
[{"$f":"CONCATENATE(B282:B764,\" \",C282:C764)","v":"3071292 CCTV (Tipo 3) Valor de 7 a 18 días (Valor feria)"},3071292,"CCTV (Tipo 3) Valor de 7 a 18 días (Valor feria)",{"$f":"IF('FERIAS 3 DIAS'!G$3=TRUE,'FERIAS DE 4 A 6 DIAS'!E282/'FERIAS 3 DIAS'!I$3,'FERIAS DE 4 A 6 DIAS'!E282)","v":7714056},7714056]
[{"$f":"CONCATENATE(B283:B765,\" \",C283:C765)","v":"3071236 Sistema de Audio tipo Minicomponente / conexión Bluetooh / Usb  ( No aplica para microfono) Valor evento 1 día"},3071236,"Sistema de Audio tipo Minicomponente / conexión Bluetooh / Usb  ( No aplica para microfono) Valor evento 1 día",{"$f":"IF('FERIAS 3 DIAS'!G$3=TRUE,'FERIAS DE 4 A 6 DIAS'!E283/'FERIAS 3 DIAS'!I$3,'FERIAS DE 4 A 6 DIAS'!E283)","v":111979},111979]
[{"$f":"CONCATENATE(B284:B766,\" \",C284:C766)","v":"3071236 Sistema de Audio tipo Minicomponente / conexión Bluetooh / Usb  ( No aplica para microfono) Valor evento 2 dias (Valor dia)"},3071236,"Sistema de Audio tipo Minicomponente / conexión Bluetooh / Usb  ( No aplica para microfono) Valor evento 2 dias (Valor dia)",{"$f":"IF('FERIAS 3 DIAS'!G$3=TRUE,'FERIAS DE 4 A 6 DIAS'!E284/'FERIAS 3 DIAS'!I$3,'FERIAS DE 4 A 6 DIAS'!E284)","v":111979},111979]
[{"$f":"CONCATENATE(B285:B767,\" \",C285:C767)","v":"3071236 Sistema de Audio tipo Minicomponente / conexión Bluetooh / Usb  ( No aplica para microfono) Valor de 3 a 6 dias (Valor dia)"},3071236,"Sistema de Audio tipo Minicomponente / conexión Bluetooh / Usb  ( No aplica para microfono) Valor de 3 a 6 dias (Valor dia)",{"$f":"IF('FERIAS 3 DIAS'!G$3=TRUE,'FERIAS DE 4 A 6 DIAS'!E285/'FERIAS 3 DIAS'!I$3,'FERIAS DE 4 A 6 DIAS'!E285)","v":101388},101388]
[{"$f":"CONCATENATE(B286:B768,\" \",C286:C768)","v":"3071236 Sistema de Audio tipo Minicomponente / conexión Bluetooh / Usb  ( No aplica para microfono) Valor de 7 a 18 días (Valor feria)"},3071236,"Sistema de Audio tipo Minicomponente / conexión Bluetooh / Usb  ( No aplica para microfono) Valor de 7 a 18 días (Valor feria)",{"$f":"IF('FERIAS 3 DIAS'!G$3=TRUE,'FERIAS DE 4 A 6 DIAS'!E286/'FERIAS 3 DIAS'!I$3,'FERIAS DE 4 A 6 DIAS'!E286)","v":723401},723401]
[{"$f":"CONCATENATE(B287:B769,\" \",C287:C769)","v":"30713204 Sistema de Audio compacto Db Technologies Es 503 (Incluye 2 Sub / 2 Cabinas compacta de audio / Conexión Bluetooth / cable de corriente) Valor evento 1 día"},30713204,"Sistema de Audio compacto Db Technologies Es 503 (Incluye 2 Sub / 2 Cabinas compacta de audio / Conexión Bluetooth / cable de corriente) Valor evento 1 día",{"$f":"IF('FERIAS 3 DIAS'!G$3=TRUE,'FERIAS DE 4 A 6 DIAS'!E287/'FERIAS 3 DIAS'!I$3,'FERIAS DE 4 A 6 DIAS'!E287)","v":246211},246211]
[{"$f":"CONCATENATE(B288:B770,\" \",C288:C770)","v":"30713204 Sistema de Audio compacto Db Technologies Es 503 (Incluye 2 Sub / 2 Cabinas compacta de audio / Conexión Bluetooth / cable de corriente) Valor evento 1 día"},30713204,"Sistema de Audio compacto Db Technologies Es 503 (Incluye 2 Sub / 2 Cabinas compacta de audio / Conexión Bluetooth / cable de corriente) Valor evento 1 día",{"$f":"IF('FERIAS 3 DIAS'!G$3=TRUE,'FERIAS DE 4 A 6 DIAS'!E288/'FERIAS 3 DIAS'!I$3,'FERIAS DE 4 A 6 DIAS'!E288)","v":246211},246211]
[{"$f":"CONCATENATE(B289:B771,\" \",C289:C771)","v":"30713204 Sistema de Audio compacto Db Technologies Es 503 (Incluye 2 Sub / 2 Cabinas compacta de audio / Conexión Bluetooth / cable de corriente) Valor de 3 a 6 dias (Valor dia)"},30713204,"Sistema de Audio compacto Db Technologies Es 503 (Incluye 2 Sub / 2 Cabinas compacta de audio / Conexión Bluetooth / cable de corriente) Valor de 3 a 6 dias (Valor dia)",{"$f":"IF('FERIAS 3 DIAS'!G$3=TRUE,'FERIAS DE 4 A 6 DIAS'!E289/'FERIAS 3 DIAS'!I$3,'FERIAS DE 4 A 6 DIAS'!E289)","v":224672},224672]
[{"$f":"CONCATENATE(B290:B772,\" \",C290:C772)","v":"30713204 Sistema de Audio compacto Db Technologies Es 503 (Incluye 2 Sub / 2 Cabinas compacta de audio / Conexión Bluetooth / cable de corriente) Valor de 7 a 18 días (Valor feria)"},30713204,"Sistema de Audio compacto Db Technologies Es 503 (Incluye 2 Sub / 2 Cabinas compacta de audio / Conexión Bluetooth / cable de corriente) Valor de 7 a 18 días (Valor feria)",{"$f":"IF('FERIAS 3 DIAS'!G$3=TRUE,'FERIAS DE 4 A 6 DIAS'!E290/'FERIAS 3 DIAS'!I$3,'FERIAS DE 4 A 6 DIAS'!E290)","v":1572347},1572347]
[{"$f":"CONCATENATE(B291:B773,\" \",C291:C773)","v":"30713205 Sistema de Audio compacto Db Technologies Es 802 (Incluye 4 Sub / 2 Cabinas compacta de audio / cable de corriente) Valor evento 1 día"},30713205,"Sistema de Audio compacto Db Technologies Es 802 (Incluye 4 Sub / 2 Cabinas compacta de audio / cable de corriente) Valor evento 1 día",{"$f":"IF('FERIAS 3 DIAS'!G$3=TRUE,'FERIAS DE 4 A 6 DIAS'!E291/'FERIAS 3 DIAS'!I$3,'FERIAS DE 4 A 6 DIAS'!E291)","v":547162},547162]
[{"$f":"CONCATENATE(B292:B774,\" \",C292:C774)","v":"30713205 Sistema de Audio compacto Db Technologies Es 802 (Incluye 4 Sub / 2 Cabinas compacta de audio / cable de corriente) Valor evento 2 dias (Valor dia)"},30713205,"Sistema de Audio compacto Db Technologies Es 802 (Incluye 4 Sub / 2 Cabinas compacta de audio / cable de corriente) Valor evento 2 dias (Valor dia)",{"$f":"IF('FERIAS 3 DIAS'!G$3=TRUE,'FERIAS DE 4 A 6 DIAS'!E292/'FERIAS 3 DIAS'!I$3,'FERIAS DE 4 A 6 DIAS'!E292)","v":547162},547162]
[{"$f":"CONCATENATE(B293:B775,\" \",C293:C775)","v":"30713205 Sistema de Audio compacto Db Technologies Es 802 (Incluye 4 Sub / 2 Cabinas compacta de audio / cable de corriente) Valor de 3 a 6 dias (Valor dia)"},30713205,"Sistema de Audio compacto Db Technologies Es 802 (Incluye 4 Sub / 2 Cabinas compacta de audio / cable de corriente) Valor de 3 a 6 dias (Valor dia)",{"$f":"IF('FERIAS 3 DIAS'!G$3=TRUE,'FERIAS DE 4 A 6 DIAS'!E293/'FERIAS 3 DIAS'!I$3,'FERIAS DE 4 A 6 DIAS'!E293)","v":517174},517174]
[{"$f":"CONCATENATE(B294:B776,\" \",C294:C776)","v":"30713205 Sistema de Audio compacto Db Technologies Es 802 (Incluye 4 Sub / 2 Cabinas compacta de audio / cable de corriente) Valor de 7 a 18 días (Valor feria)"},30713205,"Sistema de Audio compacto Db Technologies Es 802 (Incluye 4 Sub / 2 Cabinas compacta de audio / cable de corriente) Valor de 7 a 18 días (Valor feria)",{"$f":"IF('FERIAS 3 DIAS'!G$3=TRUE,'FERIAS DE 4 A 6 DIAS'!E294/'FERIAS 3 DIAS'!I$3,'FERIAS DE 4 A 6 DIAS'!E294)","v":3619980},3619980]
[{"$f":"CONCATENATE(B295:B777,\" \",C295:C777)","v":"3071348 Microfono Inalambrico de mano (Incluye Receptor de señal / cable XLR/ 2 baterias AA, no incluye instalación) Valor evento 1 día"},3071348,"Microfono Inalambrico de mano (Incluye Receptor de señal / cable XLR/ 2 baterias AA, no incluye instalación) Valor evento 1 día",{"$f":"IF('FERIAS 3 DIAS'!G$3=TRUE,'FERIAS DE 4 A 6 DIAS'!E295/'FERIAS 3 DIAS'!I$3,'FERIAS DE 4 A 6 DIAS'!E295)","v":95795},95795]
[{"$f":"CONCATENATE(B296:B778,\" \",C296:C778)","v":"3071348 Microfono Inalambrico de mano (Incluye Receptor de señal / cable XLR/ 2 baterias AA, no incluye instalación) Valor evento 2 dias (Valor dia)"},3071348,"Microfono Inalambrico de mano (Incluye Receptor de señal / cable XLR/ 2 baterias AA, no incluye instalación) Valor evento 2 dias (Valor dia)",{"$f":"IF('FERIAS 3 DIAS'!G$3=TRUE,'FERIAS DE 4 A 6 DIAS'!E296/'FERIAS 3 DIAS'!I$3,'FERIAS DE 4 A 6 DIAS'!E296)","v":95795},95795]
[{"$f":"CONCATENATE(B297:B779,\" \",C297:C779)","v":"3071348 Microfono Inalambrico de mano (Incluye Receptor de señal / cable XLR/ 2 baterias AA, no incluye instalación) Valor de 3 a 6 dias (Valor dia)"},3071348,"Microfono Inalambrico de mano (Incluye Receptor de señal / cable XLR/ 2 baterias AA, no incluye instalación) Valor de 3 a 6 dias (Valor dia)",{"$f":"IF('FERIAS 3 DIAS'!G$3=TRUE,'FERIAS DE 4 A 6 DIAS'!E297/'FERIAS 3 DIAS'!I$3,'FERIAS DE 4 A 6 DIAS'!E297)","v":87465},87465]
[{"$f":"CONCATENATE(B298:B780,\" \",C298:C780)","v":"3071348 Microfono Inalambrico de mano (Incluye Receptor de señal / cable XLR/ 2 baterias AA, no incluye instalación) Valor de 7 a 18 días (Valor feria)"},3071348,"Microfono Inalambrico de mano (Incluye Receptor de señal / cable XLR/ 2 baterias AA, no incluye instalación) Valor de 7 a 18 días (Valor feria)",{"$f":"IF('FERIAS 3 DIAS'!G$3=TRUE,'FERIAS DE 4 A 6 DIAS'!E298/'FERIAS 3 DIAS'!I$3,'FERIAS DE 4 A 6 DIAS'!E298)","v":623441},623441]
[{"$f":"CONCATENATE(B299:B781,\" \",C299:C781)","v":"3071349 Microfono Inalambrico de diadema (Incluye Receptor de señal / cable XLR / 2 baterias AA, no incluye instalación) Valor evento 1 día"},3071349,"Microfono Inalambrico de diadema (Incluye Receptor de señal / cable XLR / 2 baterias AA, no incluye instalación) Valor evento 1 día",{"$f":"IF('FERIAS 3 DIAS'!G$3=TRUE,'FERIAS DE 4 A 6 DIAS'!E299/'FERIAS 3 DIAS'!I$3,'FERIAS DE 4 A 6 DIAS'!E299)","v":95795},95795]
[{"$f":"CONCATENATE(B300:B782,\" \",C300:C782)","v":"3071349 Microfono Inalambrico de diadema (Incluye Receptor de señal / cable XLR / 2 baterias AA, no incluye instalación) Valor evento 2 dias (Valor dia)"},3071349,"Microfono Inalambrico de diadema (Incluye Receptor de señal / cable XLR / 2 baterias AA, no incluye instalación) Valor evento 2 dias (Valor dia)",{"$f":"IF('FERIAS 3 DIAS'!G$3=TRUE,'FERIAS DE 4 A 6 DIAS'!E300/'FERIAS 3 DIAS'!I$3,'FERIAS DE 4 A 6 DIAS'!E300)","v":95795},95795]
[{"$f":"CONCATENATE(B301:B783,\" \",C301:C783)","v":"3071349 Microfono Inalambrico de diadema (Incluye Receptor de señal / cable XLR / 2 baterias AA, no incluye instalación) Valor de 3 a 6 dias (Valor dia)"},3071349,"Microfono Inalambrico de diadema (Incluye Receptor de señal / cable XLR / 2 baterias AA, no incluye instalación) Valor de 3 a 6 dias (Valor dia)",{"$f":"IF('FERIAS 3 DIAS'!G$3=TRUE,'FERIAS DE 4 A 6 DIAS'!E301/'FERIAS 3 DIAS'!I$3,'FERIAS DE 4 A 6 DIAS'!E301)","v":87465},87465]
[{"$f":"CONCATENATE(B302:B784,\" \",C302:C784)","v":"3071349 Microfono Inalambrico de diadema (Incluye Receptor de señal / cable XLR / 2 baterias AA, no incluye instalación) Valor de 7 a 18 días (Valor feria)"},3071349,"Microfono Inalambrico de diadema (Incluye Receptor de señal / cable XLR / 2 baterias AA, no incluye instalación) Valor de 7 a 18 días (Valor feria)",{"$f":"IF('FERIAS 3 DIAS'!G$3=TRUE,'FERIAS DE 4 A 6 DIAS'!E302/'FERIAS 3 DIAS'!I$3,'FERIAS DE 4 A 6 DIAS'!E302)","v":623441},623441]
[{"$f":"CONCATENATE(B303:B785,\" \",C303:C785)","v":"30713206 Microfono alambrico (Incluye cable XLR, no incluye instalación) Valor evento 1 día"},30713206,"Microfono alambrico (Incluye cable XLR, no incluye instalación) Valor evento 1 día",{"$f":"IF('FERIAS 3 DIAS'!G$3=TRUE,'FERIAS DE 4 A 6 DIAS'!E303/'FERIAS 3 DIAS'!I$3,'FERIAS DE 4 A 6 DIAS'!E303)","v":32725},32725]
[{"$f":"CONCATENATE(B304:B786,\" \",C304:C786)","v":"30713206 Microfono alambrico (Incluye cable XLR, no incluye instalación) Valor evento 2 dias (Valor dia)"},30713206,"Microfono alambrico (Incluye cable XLR, no incluye instalación) Valor evento 2 dias (Valor dia)",{"$f":"IF('FERIAS 3 DIAS'!G$3=TRUE,'FERIAS DE 4 A 6 DIAS'!E304/'FERIAS 3 DIAS'!I$3,'FERIAS DE 4 A 6 DIAS'!E304)","v":32725},32725]
[{"$f":"CONCATENATE(B305:B787,\" \",C305:C787)","v":"30713206 Microfono alambrico (Incluye cable XLR, no incluye instalación) Valor de 3 a 6 dias (Valor dia)"},30713206,"Microfono alambrico (Incluye cable XLR, no incluye instalación) Valor de 3 a 6 dias (Valor dia)",{"$f":"IF('FERIAS 3 DIAS'!G$3=TRUE,'FERIAS DE 4 A 6 DIAS'!E305/'FERIAS 3 DIAS'!I$3,'FERIAS DE 4 A 6 DIAS'!E305)","v":29393},29393]
[{"$f":"CONCATENATE(B306:B788,\" \",C306:C788)","v":"30713206 Microfono alambrico (Incluye cable XLR, no incluye instalación) Valor de 7 a 18 días (Valor feria)"},30713206,"Microfono alambrico (Incluye cable XLR, no incluye instalación) Valor de 7 a 18 días (Valor feria)",{"$f":"IF('FERIAS 3 DIAS'!G$3=TRUE,'FERIAS DE 4 A 6 DIAS'!E306/'FERIAS 3 DIAS'!I$3,'FERIAS DE 4 A 6 DIAS'!E306)","v":205394},205394]
[{"$f":"CONCATENATE(B307:B789,\" \",C307:C789)","v":"30713207 Microfono Country Man (Incluye Receptor de señal / cable XLR / 2 baterias AA, no incluye instalación) Valor evento 1 día"},30713207,"Microfono Country Man (Incluye Receptor de señal / cable XLR / 2 baterias AA, no incluye instalación) Valor evento 1 día",{"$f":"IF('FERIAS 3 DIAS'!G$3=TRUE,'FERIAS DE 4 A 6 DIAS'!E307/'FERIAS 3 DIAS'!I$3,'FERIAS DE 4 A 6 DIAS'!E307)","v":186592},186592]
[{"$f":"CONCATENATE(B308:B790,\" \",C308:C790)","v":"30713207 Microfono Country Man (Incluye Receptor de señal / cable XLR / 2 baterias AA, no incluye instalación) Valor evento 2 dias (Valor dia)"},30713207,"Microfono Country Man (Incluye Receptor de señal / cable XLR / 2 baterias AA, no incluye instalación) Valor evento 2 dias (Valor dia)",{"$f":"IF('FERIAS 3 DIAS'!G$3=TRUE,'FERIAS DE 4 A 6 DIAS'!E308/'FERIAS 3 DIAS'!I$3,'FERIAS DE 4 A 6 DIAS'!E308)","v":186592},186592]
[{"$f":"CONCATENATE(B309:B791,\" \",C309:C791)","v":"30713207 Microfono Country Man (Incluye Receptor de señal / cable XLR / 2 baterias AA, no incluye instalación) Valor de 3 a 6 dias (Valor dia)"},30713207,"Microfono Country Man (Incluye Receptor de señal / cable XLR / 2 baterias AA, no incluye instalación) Valor de 3 a 6 dias (Valor dia)",{"$f":"IF('FERIAS 3 DIAS'!G$3=TRUE,'FERIAS DE 4 A 6 DIAS'!E309/'FERIAS 3 DIAS'!I$3,'FERIAS DE 4 A 6 DIAS'!E309)","v":169099},169099]
[{"$f":"CONCATENATE(B310:B792,\" \",C310:C792)","v":"30713207 Microfono Country Man (Incluye Receptor de señal / cable XLR / 2 baterias AA, no incluye instalación) Valor de 7 a 18 días (Valor feria)"},30713207,"Microfono Country Man (Incluye Receptor de señal / cable XLR / 2 baterias AA, no incluye instalación) Valor de 7 a 18 días (Valor feria)",{"$f":"IF('FERIAS 3 DIAS'!G$3=TRUE,'FERIAS DE 4 A 6 DIAS'!E310/'FERIAS 3 DIAS'!I$3,'FERIAS DE 4 A 6 DIAS'!E310)","v":1184050},1184050]
[{"$f":"CONCATENATE(B311:B793,\" \",C311:C793)","v":"3071283 Microfono Cuello de Ganso  (Incluye cable XLR, no incluye instalación) Valor evento 1 día"},3071283,"Microfono Cuello de Ganso  (Incluye cable XLR, no incluye instalación) Valor evento 1 día",{"$f":"IF('FERIAS 3 DIAS'!G$3=TRUE,'FERIAS DE 4 A 6 DIAS'!E311/'FERIAS 3 DIAS'!I$3,'FERIAS DE 4 A 6 DIAS'!E311)","v":232764},232764]
[{"$f":"CONCATENATE(B312:B794,\" \",C312:C794)","v":"3071283 Microfono Cuello de Ganso  (Incluye cable XLR, no incluye instalación) Valor evento 2 dias (Valor dia)"},3071283,"Microfono Cuello de Ganso  (Incluye cable XLR, no incluye instalación) Valor evento 2 dias (Valor dia)",{"$f":"IF('FERIAS 3 DIAS'!G$3=TRUE,'FERIAS DE 4 A 6 DIAS'!E312/'FERIAS 3 DIAS'!I$3,'FERIAS DE 4 A 6 DIAS'!E312)","v":232883},232883]
[{"$f":"CONCATENATE(B313:B795,\" \",C313:C795)","v":"3071283 Microfono Cuello de Ganso  (Incluye cable XLR, no incluye instalación) Valor de 3 a 6 dias (Valor dia)"},3071283,"Microfono Cuello de Ganso  (Incluye cable XLR, no incluye instalación) Valor de 3 a 6 dias (Valor dia)",{"$f":"IF('FERIAS 3 DIAS'!G$3=TRUE,'FERIAS DE 4 A 6 DIAS'!E313/'FERIAS 3 DIAS'!I$3,'FERIAS DE 4 A 6 DIAS'!E313)","v":209559},209559]
[{"$f":"CONCATENATE(B314:B796,\" \",C314:C796)","v":"3071283 Microfono Cuello de Ganso  (Incluye cable XLR, no incluye instalación) Valor de 7 a 18 días (Valor feria)"},3071283,"Microfono Cuello de Ganso  (Incluye cable XLR, no incluye instalación) Valor de 7 a 18 días (Valor feria)",{"$f":"IF('FERIAS 3 DIAS'!G$3=TRUE,'FERIAS DE 4 A 6 DIAS'!E314/'FERIAS 3 DIAS'!I$3,'FERIAS DE 4 A 6 DIAS'!E314)","v":1676472},1676472]
[{"$f":"CONCATENATE(B315:B797,\" \",C315:C797)","v":"30713208 Consola de Audio Analoga de 4CH (Se Requiere Operario) Valor evento 1 día"},30713208,"Consola de Audio Analoga de 4CH (Se Requiere Operario) Valor evento 1 día",{"$f":"IF('FERIAS 3 DIAS'!G$3=TRUE,'FERIAS DE 4 A 6 DIAS'!E315/'FERIAS 3 DIAS'!I$3,'FERIAS DE 4 A 6 DIAS'!E315)","v":190400},190400]
[{"$f":"CONCATENATE(B316:B798,\" \",C316:C798)","v":"30713208 Consola de Audio Analoga de 4CH (Se Requiere Operario) Valor evento 2 dias (Valor dia)"},30713208,"Consola de Audio Analoga de 4CH (Se Requiere Operario) Valor evento 2 dias (Valor dia)",{"$f":"IF('FERIAS 3 DIAS'!G$3=TRUE,'FERIAS DE 4 A 6 DIAS'!E316/'FERIAS 3 DIAS'!I$3,'FERIAS DE 4 A 6 DIAS'!E316)","v":190400},190400]
[{"$f":"CONCATENATE(B317:B799,\" \",C317:C799)","v":"30713208 Consola de Audio Analoga de 4CH (Se Requiere Operario) Valor de 3 a 6 dias (Valor dia)"},30713208,"Consola de Audio Analoga de 4CH (Se Requiere Operario) Valor de 3 a 6 dias (Valor dia)",{"$f":"IF('FERIAS 3 DIAS'!G$3=TRUE,'FERIAS DE 4 A 6 DIAS'!E317/'FERIAS 3 DIAS'!I$3,'FERIAS DE 4 A 6 DIAS'!E317)","v":171360},171360]
[{"$f":"CONCATENATE(B318:B800,\" \",C318:C800)","v":"30713208 Consola de Audio Analoga de 4CH (Se Requiere Operario) Valor de 7 a 18 días (Valor feria"},30713208,"Consola de Audio Analoga de 4CH (Se Requiere Operario) Valor de 7 a 18 días (Valor feria",{"$f":"IF('FERIAS 3 DIAS'!G$3=TRUE,'FERIAS DE 4 A 6 DIAS'!E318/'FERIAS 3 DIAS'!I$3,'FERIAS DE 4 A 6 DIAS'!E318)","v":2159136},2159136]
[{"$f":"CONCATENATE(B319:B801,\" \",C319:C801)","v":"30713208 Consola de Audio Analoga de 8CH (Se Requiere Operiario) Valor evento 1 día"},30713208,"Consola de Audio Analoga de 8CH (Se Requiere Operiario) Valor evento 1 día",{"$f":"IF('FERIAS 3 DIAS'!G$3=TRUE,'FERIAS DE 4 A 6 DIAS'!E319/'FERIAS 3 DIAS'!I$3,'FERIAS DE 4 A 6 DIAS'!E319)","v":380800},380800]
[{"$f":"CONCATENATE(B320:B802,\" \",C320:C802)","v":"30713208 Consola de Audio Analoga de 8CH (Se Requiere Operiario) Valor evento 2 dias (Valor dia)"},30713208,"Consola de Audio Analoga de 8CH (Se Requiere Operiario) Valor evento 2 dias (Valor dia)",{"$f":"IF('FERIAS 3 DIAS'!G$3=TRUE,'FERIAS DE 4 A 6 DIAS'!E320/'FERIAS 3 DIAS'!I$3,'FERIAS DE 4 A 6 DIAS'!E320)","v":380800},380800]
[{"$f":"CONCATENATE(B321:B803,\" \",C321:C803)","v":"30713208 Consola de Audio Analoga de 8CH (Se Requiere Operiario) Valor de 3 a 6 dias (Valor dia)"},30713208,"Consola de Audio Analoga de 8CH (Se Requiere Operiario) Valor de 3 a 6 dias (Valor dia)",{"$f":"IF('FERIAS 3 DIAS'!G$3=TRUE,'FERIAS DE 4 A 6 DIAS'!E321/'FERIAS 3 DIAS'!I$3,'FERIAS DE 4 A 6 DIAS'!E321)","v":342720},342720]
[{"$f":"CONCATENATE(B322:B804,\" \",C322:C804)","v":"30713208 Consola de Audio Analoga de 8CH (Se Requiere Operiario) Valor de 7 a 18 días (Valor feria"},30713208,"Consola de Audio Analoga de 8CH (Se Requiere Operiario) Valor de 7 a 18 días (Valor feria",{"$f":"IF('FERIAS 3 DIAS'!G$3=TRUE,'FERIAS DE 4 A 6 DIAS'!E322/'FERIAS 3 DIAS'!I$3,'FERIAS DE 4 A 6 DIAS'!E322)","v":3842510},3842510]
[{"$f":"CONCATENATE(B323:B805,\" \",C323:C805)","v":"30713208 Cabina Activa (Incluye Cable conexión de audio RCA - Plug 1/4 / Cable de corriente) Valor evento 1 día"},30713208,"Cabina Activa (Incluye Cable conexión de audio RCA - Plug 1/4 / Cable de corriente) Valor evento 1 día",{"$f":"IF('FERIAS 3 DIAS'!G$3=TRUE,'FERIAS DE 4 A 6 DIAS'!E323/'FERIAS 3 DIAS'!I$3,'FERIAS DE 4 A 6 DIAS'!E323)","v":111979},111979]
[{"$f":"CONCATENATE(B324:B806,\" \",C324:C806)","v":"30713208 Cabina Activa (Incluye Cable conexión de audio RCA - Plug 1/4 / Cable de corriente) Valor evento 2 dias (Valor dia)"},30713208,"Cabina Activa (Incluye Cable conexión de audio RCA - Plug 1/4 / Cable de corriente) Valor evento 2 dias (Valor dia)",{"$f":"IF('FERIAS 3 DIAS'!G$3=TRUE,'FERIAS DE 4 A 6 DIAS'!E324/'FERIAS 3 DIAS'!I$3,'FERIAS DE 4 A 6 DIAS'!E324)","v":111979},111979]
[{"$f":"CONCATENATE(B325:B807,\" \",C325:C807)","v":"30713208 Cabina Activa (Incluye Cable conexión de audio RCA - Plug 1/4 / Cable de corriente) Valor de 3 a 6 dias (Valor dia)"},30713208,"Cabina Activa (Incluye Cable conexión de audio RCA - Plug 1/4 / Cable de corriente) Valor de 3 a 6 dias (Valor dia)",{"$f":"IF('FERIAS 3 DIAS'!G$3=TRUE,'FERIAS DE 4 A 6 DIAS'!E325/'FERIAS 3 DIAS'!I$3,'FERIAS DE 4 A 6 DIAS'!E325)","v":101507},101507]
[{"$f":"CONCATENATE(B326:B808,\" \",C326:C808)","v":"30713208 Cabina Activa (Incluye Cable conexión de audio RCA - Plug 1/4 / Cable de corriente) Valor de 7 a 18 días (Valor feria)"},30713208,"Cabina Activa (Incluye Cable conexión de audio RCA - Plug 1/4 / Cable de corriente) Valor de 7 a 18 días (Valor feria)",{"$f":"IF('FERIAS 3 DIAS'!G$3=TRUE,'FERIAS DE 4 A 6 DIAS'!E326/'FERIAS 3 DIAS'!I$3,'FERIAS DE 4 A 6 DIAS'!E326)","v":710073},710073]
[{"$f":"CONCATENATE(B327:B809,\" \",C327:C809)","v":"3071293 Caja para periodistas conexión canon de 10 CH / (No incluye operario permanente) Valor evento 1 día"},3071293,"Caja para periodistas conexión canon de 10 CH / (No incluye operario permanente) Valor evento 1 día",{"$f":"IF('FERIAS 3 DIAS'!G$3=TRUE,'FERIAS DE 4 A 6 DIAS'!E327/'FERIAS 3 DIAS'!I$3,'FERIAS DE 4 A 6 DIAS'!E327)","v":122570},122570]
[{"$f":"CONCATENATE(B328:B810,\" \",C328:C810)","v":"3071293 Caja para periodistas conexión canon de 10 CH / (No incluye operario permanente) Valor evento 2 dias (Valor dia)"},3071293,"Caja para periodistas conexión canon de 10 CH / (No incluye operario permanente) Valor evento 2 dias (Valor dia)",{"$f":"IF('FERIAS 3 DIAS'!G$3=TRUE,'FERIAS DE 4 A 6 DIAS'!E328/'FERIAS 3 DIAS'!I$3,'FERIAS DE 4 A 6 DIAS'!E328)","v":122570},122570]
[{"$f":"CONCATENATE(B329:B811,\" \",C329:C811)","v":"3071293 Caja para periodistas conexión canon de 10 CH / (No incluye operario permanente) Valor de 3 a 6 dias (Valor dia)"},3071293,"Caja para periodistas conexión canon de 10 CH / (No incluye operario permanente) Valor de 3 a 6 dias (Valor dia)",{"$f":"IF('FERIAS 3 DIAS'!G$3=TRUE,'FERIAS DE 4 A 6 DIAS'!E329/'FERIAS 3 DIAS'!I$3,'FERIAS DE 4 A 6 DIAS'!E329)","v":110313},110313]
[{"$f":"CONCATENATE(B330:B812,\" \",C330:C812)","v":"3071293 Caja para periodistas conexión canon de 10 CH / (No incluye operario permanente) Valor de 7 a 18 días (Valor feria)"},3071293,"Caja para periodistas conexión canon de 10 CH / (No incluye operario permanente) Valor de 7 a 18 días (Valor feria)",{"$f":"IF('FERIAS 3 DIAS'!G$3=TRUE,'FERIAS DE 4 A 6 DIAS'!E330/'FERIAS 3 DIAS'!I$3,'FERIAS DE 4 A 6 DIAS'!E330)","v":882147},882147]
[{"$f":"CONCATENATE(B331:B805,\" \",C331:C805)","v":"3070411 Sonido de 1 a 100 Pax (Incluye 2 cabinas activas / 1 Microfono alambrico / cable XLR / 2 tripodes) (No incluye operario permanente) Valor evento 1 día"},3070411,"Sonido de 1 a 100 Pax (Incluye 2 cabinas activas / 1 Microfono alambrico / cable XLR / 2 tripodes) (No incluye operario permanente) Valor evento 1 día",{"$f":"IF('FERIAS 3 DIAS'!G$3=TRUE,'FERIAS DE 4 A 6 DIAS'!E331/'FERIAS 3 DIAS'!I$3,'FERIAS DE 4 A 6 DIAS'!E331)","v":192780},192780]
[{"$f":"CONCATENATE(B332:B806,\" \",C332:C806)","v":"3070411 Sonido de 1 a 100 Pax (Incluye 2 cabinas activas / 1 Microfono alambrico / cable XLR / 2 tripodes) (No incluye operario permanente) Valor evento 2 dias (Valor dia)"},3070411,"Sonido de 1 a 100 Pax (Incluye 2 cabinas activas / 1 Microfono alambrico / cable XLR / 2 tripodes) (No incluye operario permanente) Valor evento 2 dias (Valor dia)",{"$f":"IF('FERIAS 3 DIAS'!G$3=TRUE,'FERIAS DE 4 A 6 DIAS'!E332/'FERIAS 3 DIAS'!I$3,'FERIAS DE 4 A 6 DIAS'!E332)","v":192780},192780]
[{"$f":"CONCATENATE(B333:B807,\" \",C333:C807)","v":"3070411 Sonido de 1 a 100 Pax (Incluye 2 cabinas activas / 1 Microfono alambrico / cable XLR / 2 tripodes) (No incluye operario permanente) Valor de 3 a 6 dias (Valor dia)"},3070411,"Sonido de 1 a 100 Pax (Incluye 2 cabinas activas / 1 Microfono alambrico / cable XLR / 2 tripodes) (No incluye operario permanente) Valor de 3 a 6 dias (Valor dia)",{"$f":"IF('FERIAS 3 DIAS'!G$3=TRUE,'FERIAS DE 4 A 6 DIAS'!E333/'FERIAS 3 DIAS'!I$3,'FERIAS DE 4 A 6 DIAS'!E333)","v":175763},175763]
[{"$f":"CONCATENATE(B334:B808,\" \",C334:C808)","v":"3070411 Sonido de 1 a 100 Pax (Incluye 2 cabinas activas / 1 Microfono alambrico / cable XLR / 2 tripodes) (No incluye operario permanente) Valor de 7 a 18 días (Valor feria)"},3070411,"Sonido de 1 a 100 Pax (Incluye 2 cabinas activas / 1 Microfono alambrico / cable XLR / 2 tripodes) (No incluye operario permanente) Valor de 7 a 18 días (Valor feria)",{"$f":"IF('FERIAS 3 DIAS'!G$3=TRUE,'FERIAS DE 4 A 6 DIAS'!E334/'FERIAS 3 DIAS'!I$3,'FERIAS DE 4 A 6 DIAS'!E334)","v":1254498},1254498]
[{"$f":"CONCATENATE(B335:B809,\" \",C335:C809)","v":"3071347 Sonido de 100 a 200 Pax (Incluye 4 cabinas activas / 2 Microfono alambrico / 2 cables XLR / 4 tripodes) (No incluye operario permanente) Valor evento 1 día"},3071347,"Sonido de 100 a 200 Pax (Incluye 4 cabinas activas / 2 Microfono alambrico / 2 cables XLR / 4 tripodes) (No incluye operario permanente) Valor evento 1 día",{"$f":"IF('FERIAS 3 DIAS'!G$3=TRUE,'FERIAS DE 4 A 6 DIAS'!E335/'FERIAS 3 DIAS'!I$3,'FERIAS DE 4 A 6 DIAS'!E335)","v":286076},286076]
[{"$f":"CONCATENATE(B336:B810,\" \",C336:C810)","v":"3071347 Sonido de 100 a 200 Pax (Incluye 4 cabinas activas / 2 Microfono alambrico / 2 cables XLR / 4 tripodes) (No incluye operario permanente) Valor evento 2 dias (Valor dia)"},3071347,"Sonido de 100 a 200 Pax (Incluye 4 cabinas activas / 2 Microfono alambrico / 2 cables XLR / 4 tripodes) (No incluye operario permanente) Valor evento 2 dias (Valor dia)",{"$f":"IF('FERIAS 3 DIAS'!G$3=TRUE,'FERIAS DE 4 A 6 DIAS'!E336/'FERIAS 3 DIAS'!I$3,'FERIAS DE 4 A 6 DIAS'!E336)","v":286076},286076]
[{"$f":"CONCATENATE(B337:B811,\" \",C337:C811)","v":"3071347 Sonido de 100 a 200 Pax (Incluye 4 cabinas activas / 2 Microfono alambrico / 2 cables XLR / 4 tripodes) (No incluye operario permanente) Valor de 3 a 6 dias (Valor dia)"},3071347,"Sonido de 100 a 200 Pax (Incluye 4 cabinas activas / 2 Microfono alambrico / 2 cables XLR / 4 tripodes) (No incluye operario permanente) Valor de 3 a 6 dias (Valor dia)",{"$f":"IF('FERIAS 3 DIAS'!G$3=TRUE,'FERIAS DE 4 A 6 DIAS'!E337/'FERIAS 3 DIAS'!I$3,'FERIAS DE 4 A 6 DIAS'!E337)","v":259777},259777]
[{"$f":"CONCATENATE(B338:B812,\" \",C338:C812)","v":"3071347 Sonido de 100 a 200 Pax (Incluye 4 cabinas activas / 2 Microfono alambrico / 2 cables XLR / 4 tripodes) (No incluye operario permanente) Valor de 7 a 18 días (Valor feria)"},3071347,"Sonido de 100 a 200 Pax (Incluye 4 cabinas activas / 2 Microfono alambrico / 2 cables XLR / 4 tripodes) (No incluye operario permanente) Valor de 7 a 18 días (Valor feria)",{"$f":"IF('FERIAS 3 DIAS'!G$3=TRUE,'FERIAS DE 4 A 6 DIAS'!E338/'FERIAS 3 DIAS'!I$3,'FERIAS DE 4 A 6 DIAS'!E338)","v":1854496},1854496]
[{"$f":"CONCATENATE(B339:B813,\" \",C339:C813)","v":"3071294 Sonido de 200 a 300 Pax (Incluye 6 cabinas activas / 2 Microfono alambrico / 2 cables XLR / 6 tripodes) (No incluye operario permanente) Valor evento 1 día"},3071294,"Sonido de 200 a 300 Pax (Incluye 6 cabinas activas / 2 Microfono alambrico / 2 cables XLR / 6 tripodes) (No incluye operario permanente) Valor evento 1 día",{"$f":"IF('FERIAS 3 DIAS'!G$3=TRUE,'FERIAS DE 4 A 6 DIAS'!E339/'FERIAS 3 DIAS'!I$3,'FERIAS DE 4 A 6 DIAS'!E339)","v":528479},528479]
[{"$f":"CONCATENATE(B340:B814,\" \",C340:C814)","v":"3071294 Sonido de 200 a 300 Pax (Incluye 6 cabinas activas / 2 Microfono alambrico / 2 cables XLR / 6 tripodes) (No incluye operario permanente) Valor evento 2 dias (Valor dia)"},3071294,"Sonido de 200 a 300 Pax (Incluye 6 cabinas activas / 2 Microfono alambrico / 2 cables XLR / 6 tripodes) (No incluye operario permanente) Valor evento 2 dias (Valor dia)",{"$f":"IF('FERIAS 3 DIAS'!G$3=TRUE,'FERIAS DE 4 A 6 DIAS'!E340/'FERIAS 3 DIAS'!I$3,'FERIAS DE 4 A 6 DIAS'!E340)","v":528479},528479]
[{"$f":"CONCATENATE(B341:B815,\" \",C341:C815)","v":"3071294 Sonido de 200 a 300 Pax (Incluye 6 cabinas activas / 2 Microfono alambrico / 2 cables XLR / 6 tripodes) (No incluye operario permanente) Valor de 3 a 6 dias (Valor dia)"},3071294,"Sonido de 200 a 300 Pax (Incluye 6 cabinas activas / 2 Microfono alambrico / 2 cables XLR / 6 tripodes) (No incluye operario permanente) Valor de 3 a 6 dias (Valor dia)",{"$f":"IF('FERIAS 3 DIAS'!G$3=TRUE,'FERIAS DE 4 A 6 DIAS'!E341/'FERIAS 3 DIAS'!I$3,'FERIAS DE 4 A 6 DIAS'!E341)","v":482426},482426]
[{"$f":"CONCATENATE(B342:B816,\" \",C342:C816)","v":"3071294 Sonido de 200 a 300 Pax (Incluye 6 cabinas activas / 2 Microfono alambrico / 2 cables XLR / 6 tripodes) (No incluye operario permanente) Valor de 7 a 18 días (Valor feria)"},3071294,"Sonido de 200 a 300 Pax (Incluye 6 cabinas activas / 2 Microfono alambrico / 2 cables XLR / 6 tripodes) (No incluye operario permanente) Valor de 7 a 18 días (Valor feria)",{"$f":"IF('FERIAS 3 DIAS'!G$3=TRUE,'FERIAS DE 4 A 6 DIAS'!E342/'FERIAS 3 DIAS'!I$3,'FERIAS DE 4 A 6 DIAS'!E342)","v":3445288},3445288]
[{"$f":"CONCATENATE(B343:B817,\" \",C343:C817)","v":"3071295 Sonido de 300 a 400 Pax (Incluye 8 cabinas activas / 3 Microfono alambrico / 3 cables XLR / 8 tripodes) (No incluye operario permanente) Valor evento 1 día"},3071295,"Sonido de 300 a 400 Pax (Incluye 8 cabinas activas / 3 Microfono alambrico / 3 cables XLR / 8 tripodes) (No incluye operario permanente) Valor evento 1 día",{"$f":"IF('FERIAS 3 DIAS'!G$3=TRUE,'FERIAS DE 4 A 6 DIAS'!E343/'FERIAS 3 DIAS'!I$3,'FERIAS DE 4 A 6 DIAS'!E343)","v":659141},659141]
[{"$f":"CONCATENATE(B344:B818,\" \",C344:C818)","v":"3071295 Sonido de 300 a 400 Pax (Incluye 8 cabinas activas / 3 Microfono alambrico / 3 cables XLR / 8 tripodes) (No incluye operario permanente) Valor evento 2 dias (Valor dia)"},3071295,"Sonido de 300 a 400 Pax (Incluye 8 cabinas activas / 3 Microfono alambrico / 3 cables XLR / 8 tripodes) (No incluye operario permanente) Valor evento 2 dias (Valor dia)",{"$f":"IF('FERIAS 3 DIAS'!G$3=TRUE,'FERIAS DE 4 A 6 DIAS'!E344/'FERIAS 3 DIAS'!I$3,'FERIAS DE 4 A 6 DIAS'!E344)","v":659141},659141]
[{"$f":"CONCATENATE(B345:B819,\" \",C345:C819)","v":"3071295 Sonido de 300 a 400 Pax (Incluye 8 cabinas activas / 3 Microfono alambrico / 3 cables XLR / 8 tripodes) (No incluye operario permanente) Valor de 3 a 6 dias (Valor dia)"},3071295,"Sonido de 300 a 400 Pax (Incluye 8 cabinas activas / 3 Microfono alambrico / 3 cables XLR / 8 tripodes) (No incluye operario permanente) Valor de 3 a 6 dias (Valor dia)",{"$f":"IF('FERIAS 3 DIAS'!G$3=TRUE,'FERIAS DE 4 A 6 DIAS'!E345/'FERIAS 3 DIAS'!I$3,'FERIAS DE 4 A 6 DIAS'!E345)","v":597142},597142]
[{"$f":"CONCATENATE(B346:B820,\" \",C346:C820)","v":"3071295 Sonido de 300 a 400 Pax (Incluye 8 cabinas activas / 3 Microfono alambrico / 3 cables XLR / 8 tripodes) (No incluye operario permanente) Valor de 7 a 18 días (Valor feria)"},3071295,"Sonido de 300 a 400 Pax (Incluye 8 cabinas activas / 3 Microfono alambrico / 3 cables XLR / 8 tripodes) (No incluye operario permanente) Valor de 7 a 18 días (Valor feria)",{"$f":"IF('FERIAS 3 DIAS'!G$3=TRUE,'FERIAS DE 4 A 6 DIAS'!E346/'FERIAS 3 DIAS'!I$3,'FERIAS DE 4 A 6 DIAS'!E346)","v":4264127},4264127]
[{"$f":"CONCATENATE(B347:B821,\" \",C347:C821)","v":"3071296 Sonido de 400 a 500 Pax (Incluye 8 cabinas activas / 4 Microfono alambrico / 4 cables XLR / 1 consola analoga de 4CH / 8 tripodes) (No incluye operario permanente) Valor evento 1 día"},3071296,"Sonido de 400 a 500 Pax (Incluye 8 cabinas activas / 4 Microfono alambrico / 4 cables XLR / 1 consola analoga de 4CH / 8 tripodes) (No incluye operario permanente) Valor evento 1 día",{"$f":"IF('FERIAS 3 DIAS'!G$3=TRUE,'FERIAS DE 4 A 6 DIAS'!E347/'FERIAS 3 DIAS'!I$3,'FERIAS DE 4 A 6 DIAS'!E347)","v":684012},684012]
[{"$f":"CONCATENATE(B348:B822,\" \",C348:C822)","v":"3071296 Sonido de 400 a 500 Pax (Incluye 8 cabinas activas / 4 Microfono alambrico / 4 cables XLR / 1 consola analoga de 4CH / 8 tripodes) (No incluye operario permanente) Valor evento 2 dias (Valor dia)"},3071296,"Sonido de 400 a 500 Pax (Incluye 8 cabinas activas / 4 Microfono alambrico / 4 cables XLR / 1 consola analoga de 4CH / 8 tripodes) (No incluye operario permanente) Valor evento 2 dias (Valor dia)",{"$f":"IF('FERIAS 3 DIAS'!G$3=TRUE,'FERIAS DE 4 A 6 DIAS'!E348/'FERIAS 3 DIAS'!I$3,'FERIAS DE 4 A 6 DIAS'!E348)","v":684012},684012]
[{"$f":"CONCATENATE(B349:B823,\" \",C349:C823)","v":"3071296 Sonido de 400 a 500 Pax (Incluye 8 cabinas activas / 4 Microfono alambrico / 4 cables XLR / 1 consola analoga de 4CH / 8 tripodes) (No incluye operario permanente) Valor de 3 a 6 dias (Valor dia)"},3071296,"Sonido de 400 a 500 Pax (Incluye 8 cabinas activas / 4 Microfono alambrico / 4 cables XLR / 1 consola analoga de 4CH / 8 tripodes) (No incluye operario permanente) Valor de 3 a 6 dias (Valor dia)",{"$f":"IF('FERIAS 3 DIAS'!G$3=TRUE,'FERIAS DE 4 A 6 DIAS'!E349/'FERIAS 3 DIAS'!I$3,'FERIAS DE 4 A 6 DIAS'!E349)","v":622013},622013]
[{"$f":"CONCATENATE(B350:B824,\" \",C350:C824)","v":"3071296 Sonido de 400 a 500 Pax (Incluye 8 cabinas activas / 4 Microfono alambrico / 4 cables XLR / 1 consola analoga de 4CH / 8 tripodes) (No incluye operario permanente) Valor de 7 a 18 días (Valor feria)"},3071296,"Sonido de 400 a 500 Pax (Incluye 8 cabinas activas / 4 Microfono alambrico / 4 cables XLR / 1 consola analoga de 4CH / 8 tripodes) (No incluye operario permanente) Valor de 7 a 18 días (Valor feria)",{"$f":"IF('FERIAS 3 DIAS'!G$3=TRUE,'FERIAS DE 4 A 6 DIAS'!E350/'FERIAS 3 DIAS'!I$3,'FERIAS DE 4 A 6 DIAS'!E350)","v":4442032},4442032]
[{"$f":"CONCATENATE(B351:B825,\" \",C351:C825)","v":"3071297 Sonido de 500 a 800 Pax - Sistema Line Array sin estructura (Incluye 4 cajas Hi -Mid / 2 Subs) servicio sujeto a reunion tecnica de produccion Valor evento 1 día"},3071297,"Sonido de 500 a 800 Pax - Sistema Line Array sin estructura (Incluye 4 cajas Hi -Mid / 2 Subs) servicio sujeto a reunion tecnica de produccion Valor evento 1 día",{"$f":"IF('FERIAS 3 DIAS'!G$3=TRUE,'FERIAS DE 4 A 6 DIAS'!E351/'FERIAS 3 DIAS'!I$3,'FERIAS DE 4 A 6 DIAS'!E351)","v":1467389},1467389]
[{"$f":"CONCATENATE(B352:B826,\" \",C352:C826)","v":"3071297 Sonido de 500 a 800 Pax - Sistema Line Array sin estructura (Incluye 4 cajas Hi -Mid / 2 Subs) servicio sujeto a reunion tecnica de produccion Valor evento 2 dias (Valor dia)"},3071297,"Sonido de 500 a 800 Pax - Sistema Line Array sin estructura (Incluye 4 cajas Hi -Mid / 2 Subs) servicio sujeto a reunion tecnica de produccion Valor evento 2 dias (Valor dia)",{"$f":"IF('FERIAS 3 DIAS'!G$3=TRUE,'FERIAS DE 4 A 6 DIAS'!E352/'FERIAS 3 DIAS'!I$3,'FERIAS DE 4 A 6 DIAS'!E352)","v":1467389},1467389]
[{"$f":"CONCATENATE(B353:B827,\" \",C353:C827)","v":"3071297 Sonido de 500 a 800 Pax - Sistema Line Array sin estructura (Incluye 4 cajas Hi -Mid / 2 Subs) servicio sujeto a reunion tecnica de produccion Valor de 3 a 6 dias (Valor dia)"},3071297,"Sonido de 500 a 800 Pax - Sistema Line Array sin estructura (Incluye 4 cajas Hi -Mid / 2 Subs) servicio sujeto a reunion tecnica de produccion Valor de 3 a 6 dias (Valor dia)",{"$f":"IF('FERIAS 3 DIAS'!G$3=TRUE,'FERIAS DE 4 A 6 DIAS'!E353/'FERIAS 3 DIAS'!I$3,'FERIAS DE 4 A 6 DIAS'!E353)","v":1336846},1336846]
[{"$f":"CONCATENATE(B354:B828,\" \",C354:C828)","v":"3071297 Sonido de 500 a 800 Pax - Sistema Line Array sin estructura (Incluye 4 cajas Hi -Mid / 2 Subs) servicio sujeto a reunion tecnica de produccion Valor de 7 a 18 días (Valor feria)"},3071297,"Sonido de 500 a 800 Pax - Sistema Line Array sin estructura (Incluye 4 cajas Hi -Mid / 2 Subs) servicio sujeto a reunion tecnica de produccion Valor de 7 a 18 días (Valor feria)",{"$f":"IF('FERIAS 3 DIAS'!G$3=TRUE,'FERIAS DE 4 A 6 DIAS'!E354/'FERIAS 3 DIAS'!I$3,'FERIAS DE 4 A 6 DIAS'!E354)","v":9568552},9568552]
[{"$f":"CONCATENATE(B355:B829,\" \",C355:C829)","v":"3071298 Sonido de 800 a 1500 Pax - Sistema Line Array sin estructura (Incluye 8 cajas Hi -Mid / 2 Subs) servicio sujeto a reunion tecnica de produccion Valor evento 1 día"},3071298,"Sonido de 800 a 1500 Pax - Sistema Line Array sin estructura (Incluye 8 cajas Hi -Mid / 2 Subs) servicio sujeto a reunion tecnica de produccion Valor evento 1 día",{"$f":"IF('FERIAS 3 DIAS'!G$3=TRUE,'FERIAS DE 4 A 6 DIAS'!E355/'FERIAS 3 DIAS'!I$3,'FERIAS DE 4 A 6 DIAS'!E355)","v":2337874},2337874]
[{"$f":"CONCATENATE(B356:B830,\" \",C356:C830)","v":"3071298 Sonido de 800 a 1500 Pax - Sistema Line Array sin estructura (Incluye 8 cajas Hi -Mid / 2 Subs) servicio sujeto a reunion tecnica de produccion Valor evento 2 dias (Valor dia)"},3071298,"Sonido de 800 a 1500 Pax - Sistema Line Array sin estructura (Incluye 8 cajas Hi -Mid / 2 Subs) servicio sujeto a reunion tecnica de produccion Valor evento 2 dias (Valor dia)",{"$f":"IF('FERIAS 3 DIAS'!G$3=TRUE,'FERIAS DE 4 A 6 DIAS'!E356/'FERIAS 3 DIAS'!I$3,'FERIAS DE 4 A 6 DIAS'!E356)","v":2337874},2337874]
[{"$f":"CONCATENATE(B357:B831,\" \",C357:C831)","v":"3071298 Sonido de 800 a 1500 Pax - Sistema Line Array sin estructura (Incluye 8 cajas Hi -Mid / 2 Subs) servicio sujeto a reunion tecnica de produccion Valor de 3 a 6 dias (Valor dia)"},3071298,"Sonido de 800 a 1500 Pax - Sistema Line Array sin estructura (Incluye 8 cajas Hi -Mid / 2 Subs) servicio sujeto a reunion tecnica de produccion Valor de 3 a 6 dias (Valor dia)",{"$f":"IF('FERIAS 3 DIAS'!G$3=TRUE,'FERIAS DE 4 A 6 DIAS'!E357/'FERIAS 3 DIAS'!I$3,'FERIAS DE 4 A 6 DIAS'!E357)","v":2104158},2104158]
[{"$f":"CONCATENATE(B358:B832,\" \",C358:C832)","v":"3071298 Sonido de 800 a 1500 Pax - Sistema Line Array sin estructura (Incluye 8 cajas Hi -Mid / 2 Subs) servicio sujeto a reunion tecnica de produccion Valor de 7 a 18 días (Valor feria)"},3071298,"Sonido de 800 a 1500 Pax - Sistema Line Array sin estructura (Incluye 8 cajas Hi -Mid / 2 Subs) servicio sujeto a reunion tecnica de produccion Valor de 7 a 18 días (Valor feria)",{"$f":"IF('FERIAS 3 DIAS'!G$3=TRUE,'FERIAS DE 4 A 6 DIAS'!E358/'FERIAS 3 DIAS'!I$3,'FERIAS DE 4 A 6 DIAS'!E358)","v":16832669},16832669]
[{"$f":"CONCATENATE(B359:B833,\" \",C359:C833)","v":"3071299 Sonido de 1500 a 2500 Pax - Sistema Line Array sin estructura (Incluye 12 cajas Hi -Mid / 4 Subs) servicio sujeto a reunion tecnica de produccion Valor evento 1 día"},3071299,"Sonido de 1500 a 2500 Pax - Sistema Line Array sin estructura (Incluye 12 cajas Hi -Mid / 4 Subs) servicio sujeto a reunion tecnica de produccion Valor evento 1 día",{"$f":"IF('FERIAS 3 DIAS'!G$3=TRUE,'FERIAS DE 4 A 6 DIAS'!E359/'FERIAS 3 DIAS'!I$3,'FERIAS DE 4 A 6 DIAS'!E359)","v":2611455},2611455]
[{"$f":"CONCATENATE(B360:B834,\" \",C360:C834)","v":"3071299 Sonido de 1500 a 2500 Pax - Sistema Line Array sin estructura (Incluye 12 cajas Hi -Mid / 4 Subs) servicio sujeto a reunion tecnica de produccion Valor evento 2 dias (Valor dia)"},3071299,"Sonido de 1500 a 2500 Pax - Sistema Line Array sin estructura (Incluye 12 cajas Hi -Mid / 4 Subs) servicio sujeto a reunion tecnica de produccion Valor evento 2 dias (Valor dia)",{"$f":"IF('FERIAS 3 DIAS'!G$3=TRUE,'FERIAS DE 4 A 6 DIAS'!E360/'FERIAS 3 DIAS'!I$3,'FERIAS DE 4 A 6 DIAS'!E360)","v":2611455},2611455]
[{"$f":"CONCATENATE(B361:B835,\" \",C361:C835)","v":"3071299 Sonido de 1500 a 2500 Pax - Sistema Line Array sin estructura (Incluye 12 cajas Hi -Mid / 4 Subs) servicio sujeto a reunion tecnica de produccion Valor de 3 a 6 dias (Valor dia)"},3071299,"Sonido de 1500 a 2500 Pax - Sistema Line Array sin estructura (Incluye 12 cajas Hi -Mid / 4 Subs) servicio sujeto a reunion tecnica de produccion Valor de 3 a 6 dias (Valor dia)",{"$f":"IF('FERIAS 3 DIAS'!G$3=TRUE,'FERIAS DE 4 A 6 DIAS'!E361/'FERIAS 3 DIAS'!I$3,'FERIAS DE 4 A 6 DIAS'!E361)","v":2350369},2350369]
[{"$f":"CONCATENATE(B362:B836,\" \",C362:C836)","v":"3071299 Sonido de 1500 a 2500 Pax - Sistema Line Array sin estructura (Incluye 12 cajas Hi -Mid / 4 Subs) servicio sujeto a reunion tecnica de produccion Valor de 7 a 18 días (Valor feria)"},3071299,"Sonido de 1500 a 2500 Pax - Sistema Line Array sin estructura (Incluye 12 cajas Hi -Mid / 4 Subs) servicio sujeto a reunion tecnica de produccion Valor de 7 a 18 días (Valor feria)",{"$f":"IF('FERIAS 3 DIAS'!G$3=TRUE,'FERIAS DE 4 A 6 DIAS'!E362/'FERIAS 3 DIAS'!I$3,'FERIAS DE 4 A 6 DIAS'!E362)","v":18802476},18802476]
[{"$f":"CONCATENATE(B363:B837,\" \",C363:C837)","v":"3071258 Sonido de 2500 a 3500 Pax - Sistema Line Array sin estructura (Incluye 16 cajas Hi -Mid / 6 Subs) servicio sujeto a reunion tecnica de produccion Valor evento 1 día"},3071258,"Sonido de 2500 a 3500 Pax - Sistema Line Array sin estructura (Incluye 16 cajas Hi -Mid / 6 Subs) servicio sujeto a reunion tecnica de produccion Valor evento 1 día",{"$f":"IF('FERIAS 3 DIAS'!G$3=TRUE,'FERIAS DE 4 A 6 DIAS'!E363/'FERIAS 3 DIAS'!I$3,'FERIAS DE 4 A 6 DIAS'!E363)","v":3158617},3158617]
[{"$f":"CONCATENATE(B364:B838,\" \",C364:C838)","v":"3071258 Sonido de 2500 a 3500 Pax - Sistema Line Array sin estructura (Incluye 16 cajas Hi -Mid / 6 Subs) servicio sujeto a reunion tecnica de produccion Valor evento 2 dias (Valor dia)"},3071258,"Sonido de 2500 a 3500 Pax - Sistema Line Array sin estructura (Incluye 16 cajas Hi -Mid / 6 Subs) servicio sujeto a reunion tecnica de produccion Valor evento 2 dias (Valor dia)",{"$f":"IF('FERIAS 3 DIAS'!G$3=TRUE,'FERIAS DE 4 A 6 DIAS'!E364/'FERIAS 3 DIAS'!I$3,'FERIAS DE 4 A 6 DIAS'!E364)","v":3158617},3158617]
[{"$f":"CONCATENATE(B365:B839,\" \",C365:C839)","v":"3071258 Sonido de 2500 a 3500 Pax - Sistema Line Array sin estructura (Incluye 16 cajas Hi -Mid / 6 Subs) servicio sujeto a reunion tecnica de produccion Valor de 3 a 6 dias (Valor dia)"},3071258,"Sonido de 2500 a 3500 Pax - Sistema Line Array sin estructura (Incluye 16 cajas Hi -Mid / 6 Subs) servicio sujeto a reunion tecnica de produccion Valor de 3 a 6 dias (Valor dia)",{"$f":"IF('FERIAS 3 DIAS'!G$3=TRUE,'FERIAS DE 4 A 6 DIAS'!E365/'FERIAS 3 DIAS'!I$3,'FERIAS DE 4 A 6 DIAS'!E365)","v":2842791},2842791]
[{"$f":"CONCATENATE(B366:B840,\" \",C366:C840)","v":"3071258 Sonido de 2500 a 3500 Pax - Sistema Line Array sin estructura (Incluye 16 cajas Hi -Mid / 6 Subs) servicio sujeto a reunion tecnica de produccion Valor de 7 a 18 días (Valor feria)"},3071258,"Sonido de 2500 a 3500 Pax - Sistema Line Array sin estructura (Incluye 16 cajas Hi -Mid / 6 Subs) servicio sujeto a reunion tecnica de produccion Valor de 7 a 18 días (Valor feria)",{"$f":"IF('FERIAS 3 DIAS'!G$3=TRUE,'FERIAS DE 4 A 6 DIAS'!E366/'FERIAS 3 DIAS'!I$3,'FERIAS DE 4 A 6 DIAS'!E366)","v":22742090},22742090]
[{"$f":"CONCATENATE(B367:B841,\" \",C367:C841)","v":"3071259 Sonido de 3500 a 4500 Pax - Sistema Line Array sin estructura (Incluye 20 cajas Hi -Mid / 8 Subs) servicio sujeto a reunion tecnica de produccion Valor evento 1 día"},3071259,"Sonido de 3500 a 4500 Pax - Sistema Line Array sin estructura (Incluye 20 cajas Hi -Mid / 8 Subs) servicio sujeto a reunion tecnica de produccion Valor evento 1 día",{"$f":"IF('FERIAS 3 DIAS'!G$3=TRUE,'FERIAS DE 4 A 6 DIAS'!E367/'FERIAS 3 DIAS'!I$3,'FERIAS DE 4 A 6 DIAS'!E367)","v":3432198},3432198]
[{"$f":"CONCATENATE(B368:B842,\" \",C368:C842)","v":"3071259 Sonido de 3500 a 4500 Pax - Sistema Line Array sin estructura (Incluye 20 cajas Hi -Mid / 8 Subs) servicio sujeto a reunion tecnica de produccion Valor evento 2 dias (Valor dia)"},3071259,"Sonido de 3500 a 4500 Pax - Sistema Line Array sin estructura (Incluye 20 cajas Hi -Mid / 8 Subs) servicio sujeto a reunion tecnica de produccion Valor evento 2 dias (Valor dia)",{"$f":"IF('FERIAS 3 DIAS'!G$3=TRUE,'FERIAS DE 4 A 6 DIAS'!E368/'FERIAS 3 DIAS'!I$3,'FERIAS DE 4 A 6 DIAS'!E368)","v":3432198},3432198]
[{"$f":"CONCATENATE(B369:B843,\" \",C369:C843)","v":"3071259 Sonido de 3500 a 4500 Pax - Sistema Line Array sin estructura (Incluye 20 cajas Hi -Mid / 8 Subs) servicio sujeto a reunion tecnica de produccion Valor de 3 a 6 dias (Valor dia)"},3071259,"Sonido de 3500 a 4500 Pax - Sistema Line Array sin estructura (Incluye 20 cajas Hi -Mid / 8 Subs) servicio sujeto a reunion tecnica de produccion Valor de 3 a 6 dias (Valor dia)",{"$f":"IF('FERIAS 3 DIAS'!G$3=TRUE,'FERIAS DE 4 A 6 DIAS'!E369/'FERIAS 3 DIAS'!I$3,'FERIAS DE 4 A 6 DIAS'!E369)","v":3089002},3089002]
[{"$f":"CONCATENATE(B370:B844,\" \",C370:C844)","v":"3071259 Sonido de 3500 a 4500 Pax - Sistema Line Array sin estructura (Incluye 20 cajas Hi -Mid / 8 Subs) servicio sujeto a reunion tecnica de produccion Valor de 7 a 18 días (Valor feria)"},3071259,"Sonido de 3500 a 4500 Pax - Sistema Line Array sin estructura (Incluye 20 cajas Hi -Mid / 8 Subs) servicio sujeto a reunion tecnica de produccion Valor de 7 a 18 días (Valor feria)",{"$f":"IF('FERIAS 3 DIAS'!G$3=TRUE,'FERIAS DE 4 A 6 DIAS'!E370/'FERIAS 3 DIAS'!I$3,'FERIAS DE 4 A 6 DIAS'!E370)","v":24711897},24711897]
[{"$f":"CONCATENATE(B371:B845,\" \",C371:C845)","v":"3071280 Consola DMX 16 CH / (No incluye operario permanente) Valor evento 1 día"},3071280,"Consola DMX 16 CH / (No incluye operario permanente) Valor evento 1 día",{"$f":"IF('FERIAS 3 DIAS'!G$3=TRUE,'FERIAS DE 4 A 6 DIAS'!E371/'FERIAS 3 DIAS'!I$3,'FERIAS DE 4 A 6 DIAS'!E371)","v":83300},83300]
[{"$f":"CONCATENATE(B372:B846,\" \",C372:C846)","v":"3071280 Consola DMX 16 CH / (No incluye operario permanente) Valor evento 2 dias (Valor dia)"},3071280,"Consola DMX 16 CH / (No incluye operario permanente) Valor evento 2 dias (Valor dia)",{"$f":"IF('FERIAS 3 DIAS'!G$3=TRUE,'FERIAS DE 4 A 6 DIAS'!E372/'FERIAS 3 DIAS'!I$3,'FERIAS DE 4 A 6 DIAS'!E372)","v":83300},83300]
[{"$f":"CONCATENATE(B373:B847,\" \",C373:C847)","v":"3071280 Consola DMX 16 CH / (No incluye operario permanente) Valor de 3 a 6 dias (Valor dia)"},3071280,"Consola DMX 16 CH / (No incluye operario permanente) Valor de 3 a 6 dias (Valor dia)",{"$f":"IF('FERIAS 3 DIAS'!G$3=TRUE,'FERIAS DE 4 A 6 DIAS'!E373/'FERIAS 3 DIAS'!I$3,'FERIAS DE 4 A 6 DIAS'!E373)","v":81991},81991]
[{"$f":"CONCATENATE(B374:B848,\" \",C374:C848)","v":"3071280 Consola DMX 16 CH / (No incluye operario permanente) Valor de 7 a 18 días (Valor feria)"},3071280,"Consola DMX 16 CH / (No incluye operario permanente) Valor de 7 a 18 días (Valor feria)",{"$f":"IF('FERIAS 3 DIAS'!G$3=TRUE,'FERIAS DE 4 A 6 DIAS'!E374/'FERIAS 3 DIAS'!I$3,'FERIAS DE 4 A 6 DIAS'!E374)","v":655809},655809]
[{"$f":"CONCATENATE(B375:B849,\" \",C375:C849)","v":"3071275 Par Led RGB Indoor - según cantidad se requiere consola DMX Valor evento 1 día"},3071275,"Par Led RGB Indoor - según cantidad se requiere consola DMX Valor evento 1 día",{"$f":"IF('FERIAS 3 DIAS'!G$3=TRUE,'FERIAS DE 4 A 6 DIAS'!E375/'FERIAS 3 DIAS'!I$3,'FERIAS DE 4 A 6 DIAS'!E375)","v":35700},35700]
[{"$f":"CONCATENATE(B376:B850,\" \",C376:C850)","v":"3071275 Par Led RGB Indoor - según cantidad se requiere consola DMX Valor evento 2 dias (Valor dia)"},3071275,"Par Led RGB Indoor - según cantidad se requiere consola DMX Valor evento 2 dias (Valor dia)",{"$f":"IF('FERIAS 3 DIAS'!G$3=TRUE,'FERIAS DE 4 A 6 DIAS'!E376/'FERIAS 3 DIAS'!I$3,'FERIAS DE 4 A 6 DIAS'!E376)","v":35700},35700]
[{"$f":"CONCATENATE(B377:B851,\" \",C377:C851)","v":"3071275 Par Led RGB Indoor - según cantidad se requiere consola DMX Valor de 3 a 6 dias (Valor dia)"},3071275,"Par Led RGB Indoor - según cantidad se requiere consola DMX Valor de 3 a 6 dias (Valor dia)",{"$f":"IF('FERIAS 3 DIAS'!G$3=TRUE,'FERIAS DE 4 A 6 DIAS'!E377/'FERIAS 3 DIAS'!I$3,'FERIAS DE 4 A 6 DIAS'!E377)","v":32249},32249]
[{"$f":"CONCATENATE(B378:B852,\" \",C378:C852)","v":"3071275 Par Led RGB Indoor - según cantidad se requiere consola DMX Valor de 7 a 18 días (Valor feria)"},3071275,"Par Led RGB Indoor - según cantidad se requiere consola DMX Valor de 7 a 18 días (Valor feria)",{"$f":"IF('FERIAS 3 DIAS'!G$3=TRUE,'FERIAS DE 4 A 6 DIAS'!E378/'FERIAS 3 DIAS'!I$3,'FERIAS DE 4 A 6 DIAS'!E378)","v":229908},229908]
[{"$f":"CONCATENATE(B379:B853,\" \",C379:C853)","v":"3071281 Cabeza movil (Beam - Spot - Matrix) Se requiere consola DMX adicional - No incluye Gobo personalizado Valor evento 1 día"},3071281,"Cabeza movil (Beam - Spot - Matrix) Se requiere consola DMX adicional - No incluye Gobo personalizado Valor evento 1 día",{"$f":"IF('FERIAS 3 DIAS'!G$3=TRUE,'FERIAS DE 4 A 6 DIAS'!E379/'FERIAS 3 DIAS'!I$3,'FERIAS DE 4 A 6 DIAS'!E379)","v":235025},235025]
[{"$f":"CONCATENATE(B380:B854,\" \",C380:C854)","v":"3071281 Cabeza movil (Beam - Spot - Matrix) Se requiere consola DMX adicional - No incluye Gobo personalizado Valor evento 2 dias (Valor dia)"},3071281,"Cabeza movil (Beam - Spot - Matrix) Se requiere consola DMX adicional - No incluye Gobo personalizado Valor evento 2 dias (Valor dia)",{"$f":"IF('FERIAS 3 DIAS'!G$3=TRUE,'FERIAS DE 4 A 6 DIAS'!E380/'FERIAS 3 DIAS'!I$3,'FERIAS DE 4 A 6 DIAS'!E380)","v":235025},235025]
[{"$f":"CONCATENATE(B381:B855,\" \",C381:C855)","v":"3071281 Cabeza movil (Beam - Spot - Matrix) Se requiere consola DMX adicional - No incluye Gobo personalizado Valor de 3 a 6 dias (Valor dia)"},3071281,"Cabeza movil (Beam - Spot - Matrix) Se requiere consola DMX adicional - No incluye Gobo personalizado Valor de 3 a 6 dias (Valor dia)",{"$f":"IF('FERIAS 3 DIAS'!G$3=TRUE,'FERIAS DE 4 A 6 DIAS'!E381/'FERIAS 3 DIAS'!I$3,'FERIAS DE 4 A 6 DIAS'!E381)","v":211582},211582]
[{"$f":"CONCATENATE(B382:B856,\" \",C382:C856)","v":"3071281 Cabeza movil (Beam - Spot - Matrix) Se requiere consola DMX adicional - No incluye Gobo personalizado Valor de 7 a 18 días (Valor feria)"},3071281,"Cabeza movil (Beam - Spot - Matrix) Se requiere consola DMX adicional - No incluye Gobo personalizado Valor de 7 a 18 días (Valor feria)",{"$f":"IF('FERIAS 3 DIAS'!G$3=TRUE,'FERIAS DE 4 A 6 DIAS'!E382/'FERIAS 3 DIAS'!I$3,'FERIAS DE 4 A 6 DIAS'!E382)","v":1692180},1692180]
[{"$f":"CONCATENATE(B383:B857,\" \",C383:C857)","v":"3071282 Seguidor profesional para espectaculos Valor evento 1 día"},3071282,"Seguidor profesional para espectaculos Valor evento 1 día",{"$f":"IF('FERIAS 3 DIAS'!G$3=TRUE,'FERIAS DE 4 A 6 DIAS'!E383/'FERIAS 3 DIAS'!I$3,'FERIAS DE 4 A 6 DIAS'!E383)","v":305711},305711]
[{"$f":"CONCATENATE(B384:B858,\" \",C384:C858)","v":"3071282 Seguidor profesional para espectaculos Valor evento 2 dias (Valor dia)"},3071282,"Seguidor profesional para espectaculos Valor evento 2 dias (Valor dia)",{"$f":"IF('FERIAS 3 DIAS'!G$3=TRUE,'FERIAS DE 4 A 6 DIAS'!E384/'FERIAS 3 DIAS'!I$3,'FERIAS DE 4 A 6 DIAS'!E384)","v":305711},305711]
[{"$f":"CONCATENATE(B385:B859,\" \",C385:C859)","v":"3071282 Seguidor profesional para espectaculos Valor de 3 a 6 dias (Valor dia)"},3071282,"Seguidor profesional para espectaculos Valor de 3 a 6 dias (Valor dia)",{"$f":"IF('FERIAS 3 DIAS'!G$3=TRUE,'FERIAS DE 4 A 6 DIAS'!E385/'FERIAS 3 DIAS'!I$3,'FERIAS DE 4 A 6 DIAS'!E385)","v":275128},275128]
[{"$f":"CONCATENATE(B386:B860,\" \",C386:C860)","v":"3071282 Seguidor profesional para espectaculos Valor de 7 a 18 días (Valor feria)"},3071282,"Seguidor profesional para espectaculos Valor de 7 a 18 días (Valor feria)",{"$f":"IF('FERIAS 3 DIAS'!G$3=TRUE,'FERIAS DE 4 A 6 DIAS'!E386/'FERIAS 3 DIAS'!I$3,'FERIAS DE 4 A 6 DIAS'!E386)","v":2200667},2200667]
[{"$f":"CONCATENATE(B387:B861,\" \",C387:C861)","v":"3071287 Tramo de estructura Truss de 2 mts para monontaje de Pantalla Led, sonido Line Array, Iluminacion. (No incluye: Instalacion y operario permanente) Valor evento 1 día"},3071287,"Tramo de estructura Truss de 2 mts para monontaje de Pantalla Led, sonido Line Array, Iluminacion. (No incluye: Instalacion y operario permanente) Valor evento 1 día",{"$f":"IF('FERIAS 3 DIAS'!G$3=TRUE,'FERIAS DE 4 A 6 DIAS'!E387/'FERIAS 3 DIAS'!I$3,'FERIAS DE 4 A 6 DIAS'!E387)","v":70805},70805]
[{"$f":"CONCATENATE(B388:B862,\" \",C388:C862)","v":"3071287 Tramo de estructura Truss de 2 mts para monontaje de Pantalla Led, sonido Line Array, Iluminacion. (No incluye: Instalacion y operario permanente) Valor evento 2 dias (Valor dia)"},3071287,"Tramo de estructura Truss de 2 mts para monontaje de Pantalla Led, sonido Line Array, Iluminacion. (No incluye: Instalacion y operario permanente) Valor evento 2 dias (Valor dia)",{"$f":"IF('FERIAS 3 DIAS'!G$3=TRUE,'FERIAS DE 4 A 6 DIAS'!E388/'FERIAS 3 DIAS'!I$3,'FERIAS DE 4 A 6 DIAS'!E388)","v":70805},70805]
[{"$f":"CONCATENATE(B389:B863,\" \",C389:C863)","v":"3071287 Tramo de estructura Truss de 2 mts para monontaje de Pantalla Led, sonido Line Array, Iluminacion. (No incluye: Instalacion y operario permanente) Valor de 3 a 6 dias (Valor dia)"},3071287,"Tramo de estructura Truss de 2 mts para monontaje de Pantalla Led, sonido Line Array, Iluminacion. (No incluye: Instalacion y operario permanente) Valor de 3 a 6 dias (Valor dia)",{"$f":"IF('FERIAS 3 DIAS'!G$3=TRUE,'FERIAS DE 4 A 6 DIAS'!E389/'FERIAS 3 DIAS'!I$3,'FERIAS DE 4 A 6 DIAS'!E389)","v":63665},63665]
[{"$f":"CONCATENATE(B390:B864,\" \",C390:C864)","v":"3071287 Tramo de estructura Truss de 2 mts para monontaje de Pantalla Led, sonido Line Array, Iluminacion. (No incluye: Instalacion y operario permanente) Valor de 7 a 18 días (Valor feria)"},3071287,"Tramo de estructura Truss de 2 mts para monontaje de Pantalla Led, sonido Line Array, Iluminacion. (No incluye: Instalacion y operario permanente) Valor de 7 a 18 días (Valor feria)",{"$f":"IF('FERIAS 3 DIAS'!G$3=TRUE,'FERIAS DE 4 A 6 DIAS'!E390/'FERIAS 3 DIAS'!I$3,'FERIAS DE 4 A 6 DIAS'!E390)","v":509439},509439]
[{"$f":"CONCATENATE(B391:B865,\" \",C391:C865)","v":"3070532 Diferencial Manual de 1 Tonelada (No incluye: Instalacion y  operario permanente) Valor evento 1 día"},3070532,"Diferencial Manual de 1 Tonelada (No incluye: Instalacion y  operario permanente) Valor evento 1 día",{"$f":"IF('FERIAS 3 DIAS'!G$3=TRUE,'FERIAS DE 4 A 6 DIAS'!E391/'FERIAS 3 DIAS'!I$3,'FERIAS DE 4 A 6 DIAS'!E391)","v":60809},60809]
[{"$f":"CONCATENATE(B392:B866,\" \",C392:C866)","v":"3070532 Diferencial Manual de 1 Tonelada (No incluye: Instalacion y  operario permanente) Valor evento 2 dias (Valor dia)"},3070532,"Diferencial Manual de 1 Tonelada (No incluye: Instalacion y  operario permanente) Valor evento 2 dias (Valor dia)",{"$f":"IF('FERIAS 3 DIAS'!G$3=TRUE,'FERIAS DE 4 A 6 DIAS'!E392/'FERIAS 3 DIAS'!I$3,'FERIAS DE 4 A 6 DIAS'!E392)","v":60809},60809]
[{"$f":"CONCATENATE(B393:B867,\" \",C393:C867)","v":"3070532 Diferencial Manual de 1 Tonelada (No incluye: Instalacion y  operario permanente) Valor de 3 a 6 dias (Valor dia)"},3070532,"Diferencial Manual de 1 Tonelada (No incluye: Instalacion y  operario permanente) Valor de 3 a 6 dias (Valor dia)",{"$f":"IF('FERIAS 3 DIAS'!G$3=TRUE,'FERIAS DE 4 A 6 DIAS'!E393/'FERIAS 3 DIAS'!I$3,'FERIAS DE 4 A 6 DIAS'!E393)","v":54740},54740]
[{"$f":"CONCATENATE(B394:B868,\" \",C394:C868)","v":"3070532 Diferencial Manual de 1 Tonelada (No incluye: Instalacion y  operario permanente) Valor de 7 a 18 días (Valor feria)"},3070532,"Diferencial Manual de 1 Tonelada (No incluye: Instalacion y  operario permanente) Valor de 7 a 18 días (Valor feria)",{"$f":"IF('FERIAS 3 DIAS'!G$3=TRUE,'FERIAS DE 4 A 6 DIAS'!E394/'FERIAS 3 DIAS'!I$3,'FERIAS DE 4 A 6 DIAS'!E394)","v":437920},437920]
[{"$f":"CONCATENATE(B395:B869,\" \",C395:C869)","v":"3070533 Motor de elevacion para estructuras de 2 Toneladas (No incluye: Instalacion y operario permanente) Valor evento 1 día"},3070533,"Motor de elevacion para estructuras de 2 Toneladas (No incluye: Instalacion y operario permanente) Valor evento 1 día",{"$f":"IF('FERIAS 3 DIAS'!G$3=TRUE,'FERIAS DE 4 A 6 DIAS'!E395/'FERIAS 3 DIAS'!I$3,'FERIAS DE 4 A 6 DIAS'!E395)","v":447678},447678]
[{"$f":"CONCATENATE(B396:B870,\" \",C396:C870)","v":"3070533 Motor de elevacion para estructuras de 2 Toneladas (No incluye: Instalacion y operario permanente) Valor evento 2 dias (Valor dia)"},3070533,"Motor de elevacion para estructuras de 2 Toneladas (No incluye: Instalacion y operario permanente) Valor evento 2 dias (Valor dia)",{"$f":"IF('FERIAS 3 DIAS'!G$3=TRUE,'FERIAS DE 4 A 6 DIAS'!E396/'FERIAS 3 DIAS'!I$3,'FERIAS DE 4 A 6 DIAS'!E396)","v":447678},447678]
[{"$f":"CONCATENATE(B397:B871,\" \",C397:C871)","v":"3070533 Motor de elevacion para estructuras de 2 Toneladas (No incluye: Instalacion y operario permanente) Valor de 3 a 6 dias (Valor dia)"},3070533,"Motor de elevacion para estructuras de 2 Toneladas (No incluye: Instalacion y operario permanente) Valor de 3 a 6 dias (Valor dia)",{"$f":"IF('FERIAS 3 DIAS'!G$3=TRUE,'FERIAS DE 4 A 6 DIAS'!E397/'FERIAS 3 DIAS'!I$3,'FERIAS DE 4 A 6 DIAS'!E397)","v":402934},402934]
[{"$f":"CONCATENATE(B398:B872,\" \",C398:C872)","v":"3070533 Motor de elevacion para estructuras de 2 Toneladas (No incluye: Instalacion y operario permanente) Valor de 7 a 18 días (Valor feria)"},3070533,"Motor de elevacion para estructuras de 2 Toneladas (No incluye: Instalacion y operario permanente) Valor de 7 a 18 días (Valor feria)",{"$f":"IF('FERIAS 3 DIAS'!G$3=TRUE,'FERIAS DE 4 A 6 DIAS'!E398/'FERIAS 3 DIAS'!I$3,'FERIAS DE 4 A 6 DIAS'!E398)","v":2910026},2910026]
[{"$f":"CONCATENATE(B399:B873,\" \",C399:C873)","v":"3071285 Pasador de diapositivas USB de mediano alcance con puntero Laser (Incluye: 2 baterias) Valor evento 1 día"},3071285,"Pasador de diapositivas USB de mediano alcance con puntero Laser (Incluye: 2 baterias) Valor evento 1 día",{"$f":"IF('FERIAS 3 DIAS'!G$3=TRUE,'FERIAS DE 4 A 6 DIAS'!E399/'FERIAS 3 DIAS'!I$3,'FERIAS DE 4 A 6 DIAS'!E399)","v":24871},24871]
[{"$f":"CONCATENATE(B400:B874,\" \",C400:C874)","v":"3071285 Pasador de diapositivas USB de mediano alcance con puntero Laser (Incluye: 2 baterias) Valor evento 2 dias (Valor dia)"},3071285,"Pasador de diapositivas USB de mediano alcance con puntero Laser (Incluye: 2 baterias) Valor evento 2 dias (Valor dia)",{"$f":"IF('FERIAS 3 DIAS'!G$3=TRUE,'FERIAS DE 4 A 6 DIAS'!E400/'FERIAS 3 DIAS'!I$3,'FERIAS DE 4 A 6 DIAS'!E400)","v":24871},24871]
[{"$f":"CONCATENATE(B401:B875,\" \",C401:C875)","v":"3071285 Pasador de diapositivas USB de mediano alcance con puntero Laser (Incluye: 2 baterias) Valor de 3 a 6 dias (Valor dia)"},3071285,"Pasador de diapositivas USB de mediano alcance con puntero Laser (Incluye: 2 baterias) Valor de 3 a 6 dias (Valor dia)",{"$f":"IF('FERIAS 3 DIAS'!G$3=TRUE,'FERIAS DE 4 A 6 DIAS'!E401/'FERIAS 3 DIAS'!I$3,'FERIAS DE 4 A 6 DIAS'!E401)","v":22729},22729]
[{"$f":"CONCATENATE(B402:B876,\" \",C402:C876)","v":"3071285 Pasador de diapositivas USB de mediano alcance con puntero Laser (Incluye: 2 baterias) Valor de 7 a 18 días (Valor feria)"},3071285,"Pasador de diapositivas USB de mediano alcance con puntero Laser (Incluye: 2 baterias) Valor de 7 a 18 días (Valor feria)",{"$f":"IF('FERIAS 3 DIAS'!G$3=TRUE,'FERIAS DE 4 A 6 DIAS'!E402/'FERIAS 3 DIAS'!I$3,'FERIAS DE 4 A 6 DIAS'!E402)","v":160769},160769]
[{"$f":"CONCATENATE(B403:B877,\" \",C403:C877)","v":"3070534 Tecnico Audiovisual de soporte y apoyo / valor por 8 horas Valor evento 1 día"},3070534,"Tecnico Audiovisual de soporte y apoyo / valor por 8 horas Valor evento 1 día",{"$f":"IF('FERIAS 3 DIAS'!G$3=TRUE,'FERIAS DE 4 A 6 DIAS'!E403/'FERIAS 3 DIAS'!I$3,'FERIAS DE 4 A 6 DIAS'!E403)","v":198968},198968]
[{"$f":"CONCATENATE(B404:B878,\" \",C404:C878)","v":"3070534 Tecnico Audiovisual de soporte y apoyo / valor por 8 horas Valor evento 2 dias (Valor dia)"},3070534,"Tecnico Audiovisual de soporte y apoyo / valor por 8 horas Valor evento 2 dias (Valor dia)",{"$f":"IF('FERIAS 3 DIAS'!G$3=TRUE,'FERIAS DE 4 A 6 DIAS'!E404/'FERIAS 3 DIAS'!I$3,'FERIAS DE 4 A 6 DIAS'!E404)","v":198968},198968]
[{"$f":"CONCATENATE(B405:B879,\" \",C405:C879)","v":"3070534 Tecnico Audiovisual de soporte y apoyo / valor por 8 horas Valor de 3 a 6 dias (Valor dia)"},3070534,"Tecnico Audiovisual de soporte y apoyo / valor por 8 horas Valor de 3 a 6 dias (Valor dia)",{"$f":"IF('FERIAS 3 DIAS'!G$3=TRUE,'FERIAS DE 4 A 6 DIAS'!E405/'FERIAS 3 DIAS'!I$3,'FERIAS DE 4 A 6 DIAS'!E405)","v":191233},191233]
[{"$f":"CONCATENATE(B406:B880,\" \",C406:C880)","v":"3070534 Tecnico Audiovisual de soporte y apoyo / valor por 8 horas Valor de 7 a 18 días (Valor feria)"},3070534,"Tecnico Audiovisual de soporte y apoyo / valor por 8 horas Valor de 7 a 18 días (Valor feria)",{"$f":"IF('FERIAS 3 DIAS'!G$3=TRUE,'FERIAS DE 4 A 6 DIAS'!E406/'FERIAS 3 DIAS'!I$3,'FERIAS DE 4 A 6 DIAS'!E406)","v":1364930},1364930]
[{"$f":"CONCATENATE(B407:B881,\" \",C407:C881)","v":"3071300 Tecnico Audiovisual de soporte hora adicional, despues de 8 horas (diurno, nocturno, festivo diurno, festivo nocturno) Valor evento 1 día"},3071300,"Tecnico Audiovisual de soporte hora adicional, despues de 8 horas (diurno, nocturno, festivo diurno, festivo nocturno) Valor evento 1 día",{"$f":"IF('FERIAS 3 DIAS'!G$3=TRUE,'FERIAS DE 4 A 6 DIAS'!E407/'FERIAS 3 DIAS'!I$3,'FERIAS DE 4 A 6 DIAS'!E407)","v":41769},41769]
[{"$f":"CONCATENATE(B408:B882,\" \",C408:C882)","v":"3071300 Tecnico Audiovisual de soporte hora adicional, despues de 8 horas (diurno, nocturno, festivo diurno, festivo nocturno) Valor evento 2 dias (Valor dia)"},3071300,"Tecnico Audiovisual de soporte hora adicional, despues de 8 horas (diurno, nocturno, festivo diurno, festivo nocturno) Valor evento 2 dias (Valor dia)",{"$f":"IF('FERIAS 3 DIAS'!G$3=TRUE,'FERIAS DE 4 A 6 DIAS'!E408/'FERIAS 3 DIAS'!I$3,'FERIAS DE 4 A 6 DIAS'!E408)","v":41769},41769]
[{"$f":"CONCATENATE(B409:B883,\" \",C409:C883)","v":"3071300 Tecnico Audiovisual de soporte hora adicional, despues de 8 horas (diurno, nocturno, festivo diurno, festivo nocturno) Valor de 3 a 6 dias (Valor dia)"},3071300,"Tecnico Audiovisual de soporte hora adicional, despues de 8 horas (diurno, nocturno, festivo diurno, festivo nocturno) Valor de 3 a 6 dias (Valor dia)",{"$f":"IF('FERIAS 3 DIAS'!G$3=TRUE,'FERIAS DE 4 A 6 DIAS'!E409/'FERIAS 3 DIAS'!I$3,'FERIAS DE 4 A 6 DIAS'!E409)","v":41769},41769]
[{"$f":"CONCATENATE(B410:B884,\" \",C410:C884)","v":"3071300 Tecnico Audiovisual de soporte hora adicional, despues de 8 horas (diurno, nocturno, festivo diurno, festivo nocturno) Valor de 7 a 18 días (Valor feria)"},3071300,"Tecnico Audiovisual de soporte hora adicional, despues de 8 horas (diurno, nocturno, festivo diurno, festivo nocturno) Valor de 7 a 18 días (Valor feria)",{"$f":"IF('FERIAS 3 DIAS'!G$3=TRUE,'FERIAS DE 4 A 6 DIAS'!E410/'FERIAS 3 DIAS'!I$3,'FERIAS DE 4 A 6 DIAS'!E410)","v":41769},41769]
[{"$f":"CONCATENATE(B411:B885,\" \",C411:C885)","v":"30713209 Leeko Led White Valor evento 1 día"},30713209,"Leeko Led White Valor evento 1 día",{"$f":"IF('FERIAS 3 DIAS'!G$3=TRUE,'FERIAS DE 4 A 6 DIAS'!E411/'FERIAS 3 DIAS'!I$3,'FERIAS DE 4 A 6 DIAS'!E411)","v":198968},198968]
[{"$f":"CONCATENATE(B412:B886,\" \",C412:C886)","v":"30713209 Leeko Led White Valor evento 2 dias (Valor dia)"},30713209,"Leeko Led White Valor evento 2 dias (Valor dia)",{"$f":"IF('FERIAS 3 DIAS'!G$3=TRUE,'FERIAS DE 4 A 6 DIAS'!E412/'FERIAS 3 DIAS'!I$3,'FERIAS DE 4 A 6 DIAS'!E412)","v":198968},198968]
[{"$f":"CONCATENATE(B413:B887,\" \",C413:C887)","v":"30713209 Leeko Led White Valor de 3 a 6 dias (Valor dia)"},30713209,"Leeko Led White Valor de 3 a 6 dias (Valor dia)",{"$f":"IF('FERIAS 3 DIAS'!G$3=TRUE,'FERIAS DE 4 A 6 DIAS'!E413/'FERIAS 3 DIAS'!I$3,'FERIAS DE 4 A 6 DIAS'!E413)","v":180166},180166]
[{"$f":"CONCATENATE(B414:B888,\" \",C414:C888)","v":"30713209 Leeko Led White Valor de 7 a 18 días (Valor feria)"},30713209,"Leeko Led White Valor de 7 a 18 días (Valor feria)",{"$f":"IF('FERIAS 3 DIAS'!G$3=TRUE,'FERIAS DE 4 A 6 DIAS'!E414/'FERIAS 3 DIAS'!I$3,'FERIAS DE 4 A 6 DIAS'!E414)","v":1261519},1261519]
[{"$f":"CONCATENATE(B415:B889,\" \",C415:C889)","v":"30713210 Camara de Humo - incluye 200 mlt de liquido de Humo Valor evento 1 día"},30713210,"Camara de Humo - incluye 200 mlt de liquido de Humo Valor evento 1 día",{"$f":"IF('FERIAS 3 DIAS'!G$3=TRUE,'FERIAS DE 4 A 6 DIAS'!E415/'FERIAS 3 DIAS'!I$3,'FERIAS DE 4 A 6 DIAS'!E415)","v":167671},167671]
[{"$f":"CONCATENATE(B416:B890,\" \",C416:C890)","v":"30713210 Camara de Humo - incluye 200 mlt de liquido de Humo Valor evento 2 dias (Valor dia)"},30713210,"Camara de Humo - incluye 200 mlt de liquido de Humo Valor evento 2 dias (Valor dia)",{"$f":"IF('FERIAS 3 DIAS'!G$3=TRUE,'FERIAS DE 4 A 6 DIAS'!E416/'FERIAS 3 DIAS'!I$3,'FERIAS DE 4 A 6 DIAS'!E416)","v":167671},167671]
[{"$f":"CONCATENATE(B417:B891,\" \",C417:C891)","v":"30713210 Camara de Humo - incluye 200 mlt de liquido de Humo Valor de 3 a 6 dias (Valor dia)"},30713210,"Camara de Humo - incluye 200 mlt de liquido de Humo Valor de 3 a 6 dias (Valor dia)",{"$f":"IF('FERIAS 3 DIAS'!G$3=TRUE,'FERIAS DE 4 A 6 DIAS'!E417/'FERIAS 3 DIAS'!I$3,'FERIAS DE 4 A 6 DIAS'!E417)","v":150892},150892]
[{"$f":"CONCATENATE(B418:B892,\" \",C418:C892)","v":"30713210 Camara de Humo - incluye 200 mlt de liquido de Humo Valor de 7 a 18 días (Valor feria)"},30713210,"Camara de Humo - incluye 200 mlt de liquido de Humo Valor de 7 a 18 días (Valor feria)",{"$f":"IF('FERIAS 3 DIAS'!G$3=TRUE,'FERIAS DE 4 A 6 DIAS'!E418/'FERIAS 3 DIAS'!I$3,'FERIAS DE 4 A 6 DIAS'!E418)","v":1206898},1206898]
[{"$f":"CONCATENATE(B419:B893,\" \",C419:C893)","v":"30713211 Barra de Luz Led RGB Valor evento 1 día"},30713211,"Barra de Luz Led RGB Valor evento 1 día",{"$f":"IF('FERIAS 3 DIAS'!G$3=TRUE,'FERIAS DE 4 A 6 DIAS'!E419/'FERIAS 3 DIAS'!I$3,'FERIAS DE 4 A 6 DIAS'!E419)","v":95795},95795]
[{"$f":"CONCATENATE(B420:B894,\" \",C420:C894)","v":"30713211 Barra de Luz Led RGB Valor evento 2 dias (Valor dia)"},30713211,"Barra de Luz Led RGB Valor evento 2 dias (Valor dia)",{"$f":"IF('FERIAS 3 DIAS'!G$3=TRUE,'FERIAS DE 4 A 6 DIAS'!E420/'FERIAS 3 DIAS'!I$3,'FERIAS DE 4 A 6 DIAS'!E420)","v":95795},95795]
[{"$f":"CONCATENATE(B421:B895,\" \",C421:C895)","v":"30713211 Barra de Luz Led RGB Valor de 3 a 6 dias (Valor dia)"},30713211,"Barra de Luz Led RGB Valor de 3 a 6 dias (Valor dia)",{"$f":"IF('FERIAS 3 DIAS'!G$3=TRUE,'FERIAS DE 4 A 6 DIAS'!E421/'FERIAS 3 DIAS'!I$3,'FERIAS DE 4 A 6 DIAS'!E421)","v":86156},86156]
[{"$f":"CONCATENATE(B422:B896,\" \",C422:C896)","v":"30713211 Barra de Luz Led RGB Valor de 7 a 18 días (Valor feria)"},30713211,"Barra de Luz Led RGB Valor de 7 a 18 días (Valor feria)",{"$f":"IF('FERIAS 3 DIAS'!G$3=TRUE,'FERIAS DE 4 A 6 DIAS'!E422/'FERIAS 3 DIAS'!I$3,'FERIAS DE 4 A 6 DIAS'!E422)","v":689367},689367]
[{"$f":"CONCATENATE(B423:B897,\" \",C423:C897)","v":"30713212 Sistema de monitoreo In-Ear (No incluye: Baterias y audifonos) Valor evento 1 día"},30713212,"Sistema de monitoreo In-Ear (No incluye: Baterias y audifonos) Valor evento 1 día",{"$f":"IF('FERIAS 3 DIAS'!G$3=TRUE,'FERIAS DE 4 A 6 DIAS'!E423/'FERIAS 3 DIAS'!I$3,'FERIAS DE 4 A 6 DIAS'!E423)","v":232407},232407]
[{"$f":"CONCATENATE(B424:B898,\" \",C424:C898)","v":"30713212 Sistema de monitoreo In-Ear (No incluye: Baterias y audifonos) Valor evento 2 dias (Valor dia)"},30713212,"Sistema de monitoreo In-Ear (No incluye: Baterias y audifonos) Valor evento 2 dias (Valor dia)",{"$f":"IF('FERIAS 3 DIAS'!G$3=TRUE,'FERIAS DE 4 A 6 DIAS'!E424/'FERIAS 3 DIAS'!I$3,'FERIAS DE 4 A 6 DIAS'!E424)","v":232407},232407]
[{"$f":"CONCATENATE(B425:B899,\" \",C425:C899)","v":"30713212 Sistema de monitoreo In-Ear (No incluye: Baterias y audifonos) Valor de 3 a 6 dias (Valor dia)"},30713212,"Sistema de monitoreo In-Ear (No incluye: Baterias y audifonos) Valor de 3 a 6 dias (Valor dia)",{"$f":"IF('FERIAS 3 DIAS'!G$3=TRUE,'FERIAS DE 4 A 6 DIAS'!E425/'FERIAS 3 DIAS'!I$3,'FERIAS DE 4 A 6 DIAS'!E425)","v":209202},209202]
[{"$f":"CONCATENATE(B426:B900,\" \",C426:C900)","v":"30713212 Sistema de monitoreo In-Ear (No incluye: Baterias y audifonos) Valor de 7 a 18 días (Valor feria)"},30713212,"Sistema de monitoreo In-Ear (No incluye: Baterias y audifonos) Valor de 7 a 18 días (Valor feria)",{"$f":"IF('FERIAS 3 DIAS'!G$3=TRUE,'FERIAS DE 4 A 6 DIAS'!E426/'FERIAS 3 DIAS'!I$3,'FERIAS DE 4 A 6 DIAS'!E426)","v":1673497},1673497]
[{"$f":"CONCATENATE(B427:B901,\" \",C427:C901)","v":"30713213 Tarima en madera negra / valor por Mt2 instalado (incluye faldon para tarima negro) Valor evento 1 día"},30713213,"Tarima en madera negra / valor por Mt2 instalado (incluye faldon para tarima negro) Valor evento 1 día",{"$f":"IF('FERIAS 3 DIAS'!G$3=TRUE,'FERIAS DE 4 A 6 DIAS'!E427/'FERIAS 3 DIAS'!I$3,'FERIAS DE 4 A 6 DIAS'!E427)","v":18683},18683]
[{"$f":"CONCATENATE(B428:B902,\" \",C428:C902)","v":"30713213 Tarima en madera negra / valor por Mt2 instalado (incluye faldon para tarima negro) Valor evento 2 dias (Valor dia)"},30713213,"Tarima en madera negra / valor por Mt2 instalado (incluye faldon para tarima negro) Valor evento 2 dias (Valor dia)",{"$f":"IF('FERIAS 3 DIAS'!G$3=TRUE,'FERIAS DE 4 A 6 DIAS'!E428/'FERIAS 3 DIAS'!I$3,'FERIAS DE 4 A 6 DIAS'!E428)","v":18683},18683]
[{"$f":"CONCATENATE(B429:B903,\" \",C429:C903)","v":"30713213 Tarima en madera negra / valor por Mt2 instalado (incluye faldon para tarima negro) Valor de 3 a 6 dias (Valor dia)"},30713213,"Tarima en madera negra / valor por Mt2 instalado (incluye faldon para tarima negro) Valor de 3 a 6 dias (Valor dia)",{"$f":"IF('FERIAS 3 DIAS'!G$3=TRUE,'FERIAS DE 4 A 6 DIAS'!E429/'FERIAS 3 DIAS'!I$3,'FERIAS DE 4 A 6 DIAS'!E429)","v":17017},17017]
[{"$f":"CONCATENATE(B430:B904,\" \",C430:C904)","v":"30713213 Tarima en madera negra / valor por Mt2 instalado (incluye faldon para tarima negro) Valor de 7 a 18 días (Valor feria)"},30713213,"Tarima en madera negra / valor por Mt2 instalado (incluye faldon para tarima negro) Valor de 7 a 18 días (Valor feria)",{"$f":"IF('FERIAS 3 DIAS'!G$3=TRUE,'FERIAS DE 4 A 6 DIAS'!E430/'FERIAS 3 DIAS'!I$3,'FERIAS DE 4 A 6 DIAS'!E430)","v":119238},119238]
[{"$f":"CONCATENATE(B431:B905,\" \",C431:C905)","v":"3071212 Computador portatil de 14\" sistema operativo Windows 10, tarjeta Ram de 4GB, DD 256GB Valor evento 1 día"},3071212,"Computador portatil de 14\" sistema operativo Windows 10, tarjeta Ram de 4GB, DD 256GB Valor evento 1 día",{"$f":"IF('FERIAS 3 DIAS'!G$3=TRUE,'FERIAS DE 4 A 6 DIAS'!E431/'FERIAS 3 DIAS'!I$3,'FERIAS DE 4 A 6 DIAS'!E431)","v":99484},99484]
[{"$f":"CONCATENATE(B432:B906,\" \",C432:C906)","v":"3071212 Computador portatil de 14\" sistema operativo Windows 10, tarjeta Ram de 4GB, DD 256GB Valor evento 2 dias (Valor dia)"},3071212,"Computador portatil de 14\" sistema operativo Windows 10, tarjeta Ram de 4GB, DD 256GB Valor evento 2 dias (Valor dia)",{"$f":"IF('FERIAS 3 DIAS'!G$3=TRUE,'FERIAS DE 4 A 6 DIAS'!E432/'FERIAS 3 DIAS'!I$3,'FERIAS DE 4 A 6 DIAS'!E432)","v":99484},99484]
[{"$f":"CONCATENATE(B433:B907,\" \",C433:C907)","v":"3071212 Computador portatil de 14\" sistema operativo Windows 10, tarjeta Ram de 4GB, DD 256GB Valor de 3 a 6 dias (Valor dia)"},3071212,"Computador portatil de 14\" sistema operativo Windows 10, tarjeta Ram de 4GB, DD 256GB Valor de 3 a 6 dias (Valor dia)",{"$f":"IF('FERIAS 3 DIAS'!G$3=TRUE,'FERIAS DE 4 A 6 DIAS'!E433/'FERIAS 3 DIAS'!I$3,'FERIAS DE 4 A 6 DIAS'!E433)","v":90083},90083]
[{"$f":"CONCATENATE(B434:B908,\" \",C434:C908)","v":"3071212 Computador portatil de 14\" sistema operativo Windows 10, tarjeta Ram de 4GB, DD 256GB Valor de 7 a 18 días (Valor feria)"},3071212,"Computador portatil de 14\" sistema operativo Windows 10, tarjeta Ram de 4GB, DD 256GB Valor de 7 a 18 días (Valor feria)",{"$f":"IF('FERIAS 3 DIAS'!G$3=TRUE,'FERIAS DE 4 A 6 DIAS'!E434/'FERIAS 3 DIAS'!I$3,'FERIAS DE 4 A 6 DIAS'!E434)","v":642600},642600]
[{"$f":"CONCATENATE(B435:B909,\" \",C435:C909)","v":"3071212 Portátil Apple Macbook Air Core I5 1.6Ghz 8Gb 128Gb Ssd 13.3 pulgadas Silver Valor evento 1 día"},3071212,"Portátil Apple Macbook Air Core I5 1.6Ghz 8Gb 128Gb Ssd 13.3 pulgadas Silver Valor evento 1 día",{"$f":"IF('FERIAS 3 DIAS'!G$3=TRUE,'FERIAS DE 4 A 6 DIAS'!E435/'FERIAS 3 DIAS'!I$3,'FERIAS DE 4 A 6 DIAS'!E435)","v":309519},309519]
[{"$f":"CONCATENATE(B436:B910,\" \",C436:C910)","v":"3071212 Portátil Apple Macbook Air Core I5 1.6Ghz 8Gb 128Gb Ssd 13.3 pulgadas Silver Valor evento 2 dias (Valor dia)"},3071212,"Portátil Apple Macbook Air Core I5 1.6Ghz 8Gb 128Gb Ssd 13.3 pulgadas Silver Valor evento 2 dias (Valor dia)",{"$f":"IF('FERIAS 3 DIAS'!G$3=TRUE,'FERIAS DE 4 A 6 DIAS'!E436/'FERIAS 3 DIAS'!I$3,'FERIAS DE 4 A 6 DIAS'!E436)","v":309519},309519]
[{"$f":"CONCATENATE(B437:B911,\" \",C437:C911)","v":"3071212 Portátil Apple Macbook Air Core I5 1.6Ghz 8Gb 128Gb Ssd 13.3 pulgadas Silver Valor de 3 a 6 dias (Valor dia)"},3071212,"Portátil Apple Macbook Air Core I5 1.6Ghz 8Gb 128Gb Ssd 13.3 pulgadas Silver Valor de 3 a 6 dias (Valor dia)",{"$f":"IF('FERIAS 3 DIAS'!G$3=TRUE,'FERIAS DE 4 A 6 DIAS'!E437/'FERIAS 3 DIAS'!I$3,'FERIAS DE 4 A 6 DIAS'!E437)","v":278579},278579]
[{"$f":"CONCATENATE(B438:B912,\" \",C438:C912)","v":"3071212 Portátil Apple Macbook Air Core I5 1.6Ghz 8Gb 128Gb Ssd 13.3 pulgadas Silver Valor de 7 a 18 días (Valor feria)"},3071212,"Portátil Apple Macbook Air Core I5 1.6Ghz 8Gb 128Gb Ssd 13.3 pulgadas Silver Valor de 7 a 18 días (Valor feria)",{"$f":"IF('FERIAS 3 DIAS'!G$3=TRUE,'FERIAS DE 4 A 6 DIAS'!E438/'FERIAS 3 DIAS'!I$3,'FERIAS DE 4 A 6 DIAS'!E438)","v":2236010},2236010]
[{"$f":"CONCATENATE(B439:B913,\" \",C439:C913)","v":"3071237 Computador de escritorio, sistema operativo Windows 10, tarjeta Ram de 8GB, DD 256GB Valor evento 1 día"},3071237,"Computador de escritorio, sistema operativo Windows 10, tarjeta Ram de 8GB, DD 256GB Valor evento 1 día",{"$f":"IF('FERIAS 3 DIAS'!G$3=TRUE,'FERIAS DE 4 A 6 DIAS'!E439/'FERIAS 3 DIAS'!I$3,'FERIAS DE 4 A 6 DIAS'!E439)","v":99484},99484]
[{"$f":"CONCATENATE(B440:B914,\" \",C440:C914)","v":"3071237 Computador de escritorio, sistema operativo Windows 10, tarjeta Ram de 8GB, DD 256GB Valor evento 2 dias (Valor dia)"},3071237,"Computador de escritorio, sistema operativo Windows 10, tarjeta Ram de 8GB, DD 256GB Valor evento 2 dias (Valor dia)",{"$f":"IF('FERIAS 3 DIAS'!G$3=TRUE,'FERIAS DE 4 A 6 DIAS'!E440/'FERIAS 3 DIAS'!I$3,'FERIAS DE 4 A 6 DIAS'!E440)","v":99484},99484]
[{"$f":"CONCATENATE(B441:B915,\" \",C441:C915)","v":"3071237 Computador de escritorio, sistema operativo Windows 10, tarjeta Ram de 8GB, DD 256GB Valor de 3 a 6 dias (Valor dia)"},3071237,"Computador de escritorio, sistema operativo Windows 10, tarjeta Ram de 8GB, DD 256GB Valor de 3 a 6 dias (Valor dia)",{"$f":"IF('FERIAS 3 DIAS'!G$3=TRUE,'FERIAS DE 4 A 6 DIAS'!E441/'FERIAS 3 DIAS'!I$3,'FERIAS DE 4 A 6 DIAS'!E441)","v":90559},90559]
[{"$f":"CONCATENATE(B442:B916,\" \",C442:C916)","v":"3071237 Computador de escritorio, sistema operativo Windows 10, tarjeta Ram de 8GB, DD 256GB Valor de 7 a 18 días (Valor feria)"},3071237,"Computador de escritorio, sistema operativo Windows 10, tarjeta Ram de 8GB, DD 256GB Valor de 7 a 18 días (Valor feria)",{"$f":"IF('FERIAS 3 DIAS'!G$3=TRUE,'FERIAS DE 4 A 6 DIAS'!E442/'FERIAS 3 DIAS'!I$3,'FERIAS DE 4 A 6 DIAS'!E442)","v":646527},646527]
[{"$f":"CONCATENATE(B443:B917,\" \",C443:C917)","v":"3071312 Aseo permanente 8 horas 1 Operario (valor por dia) Día ordinario"},3071312,"Aseo permanente 8 horas 1 Operario (valor por dia) Día ordinario",{"$f":"IF('FERIAS 3 DIAS'!G$3=TRUE,'FERIAS DE 4 A 6 DIAS'!E443/'FERIAS 3 DIAS'!I$3,'FERIAS DE 4 A 6 DIAS'!E443)","v":102221},102221]
[{"$f":"CONCATENATE(B444:B918,\" \",C444:C918)","v":"3071312 Aseo permanente 8 horas 1 Operario (valor por dia) Día dominical o festivo"},3071312,"Aseo permanente 8 horas 1 Operario (valor por dia) Día dominical o festivo",{"$f":"IF('FERIAS 3 DIAS'!G$3=TRUE,'FERIAS DE 4 A 6 DIAS'!E444/'FERIAS 3 DIAS'!I$3,'FERIAS DE 4 A 6 DIAS'!E444)","v":179571},179571]
[{"$f":"CONCATENATE(B445:B919,\" \",C445:C919)","v":"3071433 Corferias Conecta  APP (incluye el internet para un equipo)"},3071433,"Corferias Conecta  APP (incluye el internet para un equipo)",{"$f":"IF('FERIAS 3 DIAS'!G$3=TRUE,'FERIAS DE 4 A 6 DIAS'!E445/'FERIAS 3 DIAS'!I$3,'FERIAS DE 4 A 6 DIAS'!E445)","v":336889},336889]
[{"$f":"CONCATENATE(B446:B920,\" \",C446:C920)","v":"3071432 Corferias Conecta  APP + Tablet con internet"},3071432,"Corferias Conecta  APP + Tablet con internet",{"$f":"IF('FERIAS 3 DIAS'!G$3=TRUE,'FERIAS DE 4 A 6 DIAS'!E446/'FERIAS 3 DIAS'!I$3,'FERIAS DE 4 A 6 DIAS'!E446)","v":466599},466599]
[{"$f":"CONCATENATE(B447:B921,\" \",C447:C921)","v":"3071431 Tablet adicional con internet"},3071431,"Tablet adicional con internet",{"$f":"IF('FERIAS 3 DIAS'!G$3=TRUE,'FERIAS DE 4 A 6 DIAS'!E447/'FERIAS 3 DIAS'!I$3,'FERIAS DE 4 A 6 DIAS'!E447)","v":311066},311066]
[{"$f":"CONCATENATE(B448:B922,\" \",C448:C922)","v":"3071326 Internet adicional para la app por equipo"},3071326,"Internet adicional para la app por equipo",{"$f":"IF('FERIAS 3 DIAS'!G$3=TRUE,'FERIAS DE 4 A 6 DIAS'!E448/'FERIAS 3 DIAS'!I$3,'FERIAS DE 4 A 6 DIAS'!E448)","v":111265},111265]

{"sheet":"FERIAS DE 7 DIAS EN ADELANTE","index":3,"n_rows":448,"n_cols":5,"rows_kept":448,"cut":false,"hidden":true,"merged":[]}
["CLAVE","CODIGO","DESCRIPCIÓN","FORMULA","VALOR"]
[{"$f":"CONCATENATE(B2:B492,\" \",C2:C492)","v":"3070101 Instalación Monofásica (Toma corriente doble, consumo hasta 2KW/110V) valor de 7 dias en adelante"},3070101,"Instalación Monofásica (Toma corriente doble, consumo hasta 2KW/110V) valor de 7 dias en adelante",{"$f":"IF('FERIAS 3 DIAS'!G$3=TRUE,'FERIAS DE 7 DIAS EN ADELANTE'!E2/'FERIAS 3 DIAS'!I$3,E2)","v":397460},397460]
[{"$f":"CONCATENATE(B3:B493,\" \",C3:C493)","v":"3070103 Instalación kilovatio adicional monofásico (Debe contar con punto principal, MAX 2KW por punto)"},3070103,"Instalación kilovatio adicional monofásico (Debe contar con punto principal, MAX 2KW por punto)",{"$f":"IF('FERIAS 3 DIAS'!G$3=TRUE,'FERIAS DE 7 DIAS EN ADELANTE'!E3/'FERIAS 3 DIAS'!I$3,E3)","v":127092},127092]
[{"$f":"CONCATENATE(B4:B494,\" \",C4:C494)","v":"3070102 Instalación trifásica (Regleta plastica, consumo hasta 4KW/208V)"},3070102,"Instalación trifásica (Regleta plastica, consumo hasta 4KW/208V)",{"$f":"IF('FERIAS 3 DIAS'!G$3=TRUE,'FERIAS DE 7 DIAS EN ADELANTE'!E4/'FERIAS 3 DIAS'!I$3,E4)","v":678062},678062]
[{"$f":"CONCATENATE(B5:B495,\" \",C5:C495)","v":"3070104 Instalación kilovatio adicional trifásico (Debe contar con punto principal)"},3070104,"Instalación kilovatio adicional trifásico (Debe contar con punto principal)",{"$f":"IF('FERIAS 3 DIAS'!G$3=TRUE,'FERIAS DE 7 DIAS EN ADELANTE'!E5/'FERIAS 3 DIAS'!I$3,E5)","v":165886},165886]
[{"$f":"CONCATENATE(B6:B496,\" \",C6:C496)","v":"3071372 De 21 a 50 kilovatios adicionales trifásicos (Valor por KW) (Debe contar con punto principal)"},3071372,"De 21 a 50 kilovatios adicionales trifásicos (Valor por KW) (Debe contar con punto principal)",{"$f":"IF('FERIAS 3 DIAS'!G$3=TRUE,'FERIAS DE 7 DIAS EN ADELANTE'!E6/'FERIAS 3 DIAS'!I$3,E6)","v":150892},150892]
[{"$f":"CONCATENATE(B7:B497,\" \",C7:C497)","v":"3071373 De 51 a 100 kilovatios adicionales trifásicos (Valor por KW) (Debe contar con punto principal)"},3071373,"De 51 a 100 kilovatios adicionales trifásicos (Valor por KW) (Debe contar con punto principal)",{"$f":"IF('FERIAS 3 DIAS'!G$3=TRUE,'FERIAS DE 7 DIAS EN ADELANTE'!E7/'FERIAS 3 DIAS'!I$3,E7)","v":144228},144228]
[{"$f":"CONCATENATE(B8:B498,\" \",C8:C498)","v":"3071374 Mas de100 kilovatios adicionales trifásicos (Valor por KW) (Debe contar con punto principal)"},3071374,"Mas de100 kilovatios adicionales trifásicos (Valor por KW) (Debe contar con punto principal)",{"$f":"IF('FERIAS 3 DIAS'!G$3=TRUE,'FERIAS DE 7 DIAS EN ADELANTE'!E8/'FERIAS 3 DIAS'!I$3,E8)","v":138278},138278]
[{"$f":"CONCATENATE(B9:B499,\" \",C9:C499)","v":"3070402 Lampara de pared ajustable (150W/110V)"},3070402,"Lampara de pared ajustable (150W/110V)",{"$f":"IF('FERIAS 3 DIAS'!G$3=TRUE,'FERIAS DE 7 DIAS EN ADELANTE'!E9/'FERIAS 3 DIAS'!I$3,E9)","v":73542},73542]
[{"$f":"CONCATENATE(B10:B500,\" \",C10:C500)","v":"3070405 Reflector Led (50W- mltV)"},3070405,"Reflector Led (50W- mltV)",{"$f":"IF('FERIAS 3 DIAS'!G$3=TRUE,'FERIAS DE 7 DIAS EN ADELANTE'!E10/'FERIAS 3 DIAS'!I$3,E10)","v":77350},77350]
[{"$f":"CONCATENATE(B11:B501,\" \",C11:C501)","v":"3070403 Extensión – tomacorriente doble con polo a tierra (1500W/110V) MAX 6mts "},3070403,"Extensión – tomacorriente doble con polo a tierra (1500W/110V) MAX 6mts ",{"$f":"IF('FERIAS 3 DIAS'!G$3=TRUE,'FERIAS DE 7 DIAS EN ADELANTE'!E11/'FERIAS 3 DIAS'!I$3,E11)","v":38080},38080]
[{"$f":"CONCATENATE(B12:B502,\" \",C12:C502)","v":"3071345 Lavaplatos 90XL* 60XH* 90 (No incluye agua y desague) valor de 7 dias en adelante"},3071345,"Lavaplatos 90XL* 60XH* 90 (No incluye agua y desague) valor de 7 dias en adelante",{"$f":"IF('FERIAS 3 DIAS'!G$3=TRUE,'FERIAS DE 7 DIAS EN ADELANTE'!E12/'FERIAS 3 DIAS'!I$3,E12)","v":181832},181832]
[{"$f":"CONCATENATE(B13:B503,\" \",C13:C503)","v":"3070301 Punto de Agua en 1/2\" (incluye consumo) valor de 7 dias en adelante"},3070301,"Punto de Agua en 1/2\" (incluye consumo) valor de 7 dias en adelante",{"$f":"IF('FERIAS 3 DIAS'!G$3=TRUE,'FERIAS DE 7 DIAS EN ADELANTE'!E13/'FERIAS 3 DIAS'!I$3,E13)","v":460054},460054]
[{"$f":"CONCATENATE(B14:B504,\" \",C14:C504)","v":"3070302 Desagüe en 1 1/2\" Por toda la feria (Ubicación asignada por Corferias en su stand) valor de 7 dias en adelante"},3070302,"Desagüe en 1 1/2\" Por toda la feria (Ubicación asignada por Corferias en su stand) valor de 7 dias en adelante",{"$f":"IF('FERIAS 3 DIAS'!G$3=TRUE,'FERIAS DE 7 DIAS EN ADELANTE'!E14/'FERIAS 3 DIAS'!I$3,E14)","v":404838},404838]
[{"$f":"CONCATENATE(B15:B505,\" \",C15:C505)","v":"3071341 Aire comprimido para punto con presión máx. de 100 PSI, y caudal máx. 35CFM. valor de 7 dias en adelante"},3071341,"Aire comprimido para punto con presión máx. de 100 PSI, y caudal máx. 35CFM. valor de 7 dias en adelante",{"$f":"IF('FERIAS 3 DIAS'!G$3=TRUE,'FERIAS DE 7 DIAS EN ADELANTE'!E15/'FERIAS 3 DIAS'!I$3,E15)","v":565488},565488]
[{"$f":"CONCATENATE(B16:B506,\" \",C16:C506)","v":"3070307 Punto de Agua en 1/2\" (Incluye consumo)  + Desagüe en 1 1/2\" + Lavaplatos valor de 7 dias en adelante"},3070307,"Punto de Agua en 1/2\" (Incluye consumo)  + Desagüe en 1 1/2\" + Lavaplatos valor de 7 dias en adelante",{"$f":"IF('FERIAS 3 DIAS'!G$3=TRUE,'FERIAS DE 7 DIAS EN ADELANTE'!E16/'FERIAS 3 DIAS'!I$3,E16)","v":951524},951524]
[{"$f":"CONCATENATE(B17:B507,\" \",C17:C507)","v":"3071321 Instalación de UN (1) punto de gas propano por UN (1) Equipo (Incluye materiales y mano de obra) (No incluye consumo de gas, este será liquidado a través de un medidor una vez finalice la feria y/o evento)"},3071321,"Instalación de UN (1) punto de gas propano por UN (1) Equipo (Incluye materiales y mano de obra) (No incluye consumo de gas, este será liquidado a través de un medidor una vez finalice la feria y/o evento)",{"$f":"IF('FERIAS 3 DIAS'!G$3=TRUE,'FERIAS DE 7 DIAS EN ADELANTE'!E17/'FERIAS 3 DIAS'!I$3,E17)","v":204680},{"$f":"172000*1.19","v":204680}]
[{"$f":"CONCATENATE(B18:B508,\" \",C18:C508)","v":"3070601 Panel adicional sistema cfe 100cm x 240cm"},3070601,"Panel adicional sistema cfe 100cm x 240cm",{"$f":"IF('FERIAS 3 DIAS'!G$3=TRUE,'FERIAS DE 7 DIAS EN ADELANTE'!E18/'FERIAS 3 DIAS'!I$3,E18)","v":39151},39151]
[{"$f":"CONCATENATE(B19:B509,\" \",C19:C509)","v":"3070801 Puerta sistema cfe 90cm x 240cm"},3070801,"Puerta sistema cfe 90cm x 240cm",{"$f":"IF('FERIAS 3 DIAS'!G$3=TRUE,'FERIAS DE 7 DIAS EN ADELANTE'!E19/'FERIAS 3 DIAS'!I$3,E19)","v":97104},97104]
[{"$f":"CONCATENATE(B20:B510,\" \",C20:C510)","v":"3070803 Bodega estándar con puerta 150cm x 150cm (Sistema Corferias)"},3070803,"Bodega estándar con puerta 150cm x 150cm (Sistema Corferias)",{"$f":"IF('FERIAS 3 DIAS'!G$3=TRUE,'FERIAS DE 7 DIAS EN ADELANTE'!E20/'FERIAS 3 DIAS'!I$3,E20)","v":154938},154938]
[{"$f":"CONCATENATE(B21:B511,\" \",C21:C511)","v":"3071319 Brazo Mecánico por Fracciòn de 15 min (Solo para primer nivel)"},3071319,"Brazo Mecánico por Fracciòn de 15 min (Solo para primer nivel)",{"$f":"IF('FERIAS 3 DIAS'!G$3=TRUE,'FERIAS DE 7 DIAS EN ADELANTE'!E21/'FERIAS 3 DIAS'!I$3,E21)","v":66400},66400]
[{"$f":"CONCATENATE(B22:B512,\" \",C22:C512)","v":"3071319 Brazo Mecánico por Fracciòn de 30 min (Solo para primer nivel)"},3071319,"Brazo Mecánico por Fracciòn de 30 min (Solo para primer nivel)",{"$f":"IF('FERIAS 3 DIAS'!G$3=TRUE,'FERIAS DE 7 DIAS EN ADELANTE'!E22/'FERIAS 3 DIAS'!I$3,E22)","v":113500},113500]
[{"$f":"CONCATENATE(B23:B514,\" \",C23:C514)","v":"3071319 Brazo Mecánico por Fracciòn de 60 min (Solo para primer nivel)"},3071319,"Brazo Mecánico por Fracciòn de 60 min (Solo para primer nivel)",{"$f":"IF('FERIAS 3 DIAS'!G$3=TRUE,'FERIAS DE 7 DIAS EN ADELANTE'!E23/'FERIAS 3 DIAS'!I$3,E23)","v":201700},201700]
[{"$f":"CONCATENATE(B24:B515,\" \",C24:C515)","v":"3070413 Diferencial (Cap. 1 Ton.) + Brazo mecánico (Montaje y desmontaje) "},3070413,"Diferencial (Cap. 1 Ton.) + Brazo mecánico (Montaje y desmontaje) ",{"$f":"IF('FERIAS 3 DIAS'!G$3=TRUE,'FERIAS DE 7 DIAS EN ADELANTE'!E24/'FERIAS 3 DIAS'!I$3,E24)","v":313300},313300]
[{"$f":"CONCATENATE(B25:B516,\" \",C25:C516)","v":"3070414 Plataforma Tijera eléctrica por Fracciòn /30 min (Uso para segundos niveles)"},3070414,"Plataforma Tijera eléctrica por Fracciòn /30 min (Uso para segundos niveles)",{"$f":"IF('FERIAS 3 DIAS'!G$3=TRUE,'FERIAS DE 7 DIAS EN ADELANTE'!E25/'FERIAS 3 DIAS'!I$3,E25)","v":78000},78000]
[{"$f":"CONCATENATE(B26:B517,\" \",C26:C517)","v":"3071387 Brazo mecánico + Diferencial + TRUSS 2,60 X 2,60"},3071387,"Brazo mecánico + Diferencial + TRUSS 2,60 X 2,60",{"$f":"IF('FERIAS 3 DIAS'!G$3=TRUE,'FERIAS DE 7 DIAS EN ADELANTE'!E26/'FERIAS 3 DIAS'!I$3,E26)","v":2668000},2668000]
[{"$f":"CONCATENATE(B27:B518,\" \",C27:C518)","v":"3071351 Brazo mecánico + Diferencial + TRUSS 3,60 X 2,60"},3071351,"Brazo mecánico + Diferencial + TRUSS 3,60 X 2,60",{"$f":"IF('FERIAS 3 DIAS'!G$3=TRUE,'FERIAS DE 7 DIAS EN ADELANTE'!E27/'FERIAS 3 DIAS'!I$3,E27)","v":2668000},2668000]
[{"$f":"CONCATENATE(B28:B519,\" \",C28:C519)","v":"3071395 Brazo mecánico + Diferencial + TRUSS 3,60 X 3,60"},3071395,"Brazo mecánico + Diferencial + TRUSS 3,60 X 3,60",{"$f":"IF('FERIAS 3 DIAS'!G$3=TRUE,'FERIAS DE 7 DIAS EN ADELANTE'!E28/'FERIAS 3 DIAS'!I$3,E28)","v":2668000},2668000]
[{"$f":"CONCATENATE(B29:B520,\" \",C29:C520)","v":"3071324 Brazo mecánico + Diferencial + TRUSS 5,90 X 5,90"},3071324,"Brazo mecánico + Diferencial + TRUSS 5,90 X 5,90",{"$f":"IF('FERIAS 3 DIAS'!G$3=TRUE,'FERIAS DE 7 DIAS EN ADELANTE'!E29/'FERIAS 3 DIAS'!I$3,E29)","v":3335000},3335000]
[{"$f":"CONCATENATE(B30:B521,\" \",C30:C521)","v":"3071436 Brazo mecánico + Diferencial + TRUSS 6,90 X 6,90"},3071436,"Brazo mecánico + Diferencial + TRUSS 6,90 X 6,90",{"$f":"IF('FERIAS 3 DIAS'!G$3=TRUE,'FERIAS DE 7 DIAS EN ADELANTE'!E30/'FERIAS 3 DIAS'!I$3,E30)","v":3335000},3335000]
[{"$f":"CONCATENATE(B31:B522,\" \",C31:C522)","v":"3071350 Brazo mecánico + Diferencial + TRUSS 5,60 X 5,60"},3071350,"Brazo mecánico + Diferencial + TRUSS 5,60 X 5,60",{"$f":"IF('FERIAS 3 DIAS'!G$3=TRUE,'FERIAS DE 7 DIAS EN ADELANTE'!E31/'FERIAS 3 DIAS'!I$3,E31)","v":3335000},3335000]
[{"$f":"CONCATENATE(B32:B523,\" \",C32:C523)","v":"3071371 Brazo mecánico + Diferencial + TRUSS 6,60 X 6,60"},3071371,"Brazo mecánico + Diferencial + TRUSS 6,60 X 6,60",{"$f":"IF('FERIAS 3 DIAS'!G$3=TRUE,'FERIAS DE 7 DIAS EN ADELANTE'!E32/'FERIAS 3 DIAS'!I$3,E32)","v":3335000},3335000]
[{"$f":"CONCATENATE(B33:B524,\" \",C33:C524)","v":"3071393 Brazo mecánico + Diferencial + TRUSS 9,60 X 2,60"},3071393,"Brazo mecánico + Diferencial + TRUSS 9,60 X 2,60",{"$f":"IF('FERIAS 3 DIAS'!G$3=TRUE,'FERIAS DE 7 DIAS EN ADELANTE'!E33/'FERIAS 3 DIAS'!I$3,E33)","v":3335000},3335000]
[{"$f":"CONCATENATE(B34:B525,\" \",C34:C525)","v":"3071394 Brazo mecánico + Diferencial + TRUSS 9,60 X 3,60"},3071394,"Brazo mecánico + Diferencial + TRUSS 9,60 X 3,60",{"$f":"IF('FERIAS 3 DIAS'!G$3=TRUE,'FERIAS DE 7 DIAS EN ADELANTE'!E34/'FERIAS 3 DIAS'!I$3,E34)","v":3335000},3335000]
[{"$f":"CONCATENATE(B35:B526,\" \",C35:C526)","v":"3071396 Brazo mecánico + Diferencial + TRUSS 9,60 X 5,60"},3071396,"Brazo mecánico + Diferencial + TRUSS 9,60 X 5,60",{"$f":"IF('FERIAS 3 DIAS'!G$3=TRUE,'FERIAS DE 7 DIAS EN ADELANTE'!E35/'FERIAS 3 DIAS'!I$3,E35)","v":4416000},4416000]
[{"$f":"CONCATENATE(B36:B527,\" \",C36:C527)","v":"3071397 Brazo mecánico + Diferencial + TRUSS 9,60 X 6,60"},3071397,"Brazo mecánico + Diferencial + TRUSS 9,60 X 6,60",{"$f":"IF('FERIAS 3 DIAS'!G$3=TRUE,'FERIAS DE 7 DIAS EN ADELANTE'!E36/'FERIAS 3 DIAS'!I$3,E36)","v":4416000},4416000]
[{"$f":"CONCATENATE(B37:B528,\" \",C37:C528)","v":"3071418 Servicio de Internet Cableado \"PARA UN EQUIPO - DURANTE UN DÍA\"  "},3071418,"Servicio de Internet Cableado \"PARA UN EQUIPO - DURANTE UN DÍA\"  ",{"$f":"IF('FERIAS 3 DIAS'!G$3=TRUE,'FERIAS DE 7 DIAS EN ADELANTE'!E37/'FERIAS 3 DIAS'!I$3,E37)","v":74970},74970]
[{"$f":"CONCATENATE(B38:B529,\" \",C38:C529)","v":"3071419 Clave de acceso para la red WiFi  \"PARA UN EQUIPO - DURANTE UN DÍA\""},3071419,"Clave de acceso para la red WiFi  \"PARA UN EQUIPO - DURANTE UN DÍA\"",{"$f":"IF('FERIAS 3 DIAS'!G$3=TRUE,'FERIAS DE 7 DIAS EN ADELANTE'!E38/'FERIAS 3 DIAS'!I$3,E38)","v":74970},74970]
[{"$f":"CONCATENATE(B39:B530,\" \",C39:C530)","v":"3071417 Servicio de Internet Cableado \"PARA UN EQUIPO - DURANTE TODA LA FERIA\" valor a partir de 7 dias"},3071417,"Servicio de Internet Cableado \"PARA UN EQUIPO - DURANTE TODA LA FERIA\" valor a partir de 7 dias",{"$f":"IF('FERIAS 3 DIAS'!G$3=TRUE,'FERIAS DE 7 DIAS EN ADELANTE'!E39/'FERIAS 3 DIAS'!I$3,E39)","v":278460},278460]
[{"$f":"CONCATENATE(B40:B531,\" \",C40:C531)","v":"3071420 Clave de acceso para la Red WiFi \"PARA UN EQUIPO - DURANTE TODA LA FERIA\" valor a partir de 7 dias"},3071420,"Clave de acceso para la Red WiFi \"PARA UN EQUIPO - DURANTE TODA LA FERIA\" valor a partir de 7 dias",{"$f":"IF('FERIAS 3 DIAS'!G$3=TRUE,'FERIAS DE 7 DIAS EN ADELANTE'!E40/'FERIAS 3 DIAS'!I$3,E40)","v":278460},278460]
[{"$f":"CONCATENATE(B41:B532,\" \",C41:C532)","v":"3071423 Conexión para Datafono + Clave de acceso WIFI (Para un equipo durante toda la feria) valor a partir de 7 dias"},3071423,"Conexión para Datafono + Clave de acceso WIFI (Para un equipo durante toda la feria) valor a partir de 7 dias",{"$f":"IF('FERIAS 3 DIAS'!G$3=TRUE,'FERIAS DE 7 DIAS EN ADELANTE'!E41/'FERIAS 3 DIAS'!I$3,E41)","v":385322},385322]
[{"$f":"CONCATENATE(B42:B260,\" \",C42:C260)","v":"3071424 Conexión para Datafono + Servicio de Internet Cableado (Para un equipo durante toda la feria) valor a partir de 7 dias"},3071424,"Conexión para Datafono + Servicio de Internet Cableado (Para un equipo durante toda la feria) valor a partir de 7 dias",{"$f":"IF('FERIAS 3 DIAS'!G$3=TRUE,'FERIAS DE 7 DIAS EN ADELANTE'!E42/'FERIAS 3 DIAS'!I$3,E42)","v":385322},385322]
[{"$f":"CONCATENATE(B43:B261,\" \",C43:C261)","v":"3071425 Servicio de Internet Cableado + Clave de acceso WIFI (Para un equipo durante toda la feria) valor a partir de 7 dias"},3071425,"Servicio de Internet Cableado + Clave de acceso WIFI (Para un equipo durante toda la feria) valor a partir de 7 dias",{"$f":"IF('FERIAS 3 DIAS'!G$3=TRUE,'FERIAS DE 7 DIAS EN ADELANTE'!E43/'FERIAS 3 DIAS'!I$3,E43)","v":501228},501228]
[{"$f":"CONCATENATE(B44:B262,\" \",C44:C262)","v":"3071437 Internet Dedicado: Si requiere conexión banda ancha para diferentes servicios o redes locales, contáctese con serviciosplus@corferias.com para brindarle asesoria y cotización."},3071437,"Internet Dedicado: Si requiere conexión banda ancha para diferentes servicios o redes locales, contáctese con serviciosplus@corferias.com para brindarle asesoria y cotización.",{"$f":"IF('FERIAS 3 DIAS'!G$3=TRUE,'FERIAS DE 7 DIAS EN ADELANTE'!E44/'FERIAS 3 DIAS'!I$3,E44)","v":"Según cotización"},"Según cotización"]
[{"$f":"CONCATENATE(B45:B263,\" \",C45:C263)","v":"3071406 Instalación Punto de Red:Incluye un cable UTP por punto"},3071406,"Instalación Punto de Red:Incluye un cable UTP por punto",{"$f":"IF('FERIAS 3 DIAS'!G$3=TRUE,'FERIAS DE 7 DIAS EN ADELANTE'!E45/'FERIAS 3 DIAS'!I$3,E45)","v":90797},90797]
[{"$f":"CONCATENATE(B46:B264,\" \",C46:C264)","v":"3071407 Switch VALOR POR FERIA "},3071407,"Switch VALOR POR FERIA ",{"$f":"IF('FERIAS 3 DIAS'!G$3=TRUE,'FERIAS DE 7 DIAS EN ADELANTE'!E46/'FERIAS 3 DIAS'!I$3,E46)","v":87346},87346]
[{"$f":"CONCATENATE(B47:B265,\" \",C47:C265)","v":"3071402 Servicio de VLAN: Servicio virtual de red.  VALOR POR FERIA"},3071402,"Servicio de VLAN: Servicio virtual de red.  VALOR POR FERIA",{"$f":"IF('FERIAS 3 DIAS'!G$3=TRUE,'FERIAS DE 7 DIAS EN ADELANTE'!E47/'FERIAS 3 DIAS'!I$3,E47)","v":367115},367115]
[{"$f":"CONCATENATE(B48:B266,\" \",C48:C266)","v":"3071430 Extension LAN VALOR POR FERIA  (Incluye punto de red y aplica para extender el servicio de internet contratado con terceros)"},3071430,"Extension LAN VALOR POR FERIA  (Incluye punto de red y aplica para extender el servicio de internet contratado con terceros)",{"$f":"IF('FERIAS 3 DIAS'!G$3=TRUE,'FERIAS DE 7 DIAS EN ADELANTE'!E48/'FERIAS 3 DIAS'!I$3,E48)","v":1401344},1401344]
[{"$f":"CONCATENATE(B49:B267,\" \",C49:C267)","v":"3071442 Soporte técnico permanente (Por espacio de 8 horas) de un técnico. VALOR DÍARIO "},3071442,"Soporte técnico permanente (Por espacio de 8 horas) de un técnico. VALOR DÍARIO ",{"$f":"IF('FERIAS 3 DIAS'!G$3=TRUE,'FERIAS DE 7 DIAS EN ADELANTE'!E49/'FERIAS 3 DIAS'!I$3,E49)","v":243474},243474]
[{"$f":"CONCATENATE(B50:B268,\" \",C50:C268)","v":"3070202 Servicio Telefónico Urbano con Aparato (Incluye consumo local ilimitado)"},3070202,"Servicio Telefónico Urbano con Aparato (Incluye consumo local ilimitado)",{"$f":"IF('FERIAS 3 DIAS'!G$3=TRUE,'FERIAS DE 7 DIAS EN ADELANTE'!E50/'FERIAS 3 DIAS'!I$3,E50)","v":42483},42483]
[{"$f":"CONCATENATE(B51:B269,\" \",C51:C269)","v":"3070203 Servicio Telefónico Larga Distancia con aparato"},3070203,"Servicio Telefónico Larga Distancia con aparato",{"$f":"IF('FERIAS 3 DIAS'!G$3=TRUE,'FERIAS DE 7 DIAS EN ADELANTE'!E51/'FERIAS 3 DIAS'!I$3,E51)","v":42483},42483]
[{"$f":"CONCATENATE(B52:B270,\" \",C52:C270)","v":"3070201 Línea Externa no conmutada (Previa solicitud a Etb, Claro, EPM, Colomsat u otro operador)"},3070201,"Línea Externa no conmutada (Previa solicitud a Etb, Claro, EPM, Colomsat u otro operador)",{"$f":"IF('FERIAS 3 DIAS'!G$3=TRUE,'FERIAS DE 7 DIAS EN ADELANTE'!E52/'FERIAS 3 DIAS'!I$3,E52)","v":120071},120071]
[{"$f":"CONCATENATE(B53:B271,\" \",C53:C271)","v":"3070207 Conexión cableada para Datafono:(No incluye Datafono)"},3070207,"Conexión cableada para Datafono:(No incluye Datafono)",{"$f":"IF('FERIAS 3 DIAS'!G$3=TRUE,'FERIAS DE 7 DIAS EN ADELANTE'!E53/'FERIAS 3 DIAS'!I$3,E53)","v":127092},127092]
[{"$f":"CONCATENATE(B54:B526,\" \",C54:C526)","v":"3071107 Archivador Regina (70cm x 37cm x50cm)"},3071107,"Archivador Regina (70cm x 37cm x50cm)",{"$f":"IF('FERIAS 3 DIAS'!G$3=TRUE,'FERIAS DE 7 DIAS EN ADELANTE'!E54/'FERIAS 3 DIAS'!I$3,E54)","v":158151},158151]
[{"$f":"CONCATENATE(B55:B527,\" \",C55:C527)","v":"3070954 Counter Mónaco (Melaminico) (100cm x 100cm x 30cm)"},3070954,"Counter Mónaco (Melaminico) (100cm x 100cm x 30cm)",{"$f":"IF('FERIAS 3 DIAS'!G$3=TRUE,'FERIAS DE 7 DIAS EN ADELANTE'!E55/'FERIAS 3 DIAS'!I$3,E55)","v":171241},171241]
[{"$f":"CONCATENATE(B56:B528,\" \",C56:C528)","v":"3070954 Counter Mónaco (Miel) (100cm x 100cm x 30cm)"},3070954,"Counter Mónaco (Miel) (100cm x 100cm x 30cm)",{"$f":"IF('FERIAS 3 DIAS'!G$3=TRUE,'FERIAS DE 7 DIAS EN ADELANTE'!E56/'FERIAS 3 DIAS'!I$3,E56)","v":171241},171241]
[{"$f":"CONCATENATE(B57:B529,\" \",C57:C529)","v":"3070954 Counter Mónaco (Roble Gris) (100cm x 100cm x 30cm)"},3070954,"Counter Mónaco (Roble Gris) (100cm x 100cm x 30cm)",{"$f":"IF('FERIAS 3 DIAS'!G$3=TRUE,'FERIAS DE 7 DIAS EN ADELANTE'!E57/'FERIAS 3 DIAS'!I$3,E57)","v":171241},171241]
[{"$f":"CONCATENATE(B58:B530,\" \",C58:C530)","v":"3070954 Counter Mónaco (Rovere) (100cm x 100cm x 30cm)"},3070954,"Counter Mónaco (Rovere) (100cm x 100cm x 30cm)",{"$f":"IF('FERIAS 3 DIAS'!G$3=TRUE,'FERIAS DE 7 DIAS EN ADELANTE'!E58/'FERIAS 3 DIAS'!I$3,E58)","v":171241},171241]
[{"$f":"CONCATENATE(B59:B531,\" \",C59:C531)","v":"3070714 Cubo de exhibición (40cm x 40cm x 25cm)"},3070714,"Cubo de exhibición (40cm x 40cm x 25cm)",{"$f":"IF('FERIAS 3 DIAS'!G$3=TRUE,'FERIAS DE 7 DIAS EN ADELANTE'!E59/'FERIAS 3 DIAS'!I$3,E59)","v":35700},35700]
[{"$f":"CONCATENATE(B60:B532,\" \",C60:C532)","v":"3070503 Estantería Polo (Melaminico)   (200cm x 93cm x 35cm)"},3070503,"Estantería Polo (Melaminico)   (200cm x 93cm x 35cm)",{"$f":"IF('FERIAS 3 DIAS'!G$3=TRUE,'FERIAS DE 7 DIAS EN ADELANTE'!E60/'FERIAS 3 DIAS'!I$3,E60)","v":181951},181951]
[{"$f":"CONCATENATE(B61:B533,\" \",C61:C533)","v":"3070503 Estantería Polo (Miel)  (200cm x 93cm x 35cm)"},3070503,"Estantería Polo (Miel)  (200cm x 93cm x 35cm)",{"$f":"IF('FERIAS 3 DIAS'!G$3=TRUE,'FERIAS DE 7 DIAS EN ADELANTE'!E61/'FERIAS 3 DIAS'!I$3,E61)","v":181951},181951]
[{"$f":"CONCATENATE(B62:B534,\" \",C62:C534)","v":"3070503 Estantería Polo (OSB)  (200cm x 93cm x 35cm)"},3070503,"Estantería Polo (OSB)  (200cm x 93cm x 35cm)",{"$f":"IF('FERIAS 3 DIAS'!G$3=TRUE,'FERIAS DE 7 DIAS EN ADELANTE'!E62/'FERIAS 3 DIAS'!I$3,E62)","v":181951},181951]
[{"$f":"CONCATENATE(B63:B535,\" \",C63:C535)","v":"3070503 Estantería Polo (Roble Gris)  (200cm x 93cm x 35cm)"},3070503,"Estantería Polo (Roble Gris)  (200cm x 93cm x 35cm)",{"$f":"IF('FERIAS 3 DIAS'!G$3=TRUE,'FERIAS DE 7 DIAS EN ADELANTE'!E63/'FERIAS 3 DIAS'!I$3,E63)","v":181951},181951]
[{"$f":"CONCATENATE(B64:B536,\" \",C64:C536)","v":"3070503 Estantería Polo (Rovere)  (200cm x 93cm x 35cm)"},3070503,"Estantería Polo (Rovere)  (200cm x 93cm x 35cm)",{"$f":"IF('FERIAS 3 DIAS'!G$3=TRUE,'FERIAS DE 7 DIAS EN ADELANTE'!E64/'FERIAS 3 DIAS'!I$3,E64)","v":181951},181951]
[{"$f":"CONCATENATE(B65:B537,\" \",C65:C537)","v":"3071108 Estantería Shelf 4E (190cm x 125cm x 41cm)"},3071108,"Estantería Shelf 4E (190cm x 125cm x 41cm)",{"$f":"IF('FERIAS 3 DIAS'!G$3=TRUE,'FERIAS DE 7 DIAS EN ADELANTE'!E65/'FERIAS 3 DIAS'!I$3,E65)","v":151606},151606]
[{"$f":"CONCATENATE(B66:B539,\" \",C66:C539)","v":"3071105 KIT básico oficina 2 (2 sillas interlocutoras negras, 1 silla ejecutiva cuero, 1 mesa oficina)"},3071105,"KIT básico oficina 2 (2 sillas interlocutoras negras, 1 silla ejecutiva cuero, 1 mesa oficina)",{"$f":"IF('FERIAS 3 DIAS'!G$3=TRUE,'FERIAS DE 7 DIAS EN ADELANTE'!E66/'FERIAS 3 DIAS'!I$3,E66)","v":237286},237286]
[{"$f":"CONCATENATE(B67:B540,\" \",C67:C540)","v":"3070512 Locker 12 puestos"},3070512,"Locker 12 puestos",{"$f":"IF('FERIAS 3 DIAS'!G$3=TRUE,'FERIAS DE 7 DIAS EN ADELANTE'!E67/'FERIAS 3 DIAS'!I$3,E67)","v":357000},357000]
[{"$f":"CONCATENATE(B68:B542,\" \",C68:C542)","v":"3070512 Mesa alta Daysa (Melaminico) (100cm x 60cm)"},3070512,"Mesa alta Daysa (Melaminico) (100cm x 60cm)",{"$f":"IF('FERIAS 3 DIAS'!G$3=TRUE,'FERIAS DE 7 DIAS EN ADELANTE'!E68/'FERIAS 3 DIAS'!I$3,E68)","v":105553},105553]
[{"$f":"CONCATENATE(B69:B543,\" \",C69:C543)","v":"3071115 Mesa alta Daysa (Miel) (100cm x 60cm)"},3071115,"Mesa alta Daysa (Miel) (100cm x 60cm)",{"$f":"IF('FERIAS 3 DIAS'!G$3=TRUE,'FERIAS DE 7 DIAS EN ADELANTE'!E69/'FERIAS 3 DIAS'!I$3,E69)","v":105553},105553]
[{"$f":"CONCATENATE(B70:B544,\" \",C70:C544)","v":"3071115 Mesa alta Daysa (Roble Gris) (100cm x 60cm)"},3071115,"Mesa alta Daysa (Roble Gris) (100cm x 60cm)",{"$f":"IF('FERIAS 3 DIAS'!G$3=TRUE,'FERIAS DE 7 DIAS EN ADELANTE'!E70/'FERIAS 3 DIAS'!I$3,E70)","v":105553},105553]
[{"$f":"CONCATENATE(B71:B545,\" \",C71:C545)","v":"3071115 Mesa alta Daysa (Rovere) (100cm x 60cm)"},3071115,"Mesa alta Daysa (Rovere) (100cm x 60cm)",{"$f":"IF('FERIAS 3 DIAS'!G$3=TRUE,'FERIAS DE 7 DIAS EN ADELANTE'!E71/'FERIAS 3 DIAS'!I$3,E71)","v":105553},105553]
[{"$f":"CONCATENATE(B72:B546,\" \",C72:C546)","v":"3071039 Mesa alta Daysa + 2 sillas neumaticas altas marsella"},3071039,"Mesa alta Daysa + 2 sillas neumaticas altas marsella",{"$f":"IF('FERIAS 3 DIAS'!G$3=TRUE,'FERIAS DE 7 DIAS EN ADELANTE'!E72/'FERIAS 3 DIAS'!I$3,E72)","v":247163},247163]
[{"$f":"CONCATENATE(B73:B547,\" \",C73:C547)","v":"3071093 Mesa alta Daysa vidrio (100cm x 60cm)"},3071093,"Mesa alta Daysa vidrio (100cm x 60cm)",{"$f":"IF('FERIAS 3 DIAS'!G$3=TRUE,'FERIAS DE 7 DIAS EN ADELANTE'!E73/'FERIAS 3 DIAS'!I$3,E73)","v":118643},118643]
[{"$f":"CONCATENATE(B74:B548,\" \",C74:C548)","v":"3071100 Mesa Centro Circular doble nivel (melaminico) (50cm x 110cm x 60cm)"},3071100,"Mesa Centro Circular doble nivel (melaminico) (50cm x 110cm x 60cm)",{"$f":"IF('FERIAS 3 DIAS'!G$3=TRUE,'FERIAS DE 7 DIAS EN ADELANTE'!E74/'FERIAS 3 DIAS'!I$3,E74)","v":117453},117453]
[{"$f":"CONCATENATE(B75:B549,\" \",C75:C549)","v":"3071104 Mesa Centro Cuadrada 2 Niveles (melaminico) (50cm x 60cm x 60)"},3071104,"Mesa Centro Cuadrada 2 Niveles (melaminico) (50cm x 60cm x 60)",{"$f":"IF('FERIAS 3 DIAS'!G$3=TRUE,'FERIAS DE 7 DIAS EN ADELANTE'!E75/'FERIAS 3 DIAS'!I$3,E75)","v":85442},85442]
[{"$f":"CONCATENATE(B76:B550,\" \",C76:C550)","v":"3071068 Mesa Centro Rectangular doble nivel (melaminico) (50cm x 75cm x 50cm)"},3071068,"Mesa Centro Rectangular doble nivel (melaminico) (50cm x 75cm x 50cm)",{"$f":"IF('FERIAS 3 DIAS'!G$3=TRUE,'FERIAS DE 7 DIAS EN ADELANTE'!E76/'FERIAS 3 DIAS'!I$3,E76)","v":85442},85442]
[{"$f":"CONCATENATE(B77:B551,\" \",C77:C551)","v":"3071098 Mesa estandar Chia Blanca"},3071098,"Mesa estandar Chia Blanca",{"$f":"IF('FERIAS 3 DIAS'!G$3=TRUE,'FERIAS DE 7 DIAS EN ADELANTE'!E77/'FERIAS 3 DIAS'!I$3,E77)","v":105553},105553]
[{"$f":"CONCATENATE(B78:B552,\" \",C78:C552)","v":"3071098 Mesa estandar Chia Negra"},3071098,"Mesa estandar Chia Negra",{"$f":"IF('FERIAS 3 DIAS'!G$3=TRUE,'FERIAS DE 7 DIAS EN ADELANTE'!E78/'FERIAS 3 DIAS'!I$3,E78)","v":105553},105553]
[{"$f":"CONCATENATE(B79:B553,\" \",C79:C553)","v":"3071097 Mesa estandar Daysa (76cm x 60cm)"},3071097,"Mesa estandar Daysa (76cm x 60cm)",{"$f":"IF('FERIAS 3 DIAS'!G$3=TRUE,'FERIAS DE 7 DIAS EN ADELANTE'!E79/'FERIAS 3 DIAS'!I$3,E79)","v":105553},105553]
[{"$f":"CONCATENATE(B80:B554,\" \",C80:C554)","v":"3071116 Mesa estandar Lotus (70cm x 64cm x 81cm)"},3071116,"Mesa estandar Lotus (70cm x 64cm x 81cm)",{"$f":"IF('FERIAS 3 DIAS'!G$3=TRUE,'FERIAS DE 7 DIAS EN ADELANTE'!E80/'FERIAS 3 DIAS'!I$3,E80)","v":158151},158151]
[{"$f":"CONCATENATE(B81:B555,\" \",C81:C555)","v":"3071054 Mesa estandar lotus vidrio + 2 sillas tipo huevo"},3071054,"Mesa estandar lotus vidrio + 2 sillas tipo huevo",{"$f":"IF('FERIAS 3 DIAS'!G$3=TRUE,'FERIAS DE 7 DIAS EN ADELANTE'!E81/'FERIAS 3 DIAS'!I$3,E81)","v":272153},272153]
[{"$f":"CONCATENATE(B82:B556,\" \",C82:C556)","v":"30713200 Mesa Oficina (78cm x 120cm x 50cm)"},30713200,"Mesa Oficina (78cm x 120cm x 50cm)",{"$f":"IF('FERIAS 3 DIAS'!G$3=TRUE,'FERIAS DE 7 DIAS EN ADELANTE'!E82/'FERIAS 3 DIAS'!I$3,E82)","v":133042},133042]
[{"$f":"CONCATENATE(B83:B557,\" \",C83:C557)","v":"3071036 Mesa plegable plastico + 2 sillas interlocutoras negras"},3071036,"Mesa plegable plastico + 2 sillas interlocutoras negras",{"$f":"IF('FERIAS 3 DIAS'!G$3=TRUE,'FERIAS DE 7 DIAS EN ADELANTE'!E83/'FERIAS 3 DIAS'!I$3,E83)","v":190400},190400]
[{"$f":"CONCATENATE(B84:B558,\" \",C84:C558)","v":"3070936 Mesón plegable plástico (Gris o blanco) (73cm x 182cm x 76cm)"},3070936,"Mesón plegable plástico (Gris o blanco) (73cm x 182cm x 76cm)",{"$f":"IF('FERIAS 3 DIAS'!G$3=TRUE,'FERIAS DE 7 DIAS EN ADELANTE'!E84/'FERIAS 3 DIAS'!I$3,E84)","v":104601},104601]
[{"$f":"CONCATENATE(B85:B559,\" \",C85:C559)","v":"3071103 Nevera Estandar 230LT ( 55.6cm X 157.6cm X 67cm)"},3071103,"Nevera Estandar 230LT ( 55.6cm X 157.6cm X 67cm)",{"$f":"IF('FERIAS 3 DIAS'!G$3=TRUE,'FERIAS DE 7 DIAS EN ADELANTE'!E85/'FERIAS 3 DIAS'!I$3,E85)","v":299999},299999]
[{"$f":"CONCATENATE(B86:B560,\" \",C86:C560)","v":"3071103 Nevera Minibar 121 LT (48.5cm X 85.1cm X 60cm)"},3071103,"Nevera Minibar 121 LT (48.5cm X 85.1cm X 60cm)",{"$f":"IF('FERIAS 3 DIAS'!G$3=TRUE,'FERIAS DE 7 DIAS EN ADELANTE'!E86/'FERIAS 3 DIAS'!I$3,E86)","v":203371},203371]
[{"$f":"CONCATENATE(B87:B561,\" \",C87:C561)","v":"3071302 Papelera plastica negra"},3071302,"Papelera plastica negra",{"$f":"IF('FERIAS 3 DIAS'!G$3=TRUE,'FERIAS DE 7 DIAS EN ADELANTE'!E87/'FERIAS 3 DIAS'!I$3,E87)","v":23443},23443]
[{"$f":"CONCATENATE(B88:B562,\" \",C88:C562)","v":"3070957 Pedestal cuadrado (30cm x 30cm x 30cm)"},3070957,"Pedestal cuadrado (30cm x 30cm x 30cm)",{"$f":"IF('FERIAS 3 DIAS'!G$3=TRUE,'FERIAS DE 7 DIAS EN ADELANTE'!E88/'FERIAS 3 DIAS'!I$3,E88)","v":34391},34391]
[{"$f":"CONCATENATE(B89:B563,\" \",C89:C563)","v":"3070956 Pedestal rectangular 60cm (60cm x 30cm x 30cm)"},3070956,"Pedestal rectangular 60cm (60cm x 30cm x 30cm)",{"$f":"IF('FERIAS 3 DIAS'!G$3=TRUE,'FERIAS DE 7 DIAS EN ADELANTE'!E89/'FERIAS 3 DIAS'!I$3,E89)","v":39627},39627]
[{"$f":"CONCATENATE(B90:B564,\" \",C90:C564)","v":"3070955 Pedestal rectangular 90cm (90cm x 30cm x 30cm)"},3070955,"Pedestal rectangular 90cm (90cm x 30cm x 30cm)",{"$f":"IF('FERIAS 3 DIAS'!G$3=TRUE,'FERIAS DE 7 DIAS EN ADELANTE'!E90/'FERIAS 3 DIAS'!I$3,E90)","v":44982},44982]
[{"$f":"CONCATENATE(B91:B565,\" \",C91:C565)","v":"3070521 Perchero básico 1 pedestal (120cm Ancho - Altura) graduable + 5 ganchos"},3070521,"Perchero básico 1 pedestal (120cm Ancho - Altura) graduable + 5 ganchos",{"$f":"IF('FERIAS 3 DIAS'!G$3=TRUE,'FERIAS DE 7 DIAS EN ADELANTE'!E91/'FERIAS 3 DIAS'!I$3,E91)","v":77469},77469]
[{"$f":"CONCATENATE(B92:B566,\" \",C92:C566)","v":"3070521 Perchero doble 2 pedestal (120cm Ancho-Altura) graduable + 5 ganchos"},3070521,"Perchero doble 2 pedestal (120cm Ancho-Altura) graduable + 5 ganchos",{"$f":"IF('FERIAS 3 DIAS'!G$3=TRUE,'FERIAS DE 7 DIAS EN ADELANTE'!E92/'FERIAS 3 DIAS'!I$3,E92)","v":89369},89369]
[{"$f":"CONCATENATE(B93:B567,\" \",C93:C567)","v":"30713201 Poltrona Buggy (72cm x 64cm)"},30713201,"Poltrona Buggy (72cm x 64cm)",{"$f":"IF('FERIAS 3 DIAS'!G$3=TRUE,'FERIAS DE 7 DIAS EN ADELANTE'!E93/'FERIAS 3 DIAS'!I$3,E93)","v":155176},155176]
[{"$f":"CONCATENATE(B94:B568,\" \",C94:C568)","v":"3071059 Poltrona Levis (73cm x 86cm x 73cm)"},3071059,"Poltrona Levis (73cm x 86cm x 73cm)",{"$f":"IF('FERIAS 3 DIAS'!G$3=TRUE,'FERIAS DE 7 DIAS EN ADELANTE'!E94/'FERIAS 3 DIAS'!I$3,E94)","v":197778},197778]
[{"$f":"CONCATENATE(B95:B569,\" \",C95:C569)","v":"3071325 Poste separador 120cm de alto"},3071325,"Poste separador 120cm de alto",{"$f":"IF('FERIAS 3 DIAS'!G$3=TRUE,'FERIAS DE 7 DIAS EN ADELANTE'!E95/'FERIAS 3 DIAS'!I$3,E95)","v":46291},46291]
[{"$f":"CONCATENATE(B96:B570,\" \",C96:C570)","v":"3071090 Puff estandar cuadrado (43cm x 43cm x 43cm)"},3071090,"Puff estandar cuadrado (43cm x 43cm x 43cm)",{"$f":"IF('FERIAS 3 DIAS'!G$3=TRUE,'FERIAS DE 7 DIAS EN ADELANTE'!E96/'FERIAS 3 DIAS'!I$3,E96)","v":55216},55216]
[{"$f":"CONCATENATE(B97:B571,\" \",C97:C571)","v":"3071091 Puff Trunk 2 cuerpos (48cm x 81cm x 40cm)"},3071091,"Puff Trunk 2 cuerpos (48cm x 81cm x 40cm)",{"$f":"IF('FERIAS 3 DIAS'!G$3=TRUE,'FERIAS DE 7 DIAS EN ADELANTE'!E97/'FERIAS 3 DIAS'!I$3,E97)","v":105553},105553]
[{"$f":"CONCATENATE(B98:B572,\" \",C98:C572)","v":"3071114 Puff Trunk 3 cuerpos (46cm x 120cm x 54cm)"},3071114,"Puff Trunk 3 cuerpos (46cm x 120cm x 54cm)",{"$f":"IF('FERIAS 3 DIAS'!G$3=TRUE,'FERIAS DE 7 DIAS EN ADELANTE'!E98/'FERIAS 3 DIAS'!I$3,E98)","v":105553},105553]
[{"$f":"CONCATENATE(B99:B573,\" \",C99:C573)","v":"3071370 Revistero plegable (140cm x 25cm x 29cm)"},3071370,"Revistero plegable (140cm x 25cm x 29cm)",{"$f":"IF('FERIAS 3 DIAS'!G$3=TRUE,'FERIAS DE 7 DIAS EN ADELANTE'!E99/'FERIAS 3 DIAS'!I$3,E99)","v":78540},78540]
[{"$f":"CONCATENATE(B100:B574,\" \",C100:C574)","v":" Sala de Juntas"},null,"Sala de Juntas",{"$f":"IF('FERIAS 3 DIAS'!G$3=TRUE,'FERIAS DE 7 DIAS EN ADELANTE'!E100/'FERIAS 3 DIAS'!I$3,E100)","v":297500},297500]
[{"$f":"CONCATENATE(B101:B575,\" \",C101:C575)","v":"3071113 Sala Osaka (1 sofá Toronto, 2 puffs Donna, 1 mesa centro cuadrada 2 niveles)"},3071113,"Sala Osaka (1 sofá Toronto, 2 puffs Donna, 1 mesa centro cuadrada 2 niveles)",{"$f":"IF('FERIAS 3 DIAS'!G$3=TRUE,'FERIAS DE 7 DIAS EN ADELANTE'!E101/'FERIAS 3 DIAS'!I$3,E101)","v":461244},461244]
[{"$f":"CONCATENATE(B102:B576,\" \",C102:C576)","v":"3071095 Sala VIP (1 sofá Victoria derecho, 1 sofá Victoria izquierdo, 2 poltronas, 1 mesa centro cuadrada 2 niveles)"},3071095,"Sala VIP (1 sofá Victoria derecho, 1 sofá Victoria izquierdo, 2 poltronas, 1 mesa centro cuadrada 2 niveles)",{"$f":"IF('FERIAS 3 DIAS'!G$3=TRUE,'FERIAS DE 7 DIAS EN ADELANTE'!E102/'FERIAS 3 DIAS'!I$3,E102)","v":690200},690200]
[{"$f":"CONCATENATE(B103:B577,\" \",C103:C577)","v":" Silla Bombonera Roja"},null,"Silla Bombonera Roja",{"$f":"IF('FERIAS 3 DIAS'!G$3=TRUE,'FERIAS DE 7 DIAS EN ADELANTE'!E103/'FERIAS 3 DIAS'!I$3,E103)","v":65926},65926]
[{"$f":"CONCATENATE(B104:B578,\" \",C104:C578)","v":"3071081 Silla Ejecutiva Cuero (57cm x 93cm x 52cm)"},3071081,"Silla Ejecutiva Cuero (57cm x 93cm x 52cm)",{"$f":"IF('FERIAS 3 DIAS'!G$3=TRUE,'FERIAS DE 7 DIAS EN ADELANTE'!E104/'FERIAS 3 DIAS'!I$3,E104)","v":75327},75327]
[{"$f":"CONCATENATE(B105:B579,\" \",C105:C579)","v":"3071081 Silla Ejecutiva Malla"},3071081,"Silla Ejecutiva Malla",{"$f":"IF('FERIAS 3 DIAS'!G$3=TRUE,'FERIAS DE 7 DIAS EN ADELANTE'!E105/'FERIAS 3 DIAS'!I$3,E105)","v":155176},155176]
[{"$f":"CONCATENATE(B106:B580,\" \",C106:C580)","v":"3071061 Silla estandar Suiza (48cm x 46cm x 45cm)"},3071061,"Silla estandar Suiza (48cm x 46cm x 45cm)",{"$f":"IF('FERIAS 3 DIAS'!G$3=TRUE,'FERIAS DE 7 DIAS EN ADELANTE'!E106/'FERIAS 3 DIAS'!I$3,E106)","v":68901},68901]
[{"$f":"CONCATENATE(B107:B581,\" \",C107:C581)","v":"3071008 Silla estandar Tipo Huevo (48cm x 46cm x 45cm)"},3071008,"Silla estandar Tipo Huevo (48cm x 46cm x 45cm)",{"$f":"IF('FERIAS 3 DIAS'!G$3=TRUE,'FERIAS DE 7 DIAS EN ADELANTE'!E107/'FERIAS 3 DIAS'!I$3,E107)","v":68901},68901]
[{"$f":"CONCATENATE(B108:B582,\" \",C108:C582)","v":"30713198 Silla Gerencial (100cm x 49cm x 49cm)"},30713198,"Silla Gerencial (100cm x 49cm x 49cm)",{"$f":"IF('FERIAS 3 DIAS'!G$3=TRUE,'FERIAS DE 7 DIAS EN ADELANTE'!E108/'FERIAS 3 DIAS'!I$3,E108)","v":155176},155176]
[{"$f":"CONCATENATE(B109:B583,\" \",C109:C583)","v":"3071006 Silla Interlocutora Negra (79cm x 53cm x 42cm)"},3071006,"Silla Interlocutora Negra (79cm x 53cm x 42cm)",{"$f":"IF('FERIAS 3 DIAS'!G$3=TRUE,'FERIAS DE 7 DIAS EN ADELANTE'!E109/'FERIAS 3 DIAS'!I$3,E109)","v":49504},49504]
[{"$f":"CONCATENATE(B110:B584,\" \",C110:C584)","v":"3071077 Silla Neumática alta Marsella (80cm x 40cm x 40cm)"},3071077,"Silla Neumática alta Marsella (80cm x 40cm x 40cm)",{"$f":"IF('FERIAS 3 DIAS'!G$3=TRUE,'FERIAS DE 7 DIAS EN ADELANTE'!E110/'FERIAS 3 DIAS'!I$3,E110)","v":82824},82824]
[{"$f":"CONCATENATE(B111:B585,\" \",C111:C585)","v":"3071022 Silla Neumatica alta Versalles (80cm x 40 cm x 40cm"},3071022,"Silla Neumatica alta Versalles (80cm x 40 cm x 40cm",{"$f":"IF('FERIAS 3 DIAS'!G$3=TRUE,'FERIAS DE 7 DIAS EN ADELANTE'!E111/'FERIAS 3 DIAS'!I$3,E111)","v":104125},104125]
[{"$f":"CONCATENATE(B112:B586,\" \",C112:C586)","v":" Silla Oslo Blanca"},null,"Silla Oslo Blanca",{"$f":"IF('FERIAS 3 DIAS'!G$3=TRUE,'FERIAS DE 7 DIAS EN ADELANTE'!E112/'FERIAS 3 DIAS'!I$3,E112)","v":75327},75327]
[{"$f":"CONCATENATE(B113:B587,\" \",C113:C587)","v":" Silla Tipo Bar Madera"},null,"Silla Tipo Bar Madera",{"$f":"IF('FERIAS 3 DIAS'!G$3=TRUE,'FERIAS DE 7 DIAS EN ADELANTE'!E113/'FERIAS 3 DIAS'!I$3,E113)","v":81872},81872]
[{"$f":"CONCATENATE(B114:B588,\" \",C114:C588)","v":"3071085 Sofa Otawa 2 cuerpos (85cm x 120cm x 76cm)"},3071085,"Sofa Otawa 2 cuerpos (85cm x 120cm x 76cm)",{"$f":"IF('FERIAS 3 DIAS'!G$3=TRUE,'FERIAS DE 7 DIAS EN ADELANTE'!E114/'FERIAS 3 DIAS'!I$3,E114)","v":210987},210987]
[{"$f":"CONCATENATE(B115:B589,\" \",C115:C589)","v":"3071031 Sofa Terranova 2 cuerpos (88cm x 173cm x 80cm)"},3071031,"Sofa Terranova 2 cuerpos (88cm x 173cm x 80cm)",{"$f":"IF('FERIAS 3 DIAS'!G$3=TRUE,'FERIAS DE 7 DIAS EN ADELANTE'!E115/'FERIAS 3 DIAS'!I$3,E115)","v":224077},224077]
[{"$f":"CONCATENATE(B116:B590,\" \",C116:C590)","v":"3071083 Sofa Toronto 3 cuerpos (88cm x 173cm x 80cm)"},3071083,"Sofa Toronto 3 cuerpos (88cm x 173cm x 80cm)",{"$f":"IF('FERIAS 3 DIAS'!G$3=TRUE,'FERIAS DE 7 DIAS EN ADELANTE'!E116/'FERIAS 3 DIAS'!I$3,E116)","v":224077},224077]
[{"$f":"CONCATENATE(B117:B591,\" \",C117:C591)","v":"3071013 Sofa Victoria derecho (70cm x 100cm x 75cm)"},3071013,"Sofa Victoria derecho (70cm x 100cm x 75cm)",{"$f":"IF('FERIAS 3 DIAS'!G$3=TRUE,'FERIAS DE 7 DIAS EN ADELANTE'!E117/'FERIAS 3 DIAS'!I$3,E117)","v":182070},182070]
[{"$f":"CONCATENATE(B118:B592,\" \",C118:C592)","v":"3071023 Sofa Victoria izquierdo (70cm x 100cm x 75cm)"},3071023,"Sofa Victoria izquierdo (70cm x 100cm x 75cm)",{"$f":"IF('FERIAS 3 DIAS'!G$3=TRUE,'FERIAS DE 7 DIAS EN ADELANTE'!E118/'FERIAS 3 DIAS'!I$3,E118)","v":182070},182070]
[{"$f":"CONCATENATE(B119:B593,\" \",C119:C593)","v":"3070505 Tarima 120x120x60, (Previa verificación con área de montaje)"},3070505,"Tarima 120x120x60, (Previa verificación con área de montaje)",{"$f":"IF('FERIAS 3 DIAS'!G$3=TRUE,'FERIAS DE 7 DIAS EN ADELANTE'!E119/'FERIAS 3 DIAS'!I$3,E119)","v":247996},247996]
[{"$f":"CONCATENATE(B120:B594,\" \",C120:C594)","v":"3070535 Vitrina Isla 2E (200cm x 50cm x 50cm)"},3070535,"Vitrina Isla 2E (200cm x 50cm x 50cm)",{"$f":"IF('FERIAS 3 DIAS'!G$3=TRUE,'FERIAS DE 7 DIAS EN ADELANTE'!E120/'FERIAS 3 DIAS'!I$3,E120)","v":286671},286671]
[{"$f":"CONCATENATE(B121:B595,\" \",C121:C595)","v":"3070517 Vitrina Mostrador 2E (100cm x 100cm x 40cm)"},3070517,"Vitrina Mostrador 2E (100cm x 100cm x 40cm)",{"$f":"IF('FERIAS 3 DIAS'!G$3=TRUE,'FERIAS DE 7 DIAS EN ADELANTE'!E121/'FERIAS 3 DIAS'!I$3,E121)","v":214081},214081]
[{"$f":"CONCATENATE(B122:B596,\" \",C122:C596)","v":"3070518 Vitrina Mostrador Tipo 2 1E (92cm x 90 cm x 40cm)"},3070518,"Vitrina Mostrador Tipo 2 1E (92cm x 90 cm x 40cm)",{"$f":"IF('FERIAS 3 DIAS'!G$3=TRUE,'FERIAS DE 7 DIAS EN ADELANTE'!E122/'FERIAS 3 DIAS'!I$3,E122)","v":214081},214081]
[{"$f":"CONCATENATE(B123:B597,\" \",C123:C597)","v":"3071111 Vitrina Rectangular 2E (200cm x 100cm x 40cm)"},3071111,"Vitrina Rectangular 2E (200cm x 100cm x 40cm)",{"$f":"IF('FERIAS 3 DIAS'!G$3=TRUE,'FERIAS DE 7 DIAS EN ADELANTE'!E123/'FERIAS 3 DIAS'!I$3,E123)","v":286671},286671]
[{"$f":"CONCATENATE(B124:B350,\" \",C124:C350)","v":"3071375 Planta + matera plástica (Pequeña)"},3071375,"Planta + matera plástica (Pequeña)",{"$f":"IF('FERIAS 3 DIAS'!G$3=TRUE,'FERIAS DE 7 DIAS EN ADELANTE'!E124/'FERIAS 3 DIAS'!I$3,E124)","v":20600},20600]
[{"$f":"CONCATENATE(B125:B351,\" \",C125:C351)","v":"3071376 Planta + matera plástica (Mediana)"},3071376,"Planta + matera plástica (Mediana)",{"$f":"IF('FERIAS 3 DIAS'!G$3=TRUE,'FERIAS DE 7 DIAS EN ADELANTE'!E125/'FERIAS 3 DIAS'!I$3,E125)","v":46400},46400]
[{"$f":"CONCATENATE(B126:B352,\" \",C126:C352)","v":"3071377 Planta + matera plástica (Grande)"},3071377,"Planta + matera plástica (Grande)",{"$f":"IF('FERIAS 3 DIAS'!G$3=TRUE,'FERIAS DE 7 DIAS EN ADELANTE'!E126/'FERIAS 3 DIAS'!I$3,E126)","v":59200},59200]
[{"$f":"CONCATENATE(B127:B353,\" \",C127:C353)","v":"3071378 Jardinera en madera + 3 Plantas grandes"},3071378,"Jardinera en madera + 3 Plantas grandes",{"$f":"IF('FERIAS 3 DIAS'!G$3=TRUE,'FERIAS DE 7 DIAS EN ADELANTE'!E127/'FERIAS 3 DIAS'!I$3,E127)","v":100300},100300]
[{"$f":"CONCATENATE(B128:B354,\" \",C128:C354)","v":"3071379 Jardinera en madera + 3 Plantas medianas"},3071379,"Jardinera en madera + 3 Plantas medianas",{"$f":"IF('FERIAS 3 DIAS'!G$3=TRUE,'FERIAS DE 7 DIAS EN ADELANTE'!E128/'FERIAS 3 DIAS'!I$3,E128)","v":81100},81100]
[{"$f":"CONCATENATE(B129:B355,\" \",C129:C355)","v":"3071380 Jardinera en madera + 7 Plantas pequeñas"},3071380,"Jardinera en madera + 7 Plantas pequeñas",{"$f":"IF('FERIAS 3 DIAS'!G$3=TRUE,'FERIAS DE 7 DIAS EN ADELANTE'!E129/'FERIAS 3 DIAS'!I$3,E129)","v":83500},83500]
[{"$f":"CONCATENATE(B130:B356,\" \",C130:C356)","v":"3071381 Cajoneras con flores"},3071381,"Cajoneras con flores",{"$f":"IF('FERIAS 3 DIAS'!G$3=TRUE,'FERIAS DE 7 DIAS EN ADELANTE'!E130/'FERIAS 3 DIAS'!I$3,E130)","v":155800},155800]
[{"$f":"CONCATENATE(B131:B357,\" \",C131:C357)","v":"3071314 Grandes (61cm x 120cm)"},3071314,"Grandes (61cm x 120cm)",{"$f":"IF('FERIAS 3 DIAS'!G$3=TRUE,'FERIAS DE 7 DIAS EN ADELANTE'!E131/'FERIAS 3 DIAS'!I$3,E131)","v":31700},31700]
[{"$f":"CONCATENATE(B132:B358,\" \",C132:C358)","v":"3071301 Medianas (31cm x 120cm)"},3071301,"Medianas (31cm x 120cm)",{"$f":"IF('FERIAS 3 DIAS'!G$3=TRUE,'FERIAS DE 7 DIAS EN ADELANTE'!E132/'FERIAS 3 DIAS'!I$3,E132)","v":25000},25000]
[{"$f":"CONCATENATE(B133:B359,\" \",C133:C359)","v":"3071317 Pequeñas (10cm x 30cm)"},3071317,"Pequeñas (10cm x 30cm)",{"$f":"IF('FERIAS 3 DIAS'!G$3=TRUE,'FERIAS DE 7 DIAS EN ADELANTE'!E133/'FERIAS 3 DIAS'!I$3,E133)","v":11100},11100]
[{"$f":"CONCATENATE(B134:B360,\" \",C134:C360)","v":"3071382 Suculentas (10cm x 15cm)"},3071382,"Suculentas (10cm x 15cm)",{"$f":"IF('FERIAS 3 DIAS'!G$3=TRUE,'FERIAS DE 7 DIAS EN ADELANTE'!E134/'FERIAS 3 DIAS'!I$3,E134)","v":11100},11100]
[{"$f":"CONCATENATE(B135:B361,\" \",C135:C361)","v":"3071383 Chamizos"},3071383,"Chamizos",{"$f":"IF('FERIAS 3 DIAS'!G$3=TRUE,'FERIAS DE 7 DIAS EN ADELANTE'!E135/'FERIAS 3 DIAS'!I$3,E135)","v":11100},11100]
[{"$f":"CONCATENATE(B136:B362,\" \",C136:C362)","v":"3071355 De barro grande"},3071355,"De barro grande",{"$f":"IF('FERIAS 3 DIAS'!G$3=TRUE,'FERIAS DE 7 DIAS EN ADELANTE'!E136/'FERIAS 3 DIAS'!I$3,E136)","v":30700},30700]
[{"$f":"CONCATENATE(B137:B363,\" \",C137:C363)","v":"3071356 De barro mediana"},3071356,"De barro mediana",{"$f":"IF('FERIAS 3 DIAS'!G$3=TRUE,'FERIAS DE 7 DIAS EN ADELANTE'!E137/'FERIAS 3 DIAS'!I$3,E137)","v":23900},23900]
[{"$f":"CONCATENATE(B138:B364,\" \",C138:C364)","v":"3071384 De barro pequeña"},3071384,"De barro pequeña",{"$f":"IF('FERIAS 3 DIAS'!G$3=TRUE,'FERIAS DE 7 DIAS EN ADELANTE'!E138/'FERIAS 3 DIAS'!I$3,E138)","v":10600},10600]
[{"$f":"CONCATENATE(B139:B365,\" \",C139:C365)","v":"3071357 Plástica grande"},3071357,"Plástica grande",{"$f":"IF('FERIAS 3 DIAS'!G$3=TRUE,'FERIAS DE 7 DIAS EN ADELANTE'!E139/'FERIAS 3 DIAS'!I$3,E139)","v":30700},30700]
[{"$f":"CONCATENATE(B140:B366,\" \",C140:C366)","v":"3071358 Plástica mediana"},3071358,"Plástica mediana",{"$f":"IF('FERIAS 3 DIAS'!G$3=TRUE,'FERIAS DE 7 DIAS EN ADELANTE'!E140/'FERIAS 3 DIAS'!I$3,E140)","v":23900},23900]
[{"$f":"CONCATENATE(B141:B367,\" \",C141:C367)","v":"3071359 Plástica pequeña"},3071359,"Plástica pequeña",{"$f":"IF('FERIAS 3 DIAS'!G$3=TRUE,'FERIAS DE 7 DIAS EN ADELANTE'!E141/'FERIAS 3 DIAS'!I$3,E141)","v":10600},10600]
[{"$f":"CONCATENATE(B142:B368,\" \",C142:C368)","v":"3071360 Jardinera en madera (35cm x 100cm x 35cm)"},3071360,"Jardinera en madera (35cm x 100cm x 35cm)",{"$f":"IF('FERIAS 3 DIAS'!G$3=TRUE,'FERIAS DE 7 DIAS EN ADELANTE'!E142/'FERIAS 3 DIAS'!I$3,E142)","v":10600},10600]
[{"$f":"CONCATENATE(B143:B369,\" \",C143:C369)","v":"3071352 Grandes"},3071352,"Grandes",{"$f":"IF('FERIAS 3 DIAS'!G$3=TRUE,'FERIAS DE 7 DIAS EN ADELANTE'!E143/'FERIAS 3 DIAS'!I$3,E143)","v":93800},93800]
[{"$f":"CONCATENATE(B144:B370,\" \",C144:C370)","v":"3071353 Medianos"},3071353,"Medianos",{"$f":"IF('FERIAS 3 DIAS'!G$3=TRUE,'FERIAS DE 7 DIAS EN ADELANTE'!E144/'FERIAS 3 DIAS'!I$3,E144)","v":54600},54600]
[{"$f":"CONCATENATE(B145:B371,\" \",C145:C371)","v":"3071354 Pequeños"},3071354,"Pequeños",{"$f":"IF('FERIAS 3 DIAS'!G$3=TRUE,'FERIAS DE 7 DIAS EN ADELANTE'!E145/'FERIAS 3 DIAS'!I$3,E145)","v":24000},24000]
[{"$f":"CONCATENATE(B146:B372,\" \",C146:C372)","v":"3071364 Topiario en forma de animales o frutas "},3071364,"Topiario en forma de animales o frutas ",{"$f":"IF('FERIAS 3 DIAS'!G$3=TRUE,'FERIAS DE 7 DIAS EN ADELANTE'!E146/'FERIAS 3 DIAS'!I$3,E146)","v":228500},228500]
[{"$f":"CONCATENATE(B147:B373,\" \",C147:C373)","v":"3071365 Topiario en bolas grandes"},3071365,"Topiario en bolas grandes",{"$f":"IF('FERIAS 3 DIAS'!G$3=TRUE,'FERIAS DE 7 DIAS EN ADELANTE'!E147/'FERIAS 3 DIAS'!I$3,E147)","v":228500},228500]
[{"$f":"CONCATENATE(B148:B374,\" \",C148:C374)","v":"3071385 Topiario en bolas pequeñas"},3071385,"Topiario en bolas pequeñas",{"$f":"IF('FERIAS 3 DIAS'!G$3=TRUE,'FERIAS DE 7 DIAS EN ADELANTE'!E148/'FERIAS 3 DIAS'!I$3,E148)","v":207700},207700]
[{"$f":"CONCATENATE(B149:B375,\" \",C149:C375)","v":"3071363 Piedras (Por m2)"},3071363,"Piedras (Por m2)",{"$f":"IF('FERIAS 3 DIAS'!G$3=TRUE,'FERIAS DE 7 DIAS EN ADELANTE'!E149/'FERIAS 3 DIAS'!I$3,E149)","v":23900},23900]
[{"$f":"CONCATENATE(B150:B376,\" \",C150:C376)","v":"3071367 Pino patula (Por bulto)"},3071367,"Pino patula (Por bulto)",{"$f":"IF('FERIAS 3 DIAS'!G$3=TRUE,'FERIAS DE 7 DIAS EN ADELANTE'!E150/'FERIAS 3 DIAS'!I$3,E150)","v":10600},10600]
[{"$f":"CONCATENATE(B151:B377,\" \",C151:C377)","v":"3071361 Gravilla (Por m2)"},3071361,"Gravilla (Por m2)",{"$f":"IF('FERIAS 3 DIAS'!G$3=TRUE,'FERIAS DE 7 DIAS EN ADELANTE'!E151/'FERIAS 3 DIAS'!I$3,E151)","v":10600},10600]
[{"$f":"CONCATENATE(B152:B378,\" \",C152:C378)","v":"3071386 Muros verticales (Por m2)"},3071386,"Muros verticales (Por m2)",{"$f":"IF('FERIAS 3 DIAS'!G$3=TRUE,'FERIAS DE 7 DIAS EN ADELANTE'!E152/'FERIAS 3 DIAS'!I$3,E152)","v":328500},328500]
[{"$f":"CONCATENATE(B153:B379,\" \",C153:C379)","v":"3071366 Cascarilla (Por bulto)"},3071366,"Cascarilla (Por bulto)",{"$f":"IF('FERIAS 3 DIAS'!G$3=TRUE,'FERIAS DE 7 DIAS EN ADELANTE'!E153/'FERIAS 3 DIAS'!I$3,E153)","v":10600},10600]
[{"$f":"CONCATENATE(B154:B380,\" \",C154:C380)","v":"3071362 Rocas (Por unidad)"},3071362,"Rocas (Por unidad)",{"$f":"IF('FERIAS 3 DIAS'!G$3=TRUE,'FERIAS DE 7 DIAS EN ADELANTE'!E154/'FERIAS 3 DIAS'!I$3,E154)","v":63300},63300]
[{"$f":"CONCATENATE(B155:B381,\" \",C155:C381)","v":"3071346 Base para Tv Led - LCD adaptable  (No Incluye Instalacion) Valor evento 1 día"},3071346,"Base para Tv Led - LCD adaptable  (No Incluye Instalacion) Valor evento 1 día",{"$f":"IF('FERIAS 3 DIAS'!G$3=TRUE,'FERIAS DE 7 DIAS EN ADELANTE'!E155/'FERIAS 3 DIAS'!I$3,E155)","v":44744},44744]
[{"$f":"CONCATENATE(B156:B382,\" \",C156:C382)","v":"3071346 Base para Tv Led - LCD adaptable  (No Incluye Instalacion) Valor evento 2 dias (Valor dia)"},3071346,"Base para Tv Led - LCD adaptable  (No Incluye Instalacion) Valor evento 2 dias (Valor dia)",{"$f":"IF('FERIAS 3 DIAS'!G$3=TRUE,'FERIAS DE 7 DIAS EN ADELANTE'!E156/'FERIAS 3 DIAS'!I$3,E156)","v":44744},44744]
[{"$f":"CONCATENATE(B157:B383,\" \",C157:C383)","v":"3071346 Base para Tv Led - LCD adaptable  (No Incluye Instalacion) Valor de 3 a 6 dias (Valor dia)"},3071346,"Base para Tv Led - LCD adaptable  (No Incluye Instalacion) Valor de 3 a 6 dias (Valor dia)",{"$f":"IF('FERIAS 3 DIAS'!G$3=TRUE,'FERIAS DE 7 DIAS EN ADELANTE'!E157/'FERIAS 3 DIAS'!I$3,E157)","v":40698},40698]
[{"$f":"CONCATENATE(B158:B384,\" \",C158:C384)","v":"3071346 Base para Tv Led - LCD adaptable  (No Incluye Instalacion) Valor de 7 a 18 días (Valor feria)"},3071346,"Base para Tv Led - LCD adaptable  (No Incluye Instalacion) Valor de 7 a 18 días (Valor feria)",{"$f":"IF('FERIAS 3 DIAS'!G$3=TRUE,'FERIAS DE 7 DIAS EN ADELANTE'!E158/'FERIAS 3 DIAS'!I$3,E158)","v":289765},289765]
[{"$f":"CONCATENATE(B159:B385,\" \",C159:C385)","v":"3071204 Tv Smart  42\" 106cms ( Incluye base para tv / cable de corriente / 1 cable HDMI) IN: HDMI, USB Valor evento 1 día"},3071204,"Tv Smart  42\" 106cms ( Incluye base para tv / cable de corriente / 1 cable HDMI) IN: HDMI, USB Valor evento 1 día",{"$f":"IF('FERIAS 3 DIAS'!G$3=TRUE,'FERIAS DE 7 DIAS EN ADELANTE'!E159/'FERIAS 3 DIAS'!I$3,E159)","v":149226},149226]
[{"$f":"CONCATENATE(B160:B386,\" \",C160:C386)","v":"3071204 Tv Smart  42\" 106cms ( Incluye base para tv / cable de corriente / 1 cable HDMI) IN: HDMI, USB Valor evento 2 dias (Valor dia)"},3071204,"Tv Smart  42\" 106cms ( Incluye base para tv / cable de corriente / 1 cable HDMI) IN: HDMI, USB Valor evento 2 dias (Valor dia)",{"$f":"IF('FERIAS 3 DIAS'!G$3=TRUE,'FERIAS DE 7 DIAS EN ADELANTE'!E160/'FERIAS 3 DIAS'!I$3,E160)","v":149226},149226]
[{"$f":"CONCATENATE(B161:B387,\" \",C161:C387)","v":"3071204 Tv Smart  42\" 106cms ( Incluye base para tv / cable de corriente / 1 cable HDMI) IN: HDMI, USB Valor de 3 a 6 dias (Valor dia)"},3071204,"Tv Smart  42\" 106cms ( Incluye base para tv / cable de corriente / 1 cable HDMI) IN: HDMI, USB Valor de 3 a 6 dias (Valor dia)",{"$f":"IF('FERIAS 3 DIAS'!G$3=TRUE,'FERIAS DE 7 DIAS EN ADELANTE'!E161/'FERIAS 3 DIAS'!I$3,E161)","v":136136},136136]
[{"$f":"CONCATENATE(B162:B388,\" \",C162:C388)","v":"3071204 Tv Smart  42\" 106cms ( Incluye base para tv / cable de corriente / 1 cable HDMI) IN: HDMI, USB Valor de 7 a 18 días (Valor feria)"},3071204,"Tv Smart  42\" 106cms ( Incluye base para tv / cable de corriente / 1 cable HDMI) IN: HDMI, USB Valor de 7 a 18 días (Valor feria)",{"$f":"IF('FERIAS 3 DIAS'!G$3=TRUE,'FERIAS DE 7 DIAS EN ADELANTE'!E162/'FERIAS 3 DIAS'!I$3,E162)","v":971635},971635]
[{"$f":"CONCATENATE(B163:B389,\" \",C163:C389)","v":"3071206 Tv Smart  55\" 140cms ( Incluye base para tv / cable de corriente / 1 cable HDMI) IN: HDMI, USB Valor evento 1 día"},3071206,"Tv Smart  55\" 140cms ( Incluye base para tv / cable de corriente / 1 cable HDMI) IN: HDMI, USB Valor evento 1 día",{"$f":"IF('FERIAS 3 DIAS'!G$3=TRUE,'FERIAS DE 7 DIAS EN ADELANTE'!E163/'FERIAS 3 DIAS'!I$3,E163)","v":223839},223839]
[{"$f":"CONCATENATE(B164:B390,\" \",C164:C390)","v":"3071206 Tv Smart  55\" 140cms ( Incluye base para tv / cable de corriente / 1 cable HDMI) IN: HDMI, USB Valor evento 2 dias (Valor dia)"},3071206,"Tv Smart  55\" 140cms ( Incluye base para tv / cable de corriente / 1 cable HDMI) IN: HDMI, USB Valor evento 2 dias (Valor dia)",{"$f":"IF('FERIAS 3 DIAS'!G$3=TRUE,'FERIAS DE 7 DIAS EN ADELANTE'!E164/'FERIAS 3 DIAS'!I$3,E164)","v":223839},223839]
[{"$f":"CONCATENATE(B165:B391,\" \",C165:C391)","v":"3071206 Tv Smart  55\" 140cms ( Incluye base para tv / cable de corriente / 1 cable HDMI) IN: HDMI, USB Valor de 3 a 6 dias (Valor dia)"},3071206,"Tv Smart  55\" 140cms ( Incluye base para tv / cable de corriente / 1 cable HDMI) IN: HDMI, USB Valor de 3 a 6 dias (Valor dia)",{"$f":"IF('FERIAS 3 DIAS'!G$3=TRUE,'FERIAS DE 7 DIAS EN ADELANTE'!E165/'FERIAS 3 DIAS'!I$3,E165)","v":203966},203966]
[{"$f":"CONCATENATE(B166:B392,\" \",C166:C392)","v":"3071206 Tv Smart  55\" 140cms ( Incluye base para tv / cable de corriente / 1 cable HDMI) IN: HDMI, USB Valor de 7 a 18 días (Valor feria)"},3071206,"Tv Smart  55\" 140cms ( Incluye base para tv / cable de corriente / 1 cable HDMI) IN: HDMI, USB Valor de 7 a 18 días (Valor feria)",{"$f":"IF('FERIAS 3 DIAS'!G$3=TRUE,'FERIAS DE 7 DIAS EN ADELANTE'!E166/'FERIAS 3 DIAS'!I$3,E166)","v":1455251},1455251]
[{"$f":"CONCATENATE(B167:B393,\" \",C167:C393)","v":"30713202 Tv Smart  65\" 165cms ( Incluye base para tv / cable de corriente /1 cable HDMI) IN: HDMI, USB Valor evento 1 día"},30713202,"Tv Smart  65\" 165cms ( Incluye base para tv / cable de corriente /1 cable HDMI) IN: HDMI, USB Valor evento 1 día",{"$f":"IF('FERIAS 3 DIAS'!G$3=TRUE,'FERIAS DE 7 DIAS EN ADELANTE'!E167/'FERIAS 3 DIAS'!I$3,E167)","v":348194},348194]
[{"$f":"CONCATENATE(B168:B394,\" \",C168:C394)","v":"30713202 Tv Smart  65\" 165cms ( Incluye base para tv / cable de corriente /1 cable HDMI) IN: HDMI, USB Valor evento 2 dias (Valor dia)"},30713202,"Tv Smart  65\" 165cms ( Incluye base para tv / cable de corriente /1 cable HDMI) IN: HDMI, USB Valor evento 2 dias (Valor dia)",{"$f":"IF('FERIAS 3 DIAS'!G$3=TRUE,'FERIAS DE 7 DIAS EN ADELANTE'!E168/'FERIAS 3 DIAS'!I$3,E168)","v":348194},348194]
[{"$f":"CONCATENATE(B169:B395,\" \",C169:C395)","v":"30713202 Tv Smart  65\" 165cms ( Incluye base para tv / cable de corriente /1 cable HDMI) IN: HDMI, USB Valor de 3 a 6 dias (Valor dia)"},30713202,"Tv Smart  65\" 165cms ( Incluye base para tv / cable de corriente /1 cable HDMI) IN: HDMI, USB Valor de 3 a 6 dias (Valor dia)",{"$f":"IF('FERIAS 3 DIAS'!G$3=TRUE,'FERIAS DE 7 DIAS EN ADELANTE'!E169/'FERIAS 3 DIAS'!I$3,E169)","v":329035},329035]
[{"$f":"CONCATENATE(B170:B396,\" \",C170:C396)","v":"30713202 Tv Smart  65\" 165cms ( Incluye base para tv / cable de corriente /1 cable HDMI) IN: HDMI, USB Valor de 7 a 18 días (Valor feria)"},30713202,"Tv Smart  65\" 165cms ( Incluye base para tv / cable de corriente /1 cable HDMI) IN: HDMI, USB Valor de 7 a 18 días (Valor feria)",{"$f":"IF('FERIAS 3 DIAS'!G$3=TRUE,'FERIAS DE 7 DIAS EN ADELANTE'!E170/'FERIAS 3 DIAS'!I$3,E170)","v":1666595},1666595]
[{"$f":"CONCATENATE(B171:B397,\" \",C171:C397)","v":"3071279 Tv Smart  70\" 177,8cms ( Incluye base para tv / cable de corriente /1 cable HDMI) IN: HDMI, USB Valor evento 1 día"},3071279,"Tv Smart  70\" 177,8cms ( Incluye base para tv / cable de corriente /1 cable HDMI) IN: HDMI, USB Valor evento 1 día",{"$f":"IF('FERIAS 3 DIAS'!G$3=TRUE,'FERIAS DE 7 DIAS EN ADELANTE'!E171/'FERIAS 3 DIAS'!I$3,E171)","v":559657},559657]
[{"$f":"CONCATENATE(B172:B398,\" \",C172:C398)","v":"3071279 Tv Smart  70\" 177,8cms ( Incluye base para tv / cable de corriente /1 cable HDMI) IN: HDMI, USB Valor evento 2 dias (Valor dia)"},3071279,"Tv Smart  70\" 177,8cms ( Incluye base para tv / cable de corriente /1 cable HDMI) IN: HDMI, USB Valor evento 2 dias (Valor dia)",{"$f":"IF('FERIAS 3 DIAS'!G$3=TRUE,'FERIAS DE 7 DIAS EN ADELANTE'!E172/'FERIAS 3 DIAS'!I$3,E172)","v":559657},559657]
[{"$f":"CONCATENATE(B173:B399,\" \",C173:C399)","v":"3071279 Tv Smart  70\" 177,8cms ( Incluye base para tv / cable de corriente /1 cable HDMI) IN: HDMI, USB Valor de 3 a 6 dias (Valor dia)"},3071279,"Tv Smart  70\" 177,8cms ( Incluye base para tv / cable de corriente /1 cable HDMI) IN: HDMI, USB Valor de 3 a 6 dias (Valor dia)",{"$f":"IF('FERIAS 3 DIAS'!G$3=TRUE,'FERIAS DE 7 DIAS EN ADELANTE'!E173/'FERIAS 3 DIAS'!I$3,E173)","v":509320},509320]
[{"$f":"CONCATENATE(B174:B400,\" \",C174:C400)","v":"3071279 Tv Smart  70\" 177,8cms ( Incluye base para tv / cable de corriente /1 cable HDMI) IN: HDMI, USB Valor de 7 a 18 días (Valor feria)"},3071279,"Tv Smart  70\" 177,8cms ( Incluye base para tv / cable de corriente /1 cable HDMI) IN: HDMI, USB Valor de 7 a 18 días (Valor feria)",{"$f":"IF('FERIAS 3 DIAS'!G$3=TRUE,'FERIAS DE 7 DIAS EN ADELANTE'!E174/'FERIAS 3 DIAS'!I$3,E174)","v":3637711},3637711]
[{"$f":"CONCATENATE(B175:B401,\" \",C175:C401)","v":"3071222 Tv Smart  82\" 204cms ( Incluye base para tv / cable de corriente /1 cable HDMI) IN: HDMI, USB Valor evento 1 día"},3071222,"Tv Smart  82\" 204cms ( Incluye base para tv / cable de corriente /1 cable HDMI) IN: HDMI, USB Valor evento 1 día",{"$f":"IF('FERIAS 3 DIAS'!G$3=TRUE,'FERIAS DE 7 DIAS EN ADELANTE'!E175/'FERIAS 3 DIAS'!I$3,E175)","v":1039584},1039584]
[{"$f":"CONCATENATE(B176:B402,\" \",C176:C402)","v":"3071222 Tv Smart  82\" 204cms ( Incluye base para tv / cable de corriente /1 cable HDMI) IN: HDMI, USB Valor evento 2 dias (Valor dia)"},3071222,"Tv Smart  82\" 204cms ( Incluye base para tv / cable de corriente /1 cable HDMI) IN: HDMI, USB Valor evento 2 dias (Valor dia)",{"$f":"IF('FERIAS 3 DIAS'!G$3=TRUE,'FERIAS DE 7 DIAS EN ADELANTE'!E176/'FERIAS 3 DIAS'!I$3,E176)","v":1039584},1039584]
[{"$f":"CONCATENATE(B177:B403,\" \",C177:C403)","v":"3071222 Tv Smart  82\" 204cms ( Incluye base para tv / cable de corriente /1 cable HDMI) IN: HDMI, USB Valor de 3 a 6 dias (Valor dia)"},3071222,"Tv Smart  82\" 204cms ( Incluye base para tv / cable de corriente /1 cable HDMI) IN: HDMI, USB Valor de 3 a 6 dias (Valor dia)",{"$f":"IF('FERIAS 3 DIAS'!G$3=TRUE,'FERIAS DE 7 DIAS EN ADELANTE'!E177/'FERIAS 3 DIAS'!I$3,E177)","v":945931},945931]
[{"$f":"CONCATENATE(B178:B404,\" \",C178:C404)","v":"3071222 Tv Smart  82\" 204cms ( Incluye base para tv / cable de corriente /1 cable HDMI) IN: HDMI, USB Valor de 7 a 18 días (Valor feria)"},3071222,"Tv Smart  82\" 204cms ( Incluye base para tv / cable de corriente /1 cable HDMI) IN: HDMI, USB Valor de 7 a 18 días (Valor feria)",{"$f":"IF('FERIAS 3 DIAS'!G$3=TRUE,'FERIAS DE 7 DIAS EN ADELANTE'!E178/'FERIAS 3 DIAS'!I$3,E178)","v":6755273},6755273]
[{"$f":"CONCATENATE(B179:B405,\" \",C179:C405)","v":"3071261 Monitor tactil 65\" 165cms ( Incluye base para monitor / cableado) IN: HDMI Valor evento 1 día"},3071261,"Monitor tactil 65\" 165cms ( Incluye base para monitor / cableado) IN: HDMI Valor evento 1 día",{"$f":"IF('FERIAS 3 DIAS'!G$3=TRUE,'FERIAS DE 7 DIAS EN ADELANTE'!E179/'FERIAS 3 DIAS'!I$3,E179)","v":702100},702100]
[{"$f":"CONCATENATE(B180:B406,\" \",C180:C406)","v":"3071261 Monitor tactil 65\" 165cms ( Incluye base para monitor / cableado) IN: HDMI Valor evento 2 dias (Valor dia)"},3071261,"Monitor tactil 65\" 165cms ( Incluye base para monitor / cableado) IN: HDMI Valor evento 2 dias (Valor dia)",{"$f":"IF('FERIAS 3 DIAS'!G$3=TRUE,'FERIAS DE 7 DIAS EN ADELANTE'!E180/'FERIAS 3 DIAS'!I$3,E180)","v":702100},702100]
[{"$f":"CONCATENATE(B181:B407,\" \",C181:C407)","v":"3071261 Monitor tactil 65\" 165cms ( Incluye base para monitor / cableado) IN: HDMI Valor de 3 a 6 dias (Valor dia)"},3071261,"Monitor tactil 65\" 165cms ( Incluye base para monitor / cableado) IN: HDMI Valor de 3 a 6 dias (Valor dia)",{"$f":"IF('FERIAS 3 DIAS'!G$3=TRUE,'FERIAS DE 7 DIAS EN ADELANTE'!E181/'FERIAS 3 DIAS'!I$3,E181)","v":511462},511462]
[{"$f":"CONCATENATE(B182:B408,\" \",C182:C408)","v":"3071261 Monitor tactil 65\" 165cms ( Incluye base para monitor / cableado) IN: HDMI Valor de 7 a 18 días (Valor feria)"},3071261,"Monitor tactil 65\" 165cms ( Incluye base para monitor / cableado) IN: HDMI Valor de 7 a 18 días (Valor feria)",{"$f":"IF('FERIAS 3 DIAS'!G$3=TRUE,'FERIAS DE 7 DIAS EN ADELANTE'!E182/'FERIAS 3 DIAS'!I$3,E182)","v":5105100},5105100]
[{"$f":"CONCATENATE(B183:B409,\" \",C183:C409)","v":"3071284 Tablet tactil 7\" RAM:1GB / Conectividad: 3G / Sistema Operativo Android 9.0 Valor evento 1 día"},3071284,"Tablet tactil 7\" RAM:1GB / Conectividad: 3G / Sistema Operativo Android 9.0 Valor evento 1 día",{"$f":"IF('FERIAS 3 DIAS'!G$3=TRUE,'FERIAS DE 7 DIAS EN ADELANTE'!E183/'FERIAS 3 DIAS'!I$3,E183)","v":87108},87108]
[{"$f":"CONCATENATE(B184:B410,\" \",C184:C410)","v":"3071284 Tablet tactil 7\" RAM:1GB / Conectividad: 3G / Sistema Operativo Android 9.0 Valor evento 2 dias (Valor dia)"},3071284,"Tablet tactil 7\" RAM:1GB / Conectividad: 3G / Sistema Operativo Android 9.0 Valor evento 2 dias (Valor dia)",{"$f":"IF('FERIAS 3 DIAS'!G$3=TRUE,'FERIAS DE 7 DIAS EN ADELANTE'!E184/'FERIAS 3 DIAS'!I$3,E184)","v":87108},87108]
[{"$f":"CONCATENATE(B185:B411,\" \",C185:C411)","v":"3071284 Tablet tactil 7\" RAM:1GB / Conectividad: 3G / Sistema Operativo Android 9.0 Valor de 3 a 6 dias (Valor dia)"},3071284,"Tablet tactil 7\" RAM:1GB / Conectividad: 3G / Sistema Operativo Android 9.0 Valor de 3 a 6 dias (Valor dia)",{"$f":"IF('FERIAS 3 DIAS'!G$3=TRUE,'FERIAS DE 7 DIAS EN ADELANTE'!E185/'FERIAS 3 DIAS'!I$3,E185)","v":79373},79373]
[{"$f":"CONCATENATE(B186:B412,\" \",C186:C412)","v":"3071284 Tablet tactil 7\" RAM:1GB / Conectividad: 3G / Sistema Operativo Android 9.0 Valor de 7 a 18 días (Valor feria)"},3071284,"Tablet tactil 7\" RAM:1GB / Conectividad: 3G / Sistema Operativo Android 9.0 Valor de 7 a 18 días (Valor feria)",{"$f":"IF('FERIAS 3 DIAS'!G$3=TRUE,'FERIAS DE 7 DIAS EN ADELANTE'!E186/'FERIAS 3 DIAS'!I$3,E186)","v":565845},565845]
[{"$f":"CONCATENATE(B187:B413,\" \",C187:C413)","v":"3071260 Pantalla Led Full Hd Indoor / Medida 3,20mts x 2,96mts / Pitch 3,9 / No incluye estructura para montaje Valor evento 1 día"},3071260,"Pantalla Led Full Hd Indoor / Medida 3,20mts x 2,96mts / Pitch 3,9 / No incluye estructura para montaje Valor evento 1 día",{"$f":"IF('FERIAS 3 DIAS'!G$3=TRUE,'FERIAS DE 7 DIAS EN ADELANTE'!E187/'FERIAS 3 DIAS'!I$3,E187)","v":1545453},1545453]
[{"$f":"CONCATENATE(B188:B414,\" \",C188:C414)","v":"3071260 Pantalla Led Full Hd Indoor / Medida 3,20mts x 2,96mts / Pitch 3,9 / No incluye estructura para montaje Valor evento 2 dias (Valor dia)"},3071260,"Pantalla Led Full Hd Indoor / Medida 3,20mts x 2,96mts / Pitch 3,9 / No incluye estructura para montaje Valor evento 2 dias (Valor dia)",{"$f":"IF('FERIAS 3 DIAS'!G$3=TRUE,'FERIAS DE 7 DIAS EN ADELANTE'!E188/'FERIAS 3 DIAS'!I$3,E188)","v":1545453},1545453]
[{"$f":"CONCATENATE(B189:B415,\" \",C189:C415)","v":"3071260 Pantalla Led Full Hd Indoor / Medida 3,20mts x 2,96mts / Pitch 3,9 / No incluye estructura para montaje Valor de 3 a 6 dias (Valor dia)"},3071260,"Pantalla Led Full Hd Indoor / Medida 3,20mts x 2,96mts / Pitch 3,9 / No incluye estructura para montaje Valor de 3 a 6 dias (Valor dia)",{"$f":"IF('FERIAS 3 DIAS'!G$3=TRUE,'FERIAS DE 7 DIAS EN ADELANTE'!E189/'FERIAS 3 DIAS'!I$3,E189)","v":1390872},1390872]
[{"$f":"CONCATENATE(B190:B416,\" \",C190:C416)","v":"3071260 Pantalla Led Full Hd Indoor / Medida 3,20mts x 2,96mts / Pitch 3,9 / No incluye estructura para montaje Valor de 7 a 18 días (Valor feria)"},3071260,"Pantalla Led Full Hd Indoor / Medida 3,20mts x 2,96mts / Pitch 3,9 / No incluye estructura para montaje Valor de 7 a 18 días (Valor feria)",{"$f":"IF('FERIAS 3 DIAS'!G$3=TRUE,'FERIAS DE 7 DIAS EN ADELANTE'!E190/'FERIAS 3 DIAS'!I$3,E190)","v":13078100},13078100]
[{"$f":"CONCATENATE(B191:B417,\" \",C191:C417)","v":"3071260 Pantalla Led Full Hd Indoor / Medida 4,48mts x 3,20mts / Pitch 3,9 / No incluye estructura para montaje Valor evento 1 día"},3071260,"Pantalla Led Full Hd Indoor / Medida 4,48mts x 3,20mts / Pitch 3,9 / No incluye estructura para montaje Valor evento 1 día",{"$f":"IF('FERIAS 3 DIAS'!G$3=TRUE,'FERIAS DE 7 DIAS EN ADELANTE'!E191/'FERIAS 3 DIAS'!I$3,E191)","v":1790831},1790831]
[{"$f":"CONCATENATE(B192:B418,\" \",C192:C418)","v":"3071260 Pantalla Led Full Hd Indoor / Medida 4,48mts x 3,20mts / Pitch 3,9 / No incluye estructura para montaje Valor evento 2 dias (Valor dia)"},3071260,"Pantalla Led Full Hd Indoor / Medida 4,48mts x 3,20mts / Pitch 3,9 / No incluye estructura para montaje Valor evento 2 dias (Valor dia)",{"$f":"IF('FERIAS 3 DIAS'!G$3=TRUE,'FERIAS DE 7 DIAS EN ADELANTE'!E192/'FERIAS 3 DIAS'!I$3,E192)","v":1790831},1790831]
[{"$f":"CONCATENATE(B193:B419,\" \",C193:C419)","v":"3071260 Pantalla Led Full Hd Indoor / Medida 4,48mts x 3,20mts / Pitch 3,9 / No incluye estructura para montaje Valor de 3 a 6 dias (Valor dia)"},3071260,"Pantalla Led Full Hd Indoor / Medida 4,48mts x 3,20mts / Pitch 3,9 / No incluye estructura para montaje Valor de 3 a 6 dias (Valor dia)",{"$f":"IF('FERIAS 3 DIAS'!G$3=TRUE,'FERIAS DE 7 DIAS EN ADELANTE'!E193/'FERIAS 3 DIAS'!I$3,E193)","v":1611736},1611736]
[{"$f":"CONCATENATE(B194:B420,\" \",C194:C420)","v":"3071260 Pantalla Led Full Hd Indoor / Medida 4,48mts x 3,20mts / Pitch 3,9 / No incluye estructura para montaje Valor de 7 a 18 días (Valor feria)"},3071260,"Pantalla Led Full Hd Indoor / Medida 4,48mts x 3,20mts / Pitch 3,9 / No incluye estructura para montaje Valor de 7 a 18 días (Valor feria)",{"$f":"IF('FERIAS 3 DIAS'!G$3=TRUE,'FERIAS DE 7 DIAS EN ADELANTE'!E194/'FERIAS 3 DIAS'!I$3,E194)","v":18857811},18857811]
[{"$f":"CONCATENATE(B195:B421,\" \",C195:C421)","v":"3071260 Pantalla Led Full Hd Indoor / Medida 6,4mts x 3,20mts /mts2: 20,48 / Pitch 3,9 / No incluye estructura para montaje Valor evento 1 día"},3071260,"Pantalla Led Full Hd Indoor / Medida 6,4mts x 3,20mts /mts2: 20,48 / Pitch 3,9 / No incluye estructura para montaje Valor evento 1 día",{"$f":"IF('FERIAS 3 DIAS'!G$3=TRUE,'FERIAS DE 7 DIAS EN ADELANTE'!E195/'FERIAS 3 DIAS'!I$3,E195)","v":2126530},2126530]
[{"$f":"CONCATENATE(B196:B418,\" \",C196:C418)","v":"3071260 Pantalla Led Full Hd Indoor / Medida 6,4mts x 3,20mts /mts2: 20,48 / Pitch 3,9 / No incluye estructura para montaje Valor evento 2 dias (Valor dia)"},3071260,"Pantalla Led Full Hd Indoor / Medida 6,4mts x 3,20mts /mts2: 20,48 / Pitch 3,9 / No incluye estructura para montaje Valor evento 2 dias (Valor dia)",{"$f":"IF('FERIAS 3 DIAS'!G$3=TRUE,'FERIAS DE 7 DIAS EN ADELANTE'!E196/'FERIAS 3 DIAS'!I$3,E196)","v":2126530},2126530]
[{"$f":"CONCATENATE(B197:B419,\" \",C197:C419)","v":"3071260 Pantalla Led Full Hd Indoor / Medida 6,4mts x 3,20mts /mts2: 20,48 / Pitch 3,9 / No incluye estructura para montaje Valor de 3 a 6 dias (Valor dia)"},3071260,"Pantalla Led Full Hd Indoor / Medida 6,4mts x 3,20mts /mts2: 20,48 / Pitch 3,9 / No incluye estructura para montaje Valor de 3 a 6 dias (Valor dia)",{"$f":"IF('FERIAS 3 DIAS'!G$3=TRUE,'FERIAS DE 7 DIAS EN ADELANTE'!E197/'FERIAS 3 DIAS'!I$3,E197)","v":1926015},1926015]
[{"$f":"CONCATENATE(B198:B420,\" \",C198:C420)","v":"3071260 Pantalla Led Full Hd Indoor / Medida 6,4mts x 3,20mts /mts2: 20,48 / Pitch 3,9 / No incluye estructura para montaje Valor de 7 a 18 días (Valor feria)"},3071260,"Pantalla Led Full Hd Indoor / Medida 6,4mts x 3,20mts /mts2: 20,48 / Pitch 3,9 / No incluye estructura para montaje Valor de 7 a 18 días (Valor feria)",{"$f":"IF('FERIAS 3 DIAS'!G$3=TRUE,'FERIAS DE 7 DIAS EN ADELANTE'!E198/'FERIAS 3 DIAS'!I$3,E198)","v":13756043},13756043]
[{"$f":"CONCATENATE(B199:B421,\" \",C199:C421)","v":"3071264 Pantalla Led Full Hd Indoor / Medida 6,4mts x 4,48mts /mts2: 28,67 / Pitch 3,9 / No incluye estructura para montaje Valor evento 1 día"},3071264,"Pantalla Led Full Hd Indoor / Medida 6,4mts x 4,48mts /mts2: 28,67 / Pitch 3,9 / No incluye estructura para montaje Valor evento 1 día",{"$f":"IF('FERIAS 3 DIAS'!G$3=TRUE,'FERIAS DE 7 DIAS EN ADELANTE'!E199/'FERIAS 3 DIAS'!I$3,E199)","v":2835294},2835294]
[{"$f":"CONCATENATE(B200:B422,\" \",C200:C422)","v":"3071264 Pantalla Led Full Hd Indoor / Medida 6,4mts x 4,48mts /mts2: 28,67 / Pitch 3,9 / No incluye estructura para montaje Valor evento 2 dias (Valor dia)"},3071264,"Pantalla Led Full Hd Indoor / Medida 6,4mts x 4,48mts /mts2: 28,67 / Pitch 3,9 / No incluye estructura para montaje Valor evento 2 dias (Valor dia)",{"$f":"IF('FERIAS 3 DIAS'!G$3=TRUE,'FERIAS DE 7 DIAS EN ADELANTE'!E200/'FERIAS 3 DIAS'!I$3,E200)","v":2835294},2835294]
[{"$f":"CONCATENATE(B201:B419,\" \",C201:C419)","v":"3071264 Pantalla Led Full Hd Indoor / Medida 6,4mts x 4,48mts /mts2: 28,67 / Pitch 3,9 / No incluye estructura para montaje Valor de 3 a 6 dias (Valor dia)"},3071264,"Pantalla Led Full Hd Indoor / Medida 6,4mts x 4,48mts /mts2: 28,67 / Pitch 3,9 / No incluye estructura para montaje Valor de 3 a 6 dias (Valor dia)",{"$f":"IF('FERIAS 3 DIAS'!G$3=TRUE,'FERIAS DE 7 DIAS EN ADELANTE'!E201/'FERIAS 3 DIAS'!I$3,E201)","v":2567782},2567782]
[{"$f":"CONCATENATE(B202:B420,\" \",C202:C420)","v":"3071264 Pantalla Led Full Hd Indoor / Medida 6,4mts x 4,48mts /mts2: 28,67 / Pitch 3,9 / No incluye estructura para montaje Valor de 7 a 18 días (Valor feria)"},3071264,"Pantalla Led Full Hd Indoor / Medida 6,4mts x 4,48mts /mts2: 28,67 / Pitch 3,9 / No incluye estructura para montaje Valor de 7 a 18 días (Valor feria)",{"$f":"IF('FERIAS 3 DIAS'!G$3=TRUE,'FERIAS DE 7 DIAS EN ADELANTE'!E202/'FERIAS 3 DIAS'!I$3,E202)","v":18341351},18341351]
[{"$f":"CONCATENATE(B203:B421,\" \",C203:C421)","v":"3071265 Pantalla Led Full Hd Indoor / Medida 7,4mts x 5,12mts /mts2: 36,04 / Pitch 3,9 / No incluye estructura para montaje Valor evento 1 día"},3071265,"Pantalla Led Full Hd Indoor / Medida 7,4mts x 5,12mts /mts2: 36,04 / Pitch 3,9 / No incluye estructura para montaje Valor evento 1 día",{"$f":"IF('FERIAS 3 DIAS'!G$3=TRUE,'FERIAS DE 7 DIAS EN ADELANTE'!E203/'FERIAS 3 DIAS'!I$3,E203)","v":4134774},4134774]
[{"$f":"CONCATENATE(B204:B422,\" \",C204:C422)","v":"3071265 Pantalla Led Full Hd Indoor / Medida 7,4mts x 5,12mts /mts2: 36,04 / Pitch 3,9 / No incluye estructura para montaje Valor evento 2 dias (Valor dia)"},3071265,"Pantalla Led Full Hd Indoor / Medida 7,4mts x 5,12mts /mts2: 36,04 / Pitch 3,9 / No incluye estructura para montaje Valor evento 2 dias (Valor dia)",{"$f":"IF('FERIAS 3 DIAS'!G$3=TRUE,'FERIAS DE 7 DIAS EN ADELANTE'!E204/'FERIAS 3 DIAS'!I$3,E204)","v":4134774},4134774]
[{"$f":"CONCATENATE(B205:B423,\" \",C205:C423)","v":"3071265 Pantalla Led Full Hd Indoor / Medida 7,4mts x 5,12mts /mts2: 36,04 / Pitch 3,9 / No incluye estructura para montaje Valor de 3 a 6 dias (Valor dia)"},3071265,"Pantalla Led Full Hd Indoor / Medida 7,4mts x 5,12mts /mts2: 36,04 / Pitch 3,9 / No incluye estructura para montaje Valor de 3 a 6 dias (Valor dia)",{"$f":"IF('FERIAS 3 DIAS'!G$3=TRUE,'FERIAS DE 7 DIAS EN ADELANTE'!E205/'FERIAS 3 DIAS'!I$3,E205)","v":3744692},3744692]
[{"$f":"CONCATENATE(B206:B424,\" \",C206:C424)","v":"3071265 Pantalla Led Full Hd Indoor / Medida 7,4mts x 5,12mts /mts2: 36,04 / Pitch 3,9 / No incluye estructura para montaje Valor de 7 a 18 días (Valor feria)"},3071265,"Pantalla Led Full Hd Indoor / Medida 7,4mts x 5,12mts /mts2: 36,04 / Pitch 3,9 / No incluye estructura para montaje Valor de 7 a 18 días (Valor feria)",{"$f":"IF('FERIAS 3 DIAS'!G$3=TRUE,'FERIAS DE 7 DIAS EN ADELANTE'!E206/'FERIAS 3 DIAS'!I$3,E206)","v":26747749},26747749]
[{"$f":"CONCATENATE(B207:B425,\" \",C207:C425)","v":"3071266 Pantalla Led Full Hd Indoor / Medida 8,32mts x 6,40mts /mts2: 53,25 / Pitch 3,9 / No incluye estructura para montaje Valor evento 1 día"},3071266,"Pantalla Led Full Hd Indoor / Medida 8,32mts x 6,40mts /mts2: 53,25 / Pitch 3,9 / No incluye estructura para montaje Valor evento 1 día",{"$f":"IF('FERIAS 3 DIAS'!G$3=TRUE,'FERIAS DE 7 DIAS EN ADELANTE'!E207/'FERIAS 3 DIAS'!I$3,E207)","v":5670588},5670588]
[{"$f":"CONCATENATE(B208:B426,\" \",C208:C426)","v":"3071266 Pantalla Led Full Hd Indoor / Medida 8,32mts x 6,40mts /mts2: 53,25 / Pitch 3,9 / No incluye estructura para montaje Valor evento 2 dias (Valor dia)"},3071266,"Pantalla Led Full Hd Indoor / Medida 8,32mts x 6,40mts /mts2: 53,25 / Pitch 3,9 / No incluye estructura para montaje Valor evento 2 dias (Valor dia)",{"$f":"IF('FERIAS 3 DIAS'!G$3=TRUE,'FERIAS DE 7 DIAS EN ADELANTE'!E208/'FERIAS 3 DIAS'!I$3,E208)","v":5670588},5670588]
[{"$f":"CONCATENATE(B209:B427,\" \",C209:C427)","v":"3071266 Pantalla Led Full Hd Indoor / Medida 8,32mts x 6,40mts /mts2: 53,25 / Pitch 3,9 / No incluye estructura para montaje Valor de 3 a 6 dias (Valor dia)"},3071266,"Pantalla Led Full Hd Indoor / Medida 8,32mts x 6,40mts /mts2: 53,25 / Pitch 3,9 / No incluye estructura para montaje Valor de 3 a 6 dias (Valor dia)",{"$f":"IF('FERIAS 3 DIAS'!G$3=TRUE,'FERIAS DE 7 DIAS EN ADELANTE'!E209/'FERIAS 3 DIAS'!I$3,E209)","v":5135802},5135802]
[{"$f":"CONCATENATE(B210:B428,\" \",C210:C428)","v":"3071266 Pantalla Led Full Hd Indoor / Medida 8,32mts x 6,40mts /mts2: 53,25 / Pitch 3,9 / No incluye estructura para montaje Valor de 7 a 18 días (Valor feria)"},3071266,"Pantalla Led Full Hd Indoor / Medida 8,32mts x 6,40mts /mts2: 53,25 / Pitch 3,9 / No incluye estructura para montaje Valor de 7 a 18 días (Valor feria)",{"$f":"IF('FERIAS 3 DIAS'!G$3=TRUE,'FERIAS DE 7 DIAS EN ADELANTE'!E210/'FERIAS 3 DIAS'!I$3,E210)","v":36682702},36682702]
[{"$f":"CONCATENATE(B211:B429,\" \",C211:C429)","v":"3071267 Pantalla Led Full Hd Outdoor / Medida 6,4mts x 4,48mts  /mts2: 28,67 / Pitch 4,8 / No incluye estructura para montaje Valor evento 1 día"},3071267,"Pantalla Led Full Hd Outdoor / Medida 6,4mts x 4,48mts  /mts2: 28,67 / Pitch 4,8 / No incluye estructura para montaje Valor evento 1 día",{"$f":"IF('FERIAS 3 DIAS'!G$3=TRUE,'FERIAS DE 7 DIAS EN ADELANTE'!E211/'FERIAS 3 DIAS'!I$3,E211)","v":2835294},2835294]
[{"$f":"CONCATENATE(B212:B430,\" \",C212:C430)","v":"3071267 Pantalla Led Full Hd Outdoor / Medida 6,4mts x 4,48mts  /mts2: 28,67 / Pitch 4,8 / No incluye estructura para montaje Valor evento 2 dias (Valor dia)"},3071267,"Pantalla Led Full Hd Outdoor / Medida 6,4mts x 4,48mts  /mts2: 28,67 / Pitch 4,8 / No incluye estructura para montaje Valor evento 2 dias (Valor dia)",{"$f":"IF('FERIAS 3 DIAS'!G$3=TRUE,'FERIAS DE 7 DIAS EN ADELANTE'!E212/'FERIAS 3 DIAS'!I$3,E212)","v":2835294},2835294]
[{"$f":"CONCATENATE(B213:B431,\" \",C213:C431)","v":"3071267 Pantalla Led Full Hd Outdoor / Medida 6,4mts x 4,48mts  /mts2: 28,67 / Pitch 4,8 / No incluye estructura para montaje Valor de 3 a 6 dias (Valor dia)"},3071267,"Pantalla Led Full Hd Outdoor / Medida 6,4mts x 4,48mts  /mts2: 28,67 / Pitch 4,8 / No incluye estructura para montaje Valor de 3 a 6 dias (Valor dia)",{"$f":"IF('FERIAS 3 DIAS'!G$3=TRUE,'FERIAS DE 7 DIAS EN ADELANTE'!E213/'FERIAS 3 DIAS'!I$3,E213)","v":2566235},2566235]
[{"$f":"CONCATENATE(B214:B432,\" \",C214:C432)","v":"3071267 Pantalla Led Full Hd Outdoor / Medida 6,4mts x 4,48mts  /mts2: 28,67 / Pitch 4,8 / No incluye estructura para montaje Valor de 7 a 18 días (Valor feria)"},3071267,"Pantalla Led Full Hd Outdoor / Medida 6,4mts x 4,48mts  /mts2: 28,67 / Pitch 4,8 / No incluye estructura para montaje Valor de 7 a 18 días (Valor feria)",{"$f":"IF('FERIAS 3 DIAS'!G$3=TRUE,'FERIAS DE 7 DIAS EN ADELANTE'!E214/'FERIAS 3 DIAS'!I$3,E214)","v":18328856},18328856]
[{"$f":"CONCATENATE(B215:B433,\" \",C215:C433)","v":"3071268 Pantalla Led Full Hd Outdoor / Medida 7,4mts x 5,12mts /mts2: 36,04/ Pitch 4,8 / No incluye estructura para montaje Valor evento 1 día"},3071268,"Pantalla Led Full Hd Outdoor / Medida 7,4mts x 5,12mts /mts2: 36,04/ Pitch 4,8 / No incluye estructura para montaje Valor evento 1 día",{"$f":"IF('FERIAS 3 DIAS'!G$3=TRUE,'FERIAS DE 7 DIAS EN ADELANTE'!E215/'FERIAS 3 DIAS'!I$3,E215)","v":4134774},4134774]
[{"$f":"CONCATENATE(B216:B434,\" \",C216:C434)","v":"3071268 Pantalla Led Full Hd Outdoor / Medida 7,4mts x 5,12mts /mts2: 36,04/ Pitch 4,8 / No incluye estructura para montaje Valor evento 2 dias (Valor dia)"},3071268,"Pantalla Led Full Hd Outdoor / Medida 7,4mts x 5,12mts /mts2: 36,04/ Pitch 4,8 / No incluye estructura para montaje Valor evento 2 dias (Valor dia)",{"$f":"IF('FERIAS 3 DIAS'!G$3=TRUE,'FERIAS DE 7 DIAS EN ADELANTE'!E216/'FERIAS 3 DIAS'!I$3,E216)","v":4134774},4134774]
[{"$f":"CONCATENATE(B217:B435,\" \",C217:C435)","v":"3071268 Pantalla Led Full Hd Outdoor / Medida 7,4mts x 5,12mts /mts2: 36,04/ Pitch 4,8 / No incluye estructura para montaje Valor de 3 a 6 dias (Valor dia)"},3071268,"Pantalla Led Full Hd Outdoor / Medida 7,4mts x 5,12mts /mts2: 36,04/ Pitch 4,8 / No incluye estructura para montaje Valor de 3 a 6 dias (Valor dia)",{"$f":"IF('FERIAS 3 DIAS'!G$3=TRUE,'FERIAS DE 7 DIAS EN ADELANTE'!E217/'FERIAS 3 DIAS'!I$3,E217)","v":3742193},3742193]
[{"$f":"CONCATENATE(B218:B436,\" \",C218:C436)","v":"3071268 Pantalla Led Full Hd Outdoor / Medida 7,4mts x 5,12mts /mts2: 36,04/ Pitch 4,8 / No incluye estructura para montaje Valor de 7 a 18 días (Valor feria)"},3071268,"Pantalla Led Full Hd Outdoor / Medida 7,4mts x 5,12mts /mts2: 36,04/ Pitch 4,8 / No incluye estructura para montaje Valor de 7 a 18 días (Valor feria)",{"$f":"IF('FERIAS 3 DIAS'!G$3=TRUE,'FERIAS DE 7 DIAS EN ADELANTE'!E218/'FERIAS 3 DIAS'!I$3,E218)","v":26729423},26729423]
[{"$f":"CONCATENATE(B219:B437,\" \",C219:C437)","v":"3071269 Pantalla Led Full Hd Outdoor / Medida 8,32mts x 6,40mts /mts2: 53,25/ Pitch 4,8 / No incluye estructura para montaje Valor evento 1 día"},3071269,"Pantalla Led Full Hd Outdoor / Medida 8,32mts x 6,40mts /mts2: 53,25/ Pitch 4,8 / No incluye estructura para montaje Valor evento 1 día",{"$f":"IF('FERIAS 3 DIAS'!G$3=TRUE,'FERIAS DE 7 DIAS EN ADELANTE'!E219/'FERIAS 3 DIAS'!I$3,E219)","v":5670588},5670588]
[{"$f":"CONCATENATE(B220:B438,\" \",C220:C438)","v":"3071269 Pantalla Led Full Hd Outdoor / Medida 8,32mts x 6,40mts /mts2: 53,25/ Pitch 4,8 / No incluye estructura para montaje Valor evento 2 dias (Valor dia)"},3071269,"Pantalla Led Full Hd Outdoor / Medida 8,32mts x 6,40mts /mts2: 53,25/ Pitch 4,8 / No incluye estructura para montaje Valor evento 2 dias (Valor dia)",{"$f":"IF('FERIAS 3 DIAS'!G$3=TRUE,'FERIAS DE 7 DIAS EN ADELANTE'!E220/'FERIAS 3 DIAS'!I$3,E220)","v":5670588},5670588]
[{"$f":"CONCATENATE(B221:B439,\" \",C221:C439)","v":"3071269 Pantalla Led Full Hd Outdoor / Medida 8,32mts x 6,40mts /mts2: 53,25/ Pitch 4,8 / No incluye estructura para montaje Valor de 3 a 6 dias (Valor dia)"},3071269,"Pantalla Led Full Hd Outdoor / Medida 8,32mts x 6,40mts /mts2: 53,25/ Pitch 4,8 / No incluye estructura para montaje Valor de 3 a 6 dias (Valor dia)",{"$f":"IF('FERIAS 3 DIAS'!G$3=TRUE,'FERIAS DE 7 DIAS EN ADELANTE'!E221/'FERIAS 3 DIAS'!I$3,E221)","v":5132232},5132232]
[{"$f":"CONCATENATE(B222:B440,\" \",C222:C440)","v":"3071269 Pantalla Led Full Hd Outdoor / Medida 8,32mts x 6,40mts /mts2: 53,25/ Pitch 4,8 / No incluye estructura para montaje Valor de 7 a 18 días (Valor feria)"},3071269,"Pantalla Led Full Hd Outdoor / Medida 8,32mts x 6,40mts /mts2: 53,25/ Pitch 4,8 / No incluye estructura para montaje Valor de 7 a 18 días (Valor feria)",{"$f":"IF('FERIAS 3 DIAS'!G$3=TRUE,'FERIAS DE 7 DIAS EN ADELANTE'!E222/'FERIAS 3 DIAS'!I$3,E222)","v":36657355},36657355]
[{"$f":"CONCATENATE(B223:B441,\" \",C223:C441)","v":"3071234 Video Proyector de 4.500 Lumens HD - El lugar de Proyeccion debe estar lo mas oscuro posible Valor evento 1 día"},3071234,"Video Proyector de 4.500 Lumens HD - El lugar de Proyeccion debe estar lo mas oscuro posible Valor evento 1 día",{"$f":"IF('FERIAS 3 DIAS'!G$3=TRUE,'FERIAS DE 7 DIAS EN ADELANTE'!E223/'FERIAS 3 DIAS'!I$3,E223)","v":435302},435302]
[{"$f":"CONCATENATE(B224:B442,\" \",C224:C442)","v":"3071234 Video Proyector de 4.500 Lumens HD - El lugar de Proyeccion debe estar lo mas oscuro posible Valor evento 2 dias (Valor dia)"},3071234,"Video Proyector de 4.500 Lumens HD - El lugar de Proyeccion debe estar lo mas oscuro posible Valor evento 2 dias (Valor dia)",{"$f":"IF('FERIAS 3 DIAS'!G$3=TRUE,'FERIAS DE 7 DIAS EN ADELANTE'!E224/'FERIAS 3 DIAS'!I$3,E224)","v":435302},435302]
[{"$f":"CONCATENATE(B225:B443,\" \",C225:C443)","v":"3071234 Video Proyector de 4.500 Lumens HD - El lugar de Proyeccion debe estar lo mas oscuro posible Valor de 3 a 6 dias (Valor dia)"},3071234,"Video Proyector de 4.500 Lumens HD - El lugar de Proyeccion debe estar lo mas oscuro posible Valor de 3 a 6 dias (Valor dia)",{"$f":"IF('FERIAS 3 DIAS'!G$3=TRUE,'FERIAS DE 7 DIAS EN ADELANTE'!E225/'FERIAS 3 DIAS'!I$3,E225)","v":422331},422331]
[{"$f":"CONCATENATE(B226:B444,\" \",C226:C444)","v":"3071234 Video Proyector de 4.500 Lumens HD - El lugar de Proyeccion debe estar lo mas oscuro posible Valor de 7 a 18 días (Valor feria)"},3071234,"Video Proyector de 4.500 Lumens HD - El lugar de Proyeccion debe estar lo mas oscuro posible Valor de 7 a 18 días (Valor feria)",{"$f":"IF('FERIAS 3 DIAS'!G$3=TRUE,'FERIAS DE 7 DIAS EN ADELANTE'!E226/'FERIAS 3 DIAS'!I$3,E226)","v":2622046},2622046]
[{"$f":"CONCATENATE(B227:B445,\" \",C227:C445)","v":"3071244 Video Proyector de 6.000 Lumens HD - El lugar de Proyeccion debe estar lo mas oscuro posible Valor evento 1 día"},3071244,"Video Proyector de 6.000 Lumens HD - El lugar de Proyeccion debe estar lo mas oscuro posible Valor evento 1 día",{"$f":"IF('FERIAS 3 DIAS'!G$3=TRUE,'FERIAS DE 7 DIAS EN ADELANTE'!E227/'FERIAS 3 DIAS'!I$3,E227)","v":583100},583100]
[{"$f":"CONCATENATE(B228:B446,\" \",C228:C446)","v":"3071244 Video Proyector de 6.000 Lumens HD - El lugar de Proyeccion debe estar lo mas oscuro posible Valor evento 2 dias (Valor dia)"},3071244,"Video Proyector de 6.000 Lumens HD - El lugar de Proyeccion debe estar lo mas oscuro posible Valor evento 2 dias (Valor dia)",{"$f":"IF('FERIAS 3 DIAS'!G$3=TRUE,'FERIAS DE 7 DIAS EN ADELANTE'!E228/'FERIAS 3 DIAS'!I$3,E228)","v":583100},583100]
[{"$f":"CONCATENATE(B229:B447,\" \",C229:C447)","v":"3071244 Video Proyector de 6.000 Lumens HD - El lugar de Proyeccion debe estar lo mas oscuro posible Valor de 3 a 6 dias (Valor dia)"},3071244,"Video Proyector de 6.000 Lumens HD - El lugar de Proyeccion debe estar lo mas oscuro posible Valor de 3 a 6 dias (Valor dia)",{"$f":"IF('FERIAS 3 DIAS'!G$3=TRUE,'FERIAS DE 7 DIAS EN ADELANTE'!E229/'FERIAS 3 DIAS'!I$3,E229)","v":499800},499800]
[{"$f":"CONCATENATE(B230:B448,\" \",C230:C448)","v":"3071244 Video Proyector de 6.000 Lumens HD - El lugar de Proyeccion debe estar lo mas oscuro posible Valor de 7 a 18 días (Valor feria)"},3071244,"Video Proyector de 6.000 Lumens HD - El lugar de Proyeccion debe estar lo mas oscuro posible Valor de 7 a 18 días (Valor feria)",{"$f":"IF('FERIAS 3 DIAS'!G$3=TRUE,'FERIAS DE 7 DIAS EN ADELANTE'!E230/'FERIAS 3 DIAS'!I$3,E230)","v":4033505},4033505]
[{"$f":"CONCATENATE(B231:B449,\" \",C231:C449)","v":"3071271 Video Proyector de 10.000 Lumens HD - El lugar de Proyeccion debe estar lo mas oscuro posible Valor evento 1 día"},3071271,"Video Proyector de 10.000 Lumens HD - El lugar de Proyeccion debe estar lo mas oscuro posible Valor evento 1 día",{"$f":"IF('FERIAS 3 DIAS'!G$3=TRUE,'FERIAS DE 7 DIAS EN ADELANTE'!E231/'FERIAS 3 DIAS'!I$3,E231)","v":1740970},1740970]
[{"$f":"CONCATENATE(B232:B450,\" \",C232:C450)","v":"3071271 Video Proyector de 10.000 Lumens HD - El lugar de Proyeccion debe estar lo mas oscuro posible Valor evento 2 dias (Valor dia)"},3071271,"Video Proyector de 10.000 Lumens HD - El lugar de Proyeccion debe estar lo mas oscuro posible Valor evento 2 dias (Valor dia)",{"$f":"IF('FERIAS 3 DIAS'!G$3=TRUE,'FERIAS DE 7 DIAS EN ADELANTE'!E232/'FERIAS 3 DIAS'!I$3,E232)","v":1803207},1803207]
[{"$f":"CONCATENATE(B233:B451,\" \",C233:C451)","v":"3071271 Video Proyector de 10.000 Lumens HD - El lugar de Proyeccion debe estar lo mas oscuro posible Valor de 3 a 6 dias (Valor dia)"},3071271,"Video Proyector de 10.000 Lumens HD - El lugar de Proyeccion debe estar lo mas oscuro posible Valor de 3 a 6 dias (Valor dia)",{"$f":"IF('FERIAS 3 DIAS'!G$3=TRUE,'FERIAS DE 7 DIAS EN ADELANTE'!E233/'FERIAS 3 DIAS'!I$3,E233)","v":1651125},1651125]
[{"$f":"CONCATENATE(B234:B452,\" \",C234:C452)","v":"3071271 Video Proyector de 10.000 Lumens HD - El lugar de Proyeccion debe estar lo mas oscuro posible Valor de 7 a 18 días (Valor feria)"},3071271,"Video Proyector de 10.000 Lumens HD - El lugar de Proyeccion debe estar lo mas oscuro posible Valor de 7 a 18 días (Valor feria)",{"$f":"IF('FERIAS 3 DIAS'!G$3=TRUE,'FERIAS DE 7 DIAS EN ADELANTE'!E234/'FERIAS 3 DIAS'!I$3,E234)","v":11410077},11410077]
[{"$f":"CONCATENATE(B235:B453,\" \",C235:C453)","v":"3071232 Telon proyección estructura profesional tela frontal y retro 1,80x1,20 cms Valor evento 1 día"},3071232,"Telon proyección estructura profesional tela frontal y retro 1,80x1,20 cms Valor evento 1 día",{"$f":"IF('FERIAS 3 DIAS'!G$3=TRUE,'FERIAS DE 7 DIAS EN ADELANTE'!E235/'FERIAS 3 DIAS'!I$3,E235)","v":43554},43554]
[{"$f":"CONCATENATE(B236:B454,\" \",C236:C454)","v":"3071232 Telon proyección estructura profesional tela frontal y retro 1,80x1,20 cms Valor evento 2 dias (Valor dia)"},3071232,"Telon proyección estructura profesional tela frontal y retro 1,80x1,20 cms Valor evento 2 dias (Valor dia)",{"$f":"IF('FERIAS 3 DIAS'!G$3=TRUE,'FERIAS DE 7 DIAS EN ADELANTE'!E236/'FERIAS 3 DIAS'!I$3,E236)","v":43554},43554]
[{"$f":"CONCATENATE(B237:B455,\" \",C237:C455)","v":"3071232 Telon proyección estructura profesional tela frontal y retro 1,80x1,20 cms Valor de 3 a 6 dias (Valor dia)"},3071232,"Telon proyección estructura profesional tela frontal y retro 1,80x1,20 cms Valor de 3 a 6 dias (Valor dia)",{"$f":"IF('FERIAS 3 DIAS'!G$3=TRUE,'FERIAS DE 7 DIAS EN ADELANTE'!E237/'FERIAS 3 DIAS'!I$3,E237)","v":39865},39865]
[{"$f":"CONCATENATE(B238:B456,\" \",C238:C456)","v":"3071232 Telon proyección estructura profesional tela frontal y retro 1,80x1,20 cms Valor de 7 a 18 días (Valor feria)"},3071232,"Telon proyección estructura profesional tela frontal y retro 1,80x1,20 cms Valor de 7 a 18 días (Valor feria)",{"$f":"IF('FERIAS 3 DIAS'!G$3=TRUE,'FERIAS DE 7 DIAS EN ADELANTE'!E238/'FERIAS 3 DIAS'!I$3,E238)","v":283577},283577]
[{"$f":"CONCATENATE(B239:B457,\" \",C239:C457)","v":"3071231 Telon proyección estructura profesional tela frontal y retro 3,05x2,29 cms Valor evento 1 día"},3071231,"Telon proyección estructura profesional tela frontal y retro 3,05x2,29 cms Valor evento 1 día",{"$f":"IF('FERIAS 3 DIAS'!G$3=TRUE,'FERIAS DE 7 DIAS EN ADELANTE'!E239/'FERIAS 3 DIAS'!I$3,E239)","v":221459},221459]
[{"$f":"CONCATENATE(B240:B458,\" \",C240:C458)","v":"3071231 Telon proyección estructura profesional tela frontal y retro 3,05x2,29 cms Valor evento 2 dias (Valor dia)"},3071231,"Telon proyección estructura profesional tela frontal y retro 3,05x2,29 cms Valor evento 2 dias (Valor dia)",{"$f":"IF('FERIAS 3 DIAS'!G$3=TRUE,'FERIAS DE 7 DIAS EN ADELANTE'!E240/'FERIAS 3 DIAS'!I$3,E240)","v":221459},221459]
[{"$f":"CONCATENATE(B241:B459,\" \",C241:C459)","v":"3071231 Telon proyección estructura profesional tela frontal y retro 3,05x2,29 cms Valor de 3 a 6 dias (Valor dia)"},3071231,"Telon proyección estructura profesional tela frontal y retro 3,05x2,29 cms Valor de 3 a 6 dias (Valor dia)",{"$f":"IF('FERIAS 3 DIAS'!G$3=TRUE,'FERIAS DE 7 DIAS EN ADELANTE'!E241/'FERIAS 3 DIAS'!I$3,E241)","v":202181},202181]
[{"$f":"CONCATENATE(B242:B460,\" \",C242:C460)","v":"3071231 Telon proyección estructura profesional tela frontal y retro 3,05x2,29 cms Valor de 7 a 18 días (Valor feria)"},3071231,"Telon proyección estructura profesional tela frontal y retro 3,05x2,29 cms Valor de 7 a 18 días (Valor feria)",{"$f":"IF('FERIAS 3 DIAS'!G$3=TRUE,'FERIAS DE 7 DIAS EN ADELANTE'!E242/'FERIAS 3 DIAS'!I$3,E242)","v":1443232},1443232]
[{"$f":"CONCATENATE(B243:B461,\" \",C243:C461)","v":"3071219 Telon proyección estructura profesional tela frontal y retro 3,66x2,74 cms Valor evento 1 día"},3071219,"Telon proyección estructura profesional tela frontal y retro 3,66x2,74 cms Valor evento 1 día",{"$f":"IF('FERIAS 3 DIAS'!G$3=TRUE,'FERIAS DE 7 DIAS EN ADELANTE'!E243/'FERIAS 3 DIAS'!I$3,E243)","v":186473},186473]
[{"$f":"CONCATENATE(B244:B462,\" \",C244:C462)","v":"3071219 Telon proyección estructura profesional tela frontal y retro 3,66x2,74 cms Valor evento 2 dias (Valor dia)"},3071219,"Telon proyección estructura profesional tela frontal y retro 3,66x2,74 cms Valor evento 2 dias (Valor dia)",{"$f":"IF('FERIAS 3 DIAS'!G$3=TRUE,'FERIAS DE 7 DIAS EN ADELANTE'!E244/'FERIAS 3 DIAS'!I$3,E244)","v":186473},186473]
[{"$f":"CONCATENATE(B245:B463,\" \",C245:C463)","v":"3071219 Telon proyección estructura profesional tela frontal y retro 3,66x2,74 cms Valor de 3 a 6 dias (Valor dia)"},3071219,"Telon proyección estructura profesional tela frontal y retro 3,66x2,74 cms Valor de 3 a 6 dias (Valor dia)",{"$f":"IF('FERIAS 3 DIAS'!G$3=TRUE,'FERIAS DE 7 DIAS EN ADELANTE'!E245/'FERIAS 3 DIAS'!I$3,E245)","v":167790},167790]
[{"$f":"CONCATENATE(B246:B464,\" \",C246:C464)","v":"3071219 Telon proyección estructura profesional tela frontal y retro 3,66x2,74 cms Valor de 7 a 18 días (Valor feria)"},3071219,"Telon proyección estructura profesional tela frontal y retro 3,66x2,74 cms Valor de 7 a 18 días (Valor feria)",{"$f":"IF('FERIAS 3 DIAS'!G$3=TRUE,'FERIAS DE 7 DIAS EN ADELANTE'!E246/'FERIAS 3 DIAS'!I$3,E246)","v":1342201},1342201]
[{"$f":"CONCATENATE(B247:B465,\" \",C247:C465)","v":"3071217 Telon proyección estructura profesional tela frontal y retro 4,27x3,20 cms Valor evento 1 día"},3071217,"Telon proyección estructura profesional tela frontal y retro 4,27x3,20 cms Valor evento 1 día",{"$f":"IF('FERIAS 3 DIAS'!G$3=TRUE,'FERIAS DE 7 DIAS EN ADELANTE'!E247/'FERIAS 3 DIAS'!I$3,E247)","v":391748},391748]
[{"$f":"CONCATENATE(B248:B466,\" \",C248:C466)","v":"3071217 Telon proyección estructura profesional tela frontal y retro 4,27x3,20 cms Valor evento 2 dias (Valor dia)"},3071217,"Telon proyección estructura profesional tela frontal y retro 4,27x3,20 cms Valor evento 2 dias (Valor dia)",{"$f":"IF('FERIAS 3 DIAS'!G$3=TRUE,'FERIAS DE 7 DIAS EN ADELANTE'!E248/'FERIAS 3 DIAS'!I$3,E248)","v":391748},391748]
[{"$f":"CONCATENATE(B249:B467,\" \",C249:C467)","v":"3071217 Telon proyección estructura profesional tela frontal y retro 4,27x3,20 cms Valor de 3 a 6 dias (Valor dia)"},3071217,"Telon proyección estructura profesional tela frontal y retro 4,27x3,20 cms Valor de 3 a 6 dias (Valor dia)",{"$f":"IF('FERIAS 3 DIAS'!G$3=TRUE,'FERIAS DE 7 DIAS EN ADELANTE'!E249/'FERIAS 3 DIAS'!I$3,E249)","v":355572},355572]
[{"$f":"CONCATENATE(B250:B468,\" \",C250:C468)","v":"3071217 Telon proyección estructura profesional tela frontal y retro 4,27x3,20 cms Valor de 7 a 18 días (Valor feria)"},3071217,"Telon proyección estructura profesional tela frontal y retro 4,27x3,20 cms Valor de 7 a 18 días (Valor feria)",{"$f":"IF('FERIAS 3 DIAS'!G$3=TRUE,'FERIAS DE 7 DIAS EN ADELANTE'!E250/'FERIAS 3 DIAS'!I$3,E250)","v":2539103},2539103]
[{"$f":"CONCATENATE(B251:B469,\" \",C251:C469)","v":"3071273 Telon proyección estructura profesional tela frontal y retro 4,87x2,74 cms Valor evento 1 día"},3071273,"Telon proyección estructura profesional tela frontal y retro 4,87x2,74 cms Valor evento 1 día",{"$f":"IF('FERIAS 3 DIAS'!G$3=TRUE,'FERIAS DE 7 DIAS EN ADELANTE'!E251/'FERIAS 3 DIAS'!I$3,E251)","v":559657},559657]
[{"$f":"CONCATENATE(B252:B470,\" \",C252:C470)","v":"3071273 Telon proyección estructura profesional tela frontal y retro 4,87x2,74 cms Valor evento 2 dias (Valor dia)"},3071273,"Telon proyección estructura profesional tela frontal y retro 4,87x2,74 cms Valor evento 2 dias (Valor dia)",{"$f":"IF('FERIAS 3 DIAS'!G$3=TRUE,'FERIAS DE 7 DIAS EN ADELANTE'!E252/'FERIAS 3 DIAS'!I$3,E252)","v":559657},559657]
[{"$f":"CONCATENATE(B253:B471,\" \",C253:C471)","v":"3071273 Telon proyección estructura profesional tela frontal y retro 4,87x2,74 cms Valor de 3 a 6 dias (Valor dia)"},3071273,"Telon proyección estructura profesional tela frontal y retro 4,87x2,74 cms Valor de 3 a 6 dias (Valor dia)",{"$f":"IF('FERIAS 3 DIAS'!G$3=TRUE,'FERIAS DE 7 DIAS EN ADELANTE'!E253/'FERIAS 3 DIAS'!I$3,E253)","v":556206},556206]
[{"$f":"CONCATENATE(B254:B472,\" \",C254:C472)","v":"3071273 Telon proyección estructura profesional tela frontal y retro 4,87x2,74 cms Valor de 7 a 18 días (Valor feria)"},3071273,"Telon proyección estructura profesional tela frontal y retro 4,87x2,74 cms Valor de 7 a 18 días (Valor feria)",{"$f":"IF('FERIAS 3 DIAS'!G$3=TRUE,'FERIAS DE 7 DIAS EN ADELANTE'!E254/'FERIAS 3 DIAS'!I$3,E254)","v":4449886},4449886]
[{"$f":"CONCATENATE(B255:B473,\" \",C255:C473)","v":"3071288 Scalador de presentaciones / HDMI / SDI Valor evento 1 día"},3071288,"Scalador de presentaciones / HDMI / SDI Valor evento 1 día",{"$f":"IF('FERIAS 3 DIAS'!G$3=TRUE,'FERIAS DE 7 DIAS EN ADELANTE'!E255/'FERIAS 3 DIAS'!I$3,E255)","v":273700},273700]
[{"$f":"CONCATENATE(B256:B474,\" \",C256:C474)","v":"3071288 Scalador de presentaciones / HDMI / SDI Valor evento 2 dias (Valor dia)"},3071288,"Scalador de presentaciones / HDMI / SDI Valor evento 2 dias (Valor dia)",{"$f":"IF('FERIAS 3 DIAS'!G$3=TRUE,'FERIAS DE 7 DIAS EN ADELANTE'!E256/'FERIAS 3 DIAS'!I$3,E256)","v":273700},273700]
[{"$f":"CONCATENATE(B257:B475,\" \",C257:C475)","v":"3071288 Scalador de presentaciones / HDMI / SDI Valor de 3 a 6 dias (Valor dia)"},3071288,"Scalador de presentaciones / HDMI / SDI Valor de 3 a 6 dias (Valor dia)",{"$f":"IF('FERIAS 3 DIAS'!G$3=TRUE,'FERIAS DE 7 DIAS EN ADELANTE'!E257/'FERIAS 3 DIAS'!I$3,E257)","v":256802},256802]
[{"$f":"CONCATENATE(B258:B476,\" \",C258:C476)","v":"3071288 Scalador de presentaciones / HDMI / SDI Valor de 7 a 18 días (Valor feria)"},3071288,"Scalador de presentaciones / HDMI / SDI Valor de 7 a 18 días (Valor feria)",{"$f":"IF('FERIAS 3 DIAS'!G$3=TRUE,'FERIAS DE 7 DIAS EN ADELANTE'!E258/'FERIAS 3 DIAS'!I$3,E258)","v":2054654},2054654]
[{"$f":"CONCATENATE(B259:B477,\" \",C259:C477)","v":"3071289 Switcher HDMI de 6 entradas Valor evento 1 día"},3071289,"Switcher HDMI de 6 entradas Valor evento 1 día",{"$f":"IF('FERIAS 3 DIAS'!G$3=TRUE,'FERIAS DE 7 DIAS EN ADELANTE'!E259/'FERIAS 3 DIAS'!I$3,E259)","v":310114},310114]
[{"$f":"CONCATENATE(B260:B478,\" \",C260:C478)","v":"3071289 Switcher HDMI de 6 entradas Valor evento 2 dias (Valor dia)"},3071289,"Switcher HDMI de 6 entradas Valor evento 2 dias (Valor dia)",{"$f":"IF('FERIAS 3 DIAS'!G$3=TRUE,'FERIAS DE 7 DIAS EN ADELANTE'!E260/'FERIAS 3 DIAS'!I$3,E260)","v":310114},310114]
[{"$f":"CONCATENATE(B261:B479,\" \",C261:C479)","v":"3071289 Switcher HDMI de 6 entradas Valor de 3 a 6 dias (Valor dia)"},3071289,"Switcher HDMI de 6 entradas Valor de 3 a 6 dias (Valor dia)",{"$f":"IF('FERIAS 3 DIAS'!G$3=TRUE,'FERIAS DE 7 DIAS EN ADELANTE'!E261/'FERIAS 3 DIAS'!I$3,E261)","v":282387},282387]
[{"$f":"CONCATENATE(B262:B480,\" \",C262:C480)","v":"3071289 Switcher HDMI de 6 entradas Valor de 7 a 18 días (Valor feria)"},3071289,"Switcher HDMI de 6 entradas Valor de 7 a 18 días (Valor feria)",{"$f":"IF('FERIAS 3 DIAS'!G$3=TRUE,'FERIAS DE 7 DIAS EN ADELANTE'!E262/'FERIAS 3 DIAS'!I$3,E262)","v":1575560},1575560]
[{"$f":"CONCATENATE(B263:B481,\" \",C263:C481)","v":"3071290 Distribuidor de señales HDMI / SDI  Valor evento 1 día"},3071290,"Distribuidor de señales HDMI / SDI  Valor evento 1 día",{"$f":"IF('FERIAS 3 DIAS'!G$3=TRUE,'FERIAS DE 7 DIAS EN ADELANTE'!E263/'FERIAS 3 DIAS'!I$3,E263)","v":126854},126854]
[{"$f":"CONCATENATE(B264:B482,\" \",C264:C482)","v":"3071290 Distribuidor de señales HDMI / SDI Valor evento 2 dias (Valor dia)"},3071290,"Distribuidor de señales HDMI / SDI Valor evento 2 dias (Valor dia)",{"$f":"IF('FERIAS 3 DIAS'!G$3=TRUE,'FERIAS DE 7 DIAS EN ADELANTE'!E264/'FERIAS 3 DIAS'!I$3,E264)","v":126854},126854]
[{"$f":"CONCATENATE(B265:B483,\" \",C265:C483)","v":"3071290 Distribuidor de señales HDMI / SDI Valor de 3 a 6 dias (Valor dia)"},3071290,"Distribuidor de señales HDMI / SDI Valor de 3 a 6 dias (Valor dia)",{"$f":"IF('FERIAS 3 DIAS'!G$3=TRUE,'FERIAS DE 7 DIAS EN ADELANTE'!E265/'FERIAS 3 DIAS'!I$3,E265)","v":115073},115073]
[{"$f":"CONCATENATE(B266:B484,\" \",C266:C484)","v":"3071290 Distribuidor de señales HDMI / SDI Valor de 7 a 18 días (Valor feria)"},3071290,"Distribuidor de señales HDMI / SDI Valor de 7 a 18 días (Valor feria)",{"$f":"IF('FERIAS 3 DIAS'!G$3=TRUE,'FERIAS DE 7 DIAS EN ADELANTE'!E266/'FERIAS 3 DIAS'!I$3,E266)","v":820981},820981]
[{"$f":"CONCATENATE(B267:B485,\" \",C267:C485)","v":"3071387 Punto Fijo de Video HD (Incluye: 1 Switcher de video / 1 computador portatil / 1 Monitor / 1 multi viewer/ 1 Tecnico de Video 8 horas) Valor evento 1 día"},3071387,"Punto Fijo de Video HD (Incluye: 1 Switcher de video / 1 computador portatil / 1 Monitor / 1 multi viewer/ 1 Tecnico de Video 8 horas) Valor evento 1 día",{"$f":"IF('FERIAS 3 DIAS'!G$3=TRUE,'FERIAS DE 7 DIAS EN ADELANTE'!E267/'FERIAS 3 DIAS'!I$3,E267)","v":746130},746130]
[{"$f":"CONCATENATE(B268:B486,\" \",C268:C486)","v":"3071387 Punto Fijo de Video HD (Incluye: 1 Switcher de video / 1 computador portatil / 1 Monitor / 1 multi viewer/ 1 Tecnico de Video 8 horas) Valor evento 2 dias (Valor dia)"},3071387,"Punto Fijo de Video HD (Incluye: 1 Switcher de video / 1 computador portatil / 1 Monitor / 1 multi viewer/ 1 Tecnico de Video 8 horas) Valor evento 2 dias (Valor dia)",{"$f":"IF('FERIAS 3 DIAS'!G$3=TRUE,'FERIAS DE 7 DIAS EN ADELANTE'!E268/'FERIAS 3 DIAS'!I$3,E268)","v":746130},746130]
[{"$f":"CONCATENATE(B269:B487,\" \",C269:C487)","v":"3071387 Punto Fijo de Video HD (Incluye: 1 Switcher de video / 1 computador portatil / 1 Monitor / 1 multi viewer/ 1 Tecnico de Video 8 horas) Valor de 3 a 6 dias (Valor dia)"},3071387,"Punto Fijo de Video HD (Incluye: 1 Switcher de video / 1 computador portatil / 1 Monitor / 1 multi viewer/ 1 Tecnico de Video 8 horas) Valor de 3 a 6 dias (Valor dia)",{"$f":"IF('FERIAS 3 DIAS'!G$3=TRUE,'FERIAS DE 7 DIAS EN ADELANTE'!E269/'FERIAS 3 DIAS'!I$3,E269)","v":681394},681394]
[{"$f":"CONCATENATE(B270:B488,\" \",C270:C488)","v":"3071387 Punto Fijo de Video HD (Incluye: 1 Switcher de video / 1 computador portatil / 1 Monitor / 1 multi viewer/ 1 Tecnico de Video 8 horas) Valor de 7 a 18 días (Valor feria)"},3071387,"Punto Fijo de Video HD (Incluye: 1 Switcher de video / 1 computador portatil / 1 Monitor / 1 multi viewer/ 1 Tecnico de Video 8 horas) Valor de 7 a 18 días (Valor feria)",{"$f":"IF('FERIAS 3 DIAS'!G$3=TRUE,'FERIAS DE 7 DIAS EN ADELANTE'!E270/'FERIAS 3 DIAS'!I$3,E270)","v":4865791},4865791]
[{"$f":"CONCATENATE(B271:B489,\" \",C271:C489)","v":"3071291 CCTV (Tipo 1) Valor evento 1 día"},3071291,"CCTV (Tipo 1) Valor evento 1 día",{"$f":"IF('FERIAS 3 DIAS'!G$3=TRUE,'FERIAS DE 7 DIAS EN ADELANTE'!E271/'FERIAS 3 DIAS'!I$3,E271)","v":1094324},1094324]
[{"$f":"CONCATENATE(B272:B490,\" \",C272:C490)","v":"3071291 CCTV (Tipo 1)  Valor evento 2 dias (Valor dia)"},3071291,"CCTV (Tipo 1)  Valor evento 2 dias (Valor dia)",{"$f":"IF('FERIAS 3 DIAS'!G$3=TRUE,'FERIAS DE 7 DIAS EN ADELANTE'!E272/'FERIAS 3 DIAS'!I$3,E272)","v":1094324},1094324]
[{"$f":"CONCATENATE(B273:B491,\" \",C273:C491)","v":"3071291 CCTV (Tipo 1)  Valor de 3 a 6 dias (Valor dia)"},3071291,"CCTV (Tipo 1)  Valor de 3 a 6 dias (Valor dia)",{"$f":"IF('FERIAS 3 DIAS'!G$3=TRUE,'FERIAS DE 7 DIAS EN ADELANTE'!E273/'FERIAS 3 DIAS'!I$3,E273)","v":993650},993650]
[{"$f":"CONCATENATE(B274:B492,\" \",C274:C492)","v":"3071291 CCTV (Tipo 1)  Valor de 7 a 18 días (Valor feria)"},3071291,"CCTV (Tipo 1)  Valor de 7 a 18 días (Valor feria)",{"$f":"IF('FERIAS 3 DIAS'!G$3=TRUE,'FERIAS DE 7 DIAS EN ADELANTE'!E274/'FERIAS 3 DIAS'!I$3,E274)","v":7096446},7096446]
[{"$f":"CONCATENATE(B275:B493,\" \",C275:C493)","v":"30713203 CCTV (Tipo 2) Valor evento 1 día"},30713203,"CCTV (Tipo 2) Valor evento 1 día",{"$f":"IF('FERIAS 3 DIAS'!G$3=TRUE,'FERIAS DE 7 DIAS EN ADELANTE'!E275/'FERIAS 3 DIAS'!I$3,E275)","v":1499043},1499043]
[{"$f":"CONCATENATE(B276:B494,\" \",C276:C494)","v":"30713203 CCTV (Tipo 2) Valor evento 2 dias (Valor dia)"},30713203,"CCTV (Tipo 2) Valor evento 2 dias (Valor dia)",{"$f":"IF('FERIAS 3 DIAS'!G$3=TRUE,'FERIAS DE 7 DIAS EN ADELANTE'!E276/'FERIAS 3 DIAS'!I$3,E276)","v":1499043},1499043]
[{"$f":"CONCATENATE(B277:B495,\" \",C277:C495)","v":"30713203 CCTV (Tipo 2) Valor de 3 a 6 dias (Valor dia)"},30713203,"CCTV (Tipo 2) Valor de 3 a 6 dias (Valor dia)",{"$f":"IF('FERIAS 3 DIAS'!G$3=TRUE,'FERIAS DE 7 DIAS EN ADELANTE'!E277/'FERIAS 3 DIAS'!I$3,E277)","v":1349103},1349103]
[{"$f":"CONCATENATE(B278:B496,\" \",C278:C496)","v":"30713203 CCTV (Tipo 2) Valor de 7 a 18 días (Valor feria)"},30713203,"CCTV (Tipo 2) Valor de 7 a 18 días (Valor feria)",{"$f":"IF('FERIAS 3 DIAS'!G$3=TRUE,'FERIAS DE 7 DIAS EN ADELANTE'!E278/'FERIAS 3 DIAS'!I$3,E278)","v":10792586},10792586]
[{"$f":"CONCATENATE(B279:B497,\" \",C279:C497)","v":"3071292 CCTV (Tipo 3) Valor evento 1 día"},3071292,"CCTV (Tipo 3) Valor evento 1 día",{"$f":"IF('FERIAS 3 DIAS'!G$3=TRUE,'FERIAS DE 7 DIAS EN ADELANTE'!E279/'FERIAS 3 DIAS'!I$3,E279)","v":1809871},1809871]
[{"$f":"CONCATENATE(B280:B498,\" \",C280:C498)","v":"3071292 CCTV (Tipo 3) Valor evento 2 dias (Valor dia)"},3071292,"CCTV (Tipo 3) Valor evento 2 dias (Valor dia)",{"$f":"IF('FERIAS 3 DIAS'!G$3=TRUE,'FERIAS DE 7 DIAS EN ADELANTE'!E280/'FERIAS 3 DIAS'!I$3,E280)","v":1809871},1809871]
[{"$f":"CONCATENATE(B281:B499,\" \",C281:C499)","v":"3071292 CCTV (Tipo 3) Valor de 3 a 6 dias (Valor dia)"},3071292,"CCTV (Tipo 3) Valor de 3 a 6 dias (Valor dia)",{"$f":"IF('FERIAS 3 DIAS'!G$3=TRUE,'FERIAS DE 7 DIAS EN ADELANTE'!E281/'FERIAS 3 DIAS'!I$3,E281)","v":1628991},1628991]
[{"$f":"CONCATENATE(B282:B500,\" \",C282:C500)","v":"3071292 CCTV (Tipo 3) Valor de 7 a 18 días (Valor feria)"},3071292,"CCTV (Tipo 3) Valor de 7 a 18 días (Valor feria)",{"$f":"IF('FERIAS 3 DIAS'!G$3=TRUE,'FERIAS DE 7 DIAS EN ADELANTE'!E282/'FERIAS 3 DIAS'!I$3,E282)","v":7714056},7714056]
[{"$f":"CONCATENATE(B283:B501,\" \",C283:C501)","v":"3071236 Sistema de Audio tipo Minicomponente / conexión Bluetooh / Usb  ( No aplica para microfono) Valor evento 1 día"},3071236,"Sistema de Audio tipo Minicomponente / conexión Bluetooh / Usb  ( No aplica para microfono) Valor evento 1 día",{"$f":"IF('FERIAS 3 DIAS'!G$3=TRUE,'FERIAS DE 7 DIAS EN ADELANTE'!E283/'FERIAS 3 DIAS'!I$3,E283)","v":111979},111979]
[{"$f":"CONCATENATE(B284:B502,\" \",C284:C502)","v":"3071236 Sistema de Audio tipo Minicomponente / conexión Bluetooh / Usb  ( No aplica para microfono) Valor evento 2 dias (Valor dia)"},3071236,"Sistema de Audio tipo Minicomponente / conexión Bluetooh / Usb  ( No aplica para microfono) Valor evento 2 dias (Valor dia)",{"$f":"IF('FERIAS 3 DIAS'!G$3=TRUE,'FERIAS DE 7 DIAS EN ADELANTE'!E284/'FERIAS 3 DIAS'!I$3,E284)","v":111979},111979]
[{"$f":"CONCATENATE(B285:B503,\" \",C285:C503)","v":"3071236 Sistema de Audio tipo Minicomponente / conexión Bluetooh / Usb  ( No aplica para microfono) Valor de 3 a 6 dias (Valor dia)"},3071236,"Sistema de Audio tipo Minicomponente / conexión Bluetooh / Usb  ( No aplica para microfono) Valor de 3 a 6 dias (Valor dia)",{"$f":"IF('FERIAS 3 DIAS'!G$3=TRUE,'FERIAS DE 7 DIAS EN ADELANTE'!E285/'FERIAS 3 DIAS'!I$3,E285)","v":101388},101388]
[{"$f":"CONCATENATE(B286:B504,\" \",C286:C504)","v":"3071236 Sistema de Audio tipo Minicomponente / conexión Bluetooh / Usb  ( No aplica para microfono) Valor de 7 a 18 días (Valor feria)"},3071236,"Sistema de Audio tipo Minicomponente / conexión Bluetooh / Usb  ( No aplica para microfono) Valor de 7 a 18 días (Valor feria)",{"$f":"IF('FERIAS 3 DIAS'!G$3=TRUE,'FERIAS DE 7 DIAS EN ADELANTE'!E286/'FERIAS 3 DIAS'!I$3,E286)","v":723401},723401]
[{"$f":"CONCATENATE(B287:B505,\" \",C287:C505)","v":"30713204 Sistema de Audio compacto Db Technologies Es 503 (Incluye 2 Sub / 2 Cabinas compacta de audio / Conexión Bluetooth / cable de corriente) Valor evento 1 día"},30713204,"Sistema de Audio compacto Db Technologies Es 503 (Incluye 2 Sub / 2 Cabinas compacta de audio / Conexión Bluetooth / cable de corriente) Valor evento 1 día",{"$f":"IF('FERIAS 3 DIAS'!G$3=TRUE,'FERIAS DE 7 DIAS EN ADELANTE'!E287/'FERIAS 3 DIAS'!I$3,E287)","v":246211},246211]
[{"$f":"CONCATENATE(B288:B506,\" \",C288:C506)","v":"30713204 Sistema de Audio compacto Db Technologies Es 503 (Incluye 2 Sub / 2 Cabinas compacta de audio / Conexión Bluetooth / cable de corriente) Valor evento 1 día"},30713204,"Sistema de Audio compacto Db Technologies Es 503 (Incluye 2 Sub / 2 Cabinas compacta de audio / Conexión Bluetooth / cable de corriente) Valor evento 1 día",{"$f":"IF('FERIAS 3 DIAS'!G$3=TRUE,'FERIAS DE 7 DIAS EN ADELANTE'!E288/'FERIAS 3 DIAS'!I$3,E288)","v":246211},246211]
[{"$f":"CONCATENATE(B289:B507,\" \",C289:C507)","v":"30713204 Sistema de Audio compacto Db Technologies Es 503 (Incluye 2 Sub / 2 Cabinas compacta de audio / Conexión Bluetooth / cable de corriente) Valor de 3 a 6 dias (Valor dia)"},30713204,"Sistema de Audio compacto Db Technologies Es 503 (Incluye 2 Sub / 2 Cabinas compacta de audio / Conexión Bluetooth / cable de corriente) Valor de 3 a 6 dias (Valor dia)",{"$f":"IF('FERIAS 3 DIAS'!G$3=TRUE,'FERIAS DE 7 DIAS EN ADELANTE'!E289/'FERIAS 3 DIAS'!I$3,E289)","v":224672},224672]
[{"$f":"CONCATENATE(B290:B508,\" \",C290:C508)","v":"30713204 Sistema de Audio compacto Db Technologies Es 503 (Incluye 2 Sub / 2 Cabinas compacta de audio / Conexión Bluetooth / cable de corriente) Valor de 7 a 18 días (Valor feria)"},30713204,"Sistema de Audio compacto Db Technologies Es 503 (Incluye 2 Sub / 2 Cabinas compacta de audio / Conexión Bluetooth / cable de corriente) Valor de 7 a 18 días (Valor feria)",{"$f":"IF('FERIAS 3 DIAS'!G$3=TRUE,'FERIAS DE 7 DIAS EN ADELANTE'!E290/'FERIAS 3 DIAS'!I$3,E290)","v":1572347},1572347]
[{"$f":"CONCATENATE(B291:B509,\" \",C291:C509)","v":"30713205 Sistema de Audio compacto Db Technologies Es 802 (Incluye 4 Sub / 2 Cabinas compacta de audio / cable de corriente) Valor evento 1 día"},30713205,"Sistema de Audio compacto Db Technologies Es 802 (Incluye 4 Sub / 2 Cabinas compacta de audio / cable de corriente) Valor evento 1 día",{"$f":"IF('FERIAS 3 DIAS'!G$3=TRUE,'FERIAS DE 7 DIAS EN ADELANTE'!E291/'FERIAS 3 DIAS'!I$3,E291)","v":547162},547162]
[{"$f":"CONCATENATE(B292:B510,\" \",C292:C510)","v":"30713205 Sistema de Audio compacto Db Technologies Es 802 (Incluye 4 Sub / 2 Cabinas compacta de audio / cable de corriente) Valor evento 2 dias (Valor dia)"},30713205,"Sistema de Audio compacto Db Technologies Es 802 (Incluye 4 Sub / 2 Cabinas compacta de audio / cable de corriente) Valor evento 2 dias (Valor dia)",{"$f":"IF('FERIAS 3 DIAS'!G$3=TRUE,'FERIAS DE 7 DIAS EN ADELANTE'!E292/'FERIAS 3 DIAS'!I$3,E292)","v":547162},547162]
[{"$f":"CONCATENATE(B293:B511,\" \",C293:C511)","v":"30713205 Sistema de Audio compacto Db Technologies Es 802 (Incluye 4 Sub / 2 Cabinas compacta de audio / cable de corriente) Valor de 3 a 6 dias (Valor dia)"},30713205,"Sistema de Audio compacto Db Technologies Es 802 (Incluye 4 Sub / 2 Cabinas compacta de audio / cable de corriente) Valor de 3 a 6 dias (Valor dia)",{"$f":"IF('FERIAS 3 DIAS'!G$3=TRUE,'FERIAS DE 7 DIAS EN ADELANTE'!E293/'FERIAS 3 DIAS'!I$3,E293)","v":517174},517174]
[{"$f":"CONCATENATE(B294:B512,\" \",C294:C512)","v":"30713205 Sistema de Audio compacto Db Technologies Es 802 (Incluye 4 Sub / 2 Cabinas compacta de audio / cable de corriente) Valor de 7 a 18 días (Valor feria)"},30713205,"Sistema de Audio compacto Db Technologies Es 802 (Incluye 4 Sub / 2 Cabinas compacta de audio / cable de corriente) Valor de 7 a 18 días (Valor feria)",{"$f":"IF('FERIAS 3 DIAS'!G$3=TRUE,'FERIAS DE 7 DIAS EN ADELANTE'!E294/'FERIAS 3 DIAS'!I$3,E294)","v":3619980},3619980]
[{"$f":"CONCATENATE(B295:B513,\" \",C295:C513)","v":"3071348 Microfono Inalambrico de mano (Incluye Receptor de señal / cable XLR/ 2 baterias AA, no incluye instalación) Valor evento 1 día"},3071348,"Microfono Inalambrico de mano (Incluye Receptor de señal / cable XLR/ 2 baterias AA, no incluye instalación) Valor evento 1 día",{"$f":"IF('FERIAS 3 DIAS'!G$3=TRUE,'FERIAS DE 7 DIAS EN ADELANTE'!E295/'FERIAS 3 DIAS'!I$3,E295)","v":95795},95795]
[{"$f":"CONCATENATE(B296:B514,\" \",C296:C514)","v":"3071348 Microfono Inalambrico de mano (Incluye Receptor de señal / cable XLR/ 2 baterias AA, no incluye instalación) Valor evento 2 dias (Valor dia)"},3071348,"Microfono Inalambrico de mano (Incluye Receptor de señal / cable XLR/ 2 baterias AA, no incluye instalación) Valor evento 2 dias (Valor dia)",{"$f":"IF('FERIAS 3 DIAS'!G$3=TRUE,'FERIAS DE 7 DIAS EN ADELANTE'!E296/'FERIAS 3 DIAS'!I$3,E296)","v":95795},95795]
[{"$f":"CONCATENATE(B297:B515,\" \",C297:C515)","v":"3071348 Microfono Inalambrico de mano (Incluye Receptor de señal / cable XLR/ 2 baterias AA, no incluye instalación) Valor de 3 a 6 dias (Valor dia)"},3071348,"Microfono Inalambrico de mano (Incluye Receptor de señal / cable XLR/ 2 baterias AA, no incluye instalación) Valor de 3 a 6 dias (Valor dia)",{"$f":"IF('FERIAS 3 DIAS'!G$3=TRUE,'FERIAS DE 7 DIAS EN ADELANTE'!E297/'FERIAS 3 DIAS'!I$3,E297)","v":87465},87465]
[{"$f":"CONCATENATE(B298:B516,\" \",C298:C516)","v":"3071348 Microfono Inalambrico de mano (Incluye Receptor de señal / cable XLR/ 2 baterias AA, no incluye instalación) Valor de 7 a 18 días (Valor feria)"},3071348,"Microfono Inalambrico de mano (Incluye Receptor de señal / cable XLR/ 2 baterias AA, no incluye instalación) Valor de 7 a 18 días (Valor feria)",{"$f":"IF('FERIAS 3 DIAS'!G$3=TRUE,'FERIAS DE 7 DIAS EN ADELANTE'!E298/'FERIAS 3 DIAS'!I$3,E298)","v":623441},623441]
[{"$f":"CONCATENATE(B299:B517,\" \",C299:C517)","v":"3071349 Microfono Inalambrico de diadema (Incluye Receptor de señal / cable XLR / 2 baterias AA, no incluye instalación) Valor evento 1 día"},3071349,"Microfono Inalambrico de diadema (Incluye Receptor de señal / cable XLR / 2 baterias AA, no incluye instalación) Valor evento 1 día",{"$f":"IF('FERIAS 3 DIAS'!G$3=TRUE,'FERIAS DE 7 DIAS EN ADELANTE'!E299/'FERIAS 3 DIAS'!I$3,E299)","v":95795},95795]
[{"$f":"CONCATENATE(B300:B518,\" \",C300:C518)","v":"3071349 Microfono Inalambrico de diadema (Incluye Receptor de señal / cable XLR / 2 baterias AA, no incluye instalación) Valor evento 2 dias (Valor dia)"},3071349,"Microfono Inalambrico de diadema (Incluye Receptor de señal / cable XLR / 2 baterias AA, no incluye instalación) Valor evento 2 dias (Valor dia)",{"$f":"IF('FERIAS 3 DIAS'!G$3=TRUE,'FERIAS DE 7 DIAS EN ADELANTE'!E300/'FERIAS 3 DIAS'!I$3,E300)","v":95795},95795]
[{"$f":"CONCATENATE(B301:B519,\" \",C301:C519)","v":"3071349 Microfono Inalambrico de diadema (Incluye Receptor de señal / cable XLR / 2 baterias AA, no incluye instalación) Valor de 3 a 6 dias (Valor dia)"},3071349,"Microfono Inalambrico de diadema (Incluye Receptor de señal / cable XLR / 2 baterias AA, no incluye instalación) Valor de 3 a 6 dias (Valor dia)",{"$f":"IF('FERIAS 3 DIAS'!G$3=TRUE,'FERIAS DE 7 DIAS EN ADELANTE'!E301/'FERIAS 3 DIAS'!I$3,E301)","v":87465},87465]
[{"$f":"CONCATENATE(B302:B520,\" \",C302:C520)","v":"3071349 Microfono Inalambrico de diadema (Incluye Receptor de señal / cable XLR / 2 baterias AA, no incluye instalación) Valor de 7 a 18 días (Valor feria)"},3071349,"Microfono Inalambrico de diadema (Incluye Receptor de señal / cable XLR / 2 baterias AA, no incluye instalación) Valor de 7 a 18 días (Valor feria)",{"$f":"IF('FERIAS 3 DIAS'!G$3=TRUE,'FERIAS DE 7 DIAS EN ADELANTE'!E302/'FERIAS 3 DIAS'!I$3,E302)","v":623441},623441]
[{"$f":"CONCATENATE(B303:B521,\" \",C303:C521)","v":"30713206 Microfono alambrico (Incluye cable XLR, no incluye instalación) Valor evento 1 día"},30713206,"Microfono alambrico (Incluye cable XLR, no incluye instalación) Valor evento 1 día",{"$f":"IF('FERIAS 3 DIAS'!G$3=TRUE,'FERIAS DE 7 DIAS EN ADELANTE'!E303/'FERIAS 3 DIAS'!I$3,E303)","v":32725},32725]
[{"$f":"CONCATENATE(B304:B522,\" \",C304:C522)","v":"30713206 Microfono alambrico (Incluye cable XLR, no incluye instalación) Valor evento 2 dias (Valor dia)"},30713206,"Microfono alambrico (Incluye cable XLR, no incluye instalación) Valor evento 2 dias (Valor dia)",{"$f":"IF('FERIAS 3 DIAS'!G$3=TRUE,'FERIAS DE 7 DIAS EN ADELANTE'!E304/'FERIAS 3 DIAS'!I$3,E304)","v":32725},32725]
[{"$f":"CONCATENATE(B305:B523,\" \",C305:C523)","v":"30713206 Microfono alambrico (Incluye cable XLR, no incluye instalación) Valor de 3 a 6 dias (Valor dia)"},30713206,"Microfono alambrico (Incluye cable XLR, no incluye instalación) Valor de 3 a 6 dias (Valor dia)",{"$f":"IF('FERIAS 3 DIAS'!G$3=TRUE,'FERIAS DE 7 DIAS EN ADELANTE'!E305/'FERIAS 3 DIAS'!I$3,E305)","v":29393},29393]
[{"$f":"CONCATENATE(B306:B524,\" \",C306:C524)","v":"30713206 Microfono alambrico (Incluye cable XLR, no incluye instalación) Valor de 7 a 18 días (Valor feria)"},30713206,"Microfono alambrico (Incluye cable XLR, no incluye instalación) Valor de 7 a 18 días (Valor feria)",{"$f":"IF('FERIAS 3 DIAS'!G$3=TRUE,'FERIAS DE 7 DIAS EN ADELANTE'!E306/'FERIAS 3 DIAS'!I$3,E306)","v":205394},205394]
[{"$f":"CONCATENATE(B307:B525,\" \",C307:C525)","v":"30713207 Microfono Country Man (Incluye Receptor de señal / cable XLR / 2 baterias AA, no incluye instalación) Valor evento 1 día"},30713207,"Microfono Country Man (Incluye Receptor de señal / cable XLR / 2 baterias AA, no incluye instalación) Valor evento 1 día",{"$f":"IF('FERIAS 3 DIAS'!G$3=TRUE,'FERIAS DE 7 DIAS EN ADELANTE'!E307/'FERIAS 3 DIAS'!I$3,E307)","v":186592},186592]
[{"$f":"CONCATENATE(B308:B526,\" \",C308:C526)","v":"30713207 Microfono Country Man (Incluye Receptor de señal / cable XLR / 2 baterias AA, no incluye instalación) Valor evento 2 dias (Valor dia)"},30713207,"Microfono Country Man (Incluye Receptor de señal / cable XLR / 2 baterias AA, no incluye instalación) Valor evento 2 dias (Valor dia)",{"$f":"IF('FERIAS 3 DIAS'!G$3=TRUE,'FERIAS DE 7 DIAS EN ADELANTE'!E308/'FERIAS 3 DIAS'!I$3,E308)","v":186592},186592]
[{"$f":"CONCATENATE(B309:B527,\" \",C309:C527)","v":"30713207 Microfono Country Man (Incluye Receptor de señal / cable XLR / 2 baterias AA, no incluye instalación) Valor de 3 a 6 dias (Valor dia)"},30713207,"Microfono Country Man (Incluye Receptor de señal / cable XLR / 2 baterias AA, no incluye instalación) Valor de 3 a 6 dias (Valor dia)",{"$f":"IF('FERIAS 3 DIAS'!G$3=TRUE,'FERIAS DE 7 DIAS EN ADELANTE'!E309/'FERIAS 3 DIAS'!I$3,E309)","v":169099},169099]
[{"$f":"CONCATENATE(B310:B528,\" \",C310:C528)","v":"30713207 Microfono Country Man (Incluye Receptor de señal / cable XLR / 2 baterias AA, no incluye instalación) Valor de 7 a 18 días (Valor feria)"},30713207,"Microfono Country Man (Incluye Receptor de señal / cable XLR / 2 baterias AA, no incluye instalación) Valor de 7 a 18 días (Valor feria)",{"$f":"IF('FERIAS 3 DIAS'!G$3=TRUE,'FERIAS DE 7 DIAS EN ADELANTE'!E310/'FERIAS 3 DIAS'!I$3,E310)","v":1184050},1184050]
[{"$f":"CONCATENATE(B311:B529,\" \",C311:C529)","v":"3071283 Microfono Cuello de Ganso  (Incluye cable XLR, no incluye instalación) Valor evento 1 día"},3071283,"Microfono Cuello de Ganso  (Incluye cable XLR, no incluye instalación) Valor evento 1 día",{"$f":"IF('FERIAS 3 DIAS'!G$3=TRUE,'FERIAS DE 7 DIAS EN ADELANTE'!E311/'FERIAS 3 DIAS'!I$3,E311)","v":232764},232764]
[{"$f":"CONCATENATE(B312:B530,\" \",C312:C530)","v":"3071283 Microfono Cuello de Ganso  (Incluye cable XLR, no incluye instalación) Valor evento 2 dias (Valor dia)"},3071283,"Microfono Cuello de Ganso  (Incluye cable XLR, no incluye instalación) Valor evento 2 dias (Valor dia)",{"$f":"IF('FERIAS 3 DIAS'!G$3=TRUE,'FERIAS DE 7 DIAS EN ADELANTE'!E312/'FERIAS 3 DIAS'!I$3,E312)","v":232883},232883]
[{"$f":"CONCATENATE(B313:B531,\" \",C313:C531)","v":"3071283 Microfono Cuello de Ganso  (Incluye cable XLR, no incluye instalación) Valor de 3 a 6 dias (Valor dia)"},3071283,"Microfono Cuello de Ganso  (Incluye cable XLR, no incluye instalación) Valor de 3 a 6 dias (Valor dia)",{"$f":"IF('FERIAS 3 DIAS'!G$3=TRUE,'FERIAS DE 7 DIAS EN ADELANTE'!E313/'FERIAS 3 DIAS'!I$3,E313)","v":209559},209559]
[{"$f":"CONCATENATE(B314:B532,\" \",C314:C532)","v":"3071283 Microfono Cuello de Ganso  (Incluye cable XLR, no incluye instalación) Valor de 7 a 18 días (Valor feria)"},3071283,"Microfono Cuello de Ganso  (Incluye cable XLR, no incluye instalación) Valor de 7 a 18 días (Valor feria)",{"$f":"IF('FERIAS 3 DIAS'!G$3=TRUE,'FERIAS DE 7 DIAS EN ADELANTE'!E314/'FERIAS 3 DIAS'!I$3,E314)","v":1676472},1676472]
[{"$f":"CONCATENATE(B315:B533,\" \",C315:C533)","v":"30713208 Consola de Audio Analoga de 4CH (Se Requiere Operario) Valor evento 1 día"},30713208,"Consola de Audio Analoga de 4CH (Se Requiere Operario) Valor evento 1 día",{"$f":"IF('FERIAS 3 DIAS'!G$3=TRUE,'FERIAS DE 7 DIAS EN ADELANTE'!E315/'FERIAS 3 DIAS'!I$3,E315)","v":190400},190400]
[{"$f":"CONCATENATE(B316:B534,\" \",C316:C534)","v":"30713208 Consola de Audio Analoga de 4CH (Se Requiere Operario) Valor evento 2 dias (Valor dia)"},30713208,"Consola de Audio Analoga de 4CH (Se Requiere Operario) Valor evento 2 dias (Valor dia)",{"$f":"IF('FERIAS 3 DIAS'!G$3=TRUE,'FERIAS DE 7 DIAS EN ADELANTE'!E316/'FERIAS 3 DIAS'!I$3,E316)","v":190400},190400]
[{"$f":"CONCATENATE(B317:B535,\" \",C317:C535)","v":"30713208 Consola de Audio Analoga de 4CH (Se Requiere Operario) Valor de 3 a 6 dias (Valor dia)"},30713208,"Consola de Audio Analoga de 4CH (Se Requiere Operario) Valor de 3 a 6 dias (Valor dia)",{"$f":"IF('FERIAS 3 DIAS'!G$3=TRUE,'FERIAS DE 7 DIAS EN ADELANTE'!E317/'FERIAS 3 DIAS'!I$3,E317)","v":171360},171360]
[{"$f":"CONCATENATE(B318:B536,\" \",C318:C536)","v":"30713208 Consola de Audio Analoga de 4CH (Se Requiere Operario) Valor de 7 a 18 días (Valor feria"},30713208,"Consola de Audio Analoga de 4CH (Se Requiere Operario) Valor de 7 a 18 días (Valor feria",{"$f":"IF('FERIAS 3 DIAS'!G$3=TRUE,'FERIAS DE 7 DIAS EN ADELANTE'!E318/'FERIAS 3 DIAS'!I$3,E318)","v":2159136},2159136]
[{"$f":"CONCATENATE(B319:B537,\" \",C319:C537)","v":"30713208 Consola de Audio Analoga de 8CH (Se Requiere Operiario) Valor evento 1 día"},30713208,"Consola de Audio Analoga de 8CH (Se Requiere Operiario) Valor evento 1 día",{"$f":"IF('FERIAS 3 DIAS'!G$3=TRUE,'FERIAS DE 7 DIAS EN ADELANTE'!E319/'FERIAS 3 DIAS'!I$3,E319)","v":380800},380800]
[{"$f":"CONCATENATE(B320:B538,\" \",C320:C538)","v":"30713208 Consola de Audio Analoga de 8CH (Se Requiere Operiario) Valor evento 2 dias (Valor dia)"},30713208,"Consola de Audio Analoga de 8CH (Se Requiere Operiario) Valor evento 2 dias (Valor dia)",{"$f":"IF('FERIAS 3 DIAS'!G$3=TRUE,'FERIAS DE 7 DIAS EN ADELANTE'!E320/'FERIAS 3 DIAS'!I$3,E320)","v":380800},380800]
[{"$f":"CONCATENATE(B321:B539,\" \",C321:C539)","v":"30713208 Consola de Audio Analoga de 8CH (Se Requiere Operiario) Valor de 3 a 6 dias (Valor dia)"},30713208,"Consola de Audio Analoga de 8CH (Se Requiere Operiario) Valor de 3 a 6 dias (Valor dia)",{"$f":"IF('FERIAS 3 DIAS'!G$3=TRUE,'FERIAS DE 7 DIAS EN ADELANTE'!E321/'FERIAS 3 DIAS'!I$3,E321)","v":342720},342720]
[{"$f":"CONCATENATE(B322:B540,\" \",C322:C540)","v":"30713208 Consola de Audio Analoga de 8CH (Se Requiere Operiario) Valor de 7 a 18 días (Valor feria"},30713208,"Consola de Audio Analoga de 8CH (Se Requiere Operiario) Valor de 7 a 18 días (Valor feria",{"$f":"IF('FERIAS 3 DIAS'!G$3=TRUE,'FERIAS DE 7 DIAS EN ADELANTE'!E322/'FERIAS 3 DIAS'!I$3,E322)","v":3842510},3842510]
[{"$f":"CONCATENATE(B323:B541,\" \",C323:C541)","v":"30713208 Cabina Activa (Incluye Cable conexión de audio RCA - Plug 1/4 / Cable de corriente) Valor evento 1 día"},30713208,"Cabina Activa (Incluye Cable conexión de audio RCA - Plug 1/4 / Cable de corriente) Valor evento 1 día",{"$f":"IF('FERIAS 3 DIAS'!G$3=TRUE,'FERIAS DE 7 DIAS EN ADELANTE'!E323/'FERIAS 3 DIAS'!I$3,E323)","v":111979},111979]
[{"$f":"CONCATENATE(B324:B542,\" \",C324:C542)","v":"30713208 Cabina Activa (Incluye Cable conexión de audio RCA - Plug 1/4 / Cable de corriente) Valor evento 2 dias (Valor dia)"},30713208,"Cabina Activa (Incluye Cable conexión de audio RCA - Plug 1/4 / Cable de corriente) Valor evento 2 dias (Valor dia)",{"$f":"IF('FERIAS 3 DIAS'!G$3=TRUE,'FERIAS DE 7 DIAS EN ADELANTE'!E324/'FERIAS 3 DIAS'!I$3,E324)","v":111979},111979]
[{"$f":"CONCATENATE(B325:B535,\" \",C325:C535)","v":"30713208 Cabina Activa (Incluye Cable conexión de audio RCA - Plug 1/4 / Cable de corriente) Valor de 3 a 6 dias (Valor dia)"},30713208,"Cabina Activa (Incluye Cable conexión de audio RCA - Plug 1/4 / Cable de corriente) Valor de 3 a 6 dias (Valor dia)",{"$f":"IF('FERIAS 3 DIAS'!G$3=TRUE,'FERIAS DE 7 DIAS EN ADELANTE'!E325/'FERIAS 3 DIAS'!I$3,E325)","v":101507},101507]
[{"$f":"CONCATENATE(B326:B536,\" \",C326:C536)","v":"30713208 Cabina Activa (Incluye Cable conexión de audio RCA - Plug 1/4 / Cable de corriente) Valor de 7 a 18 días (Valor feria)"},30713208,"Cabina Activa (Incluye Cable conexión de audio RCA - Plug 1/4 / Cable de corriente) Valor de 7 a 18 días (Valor feria)",{"$f":"IF('FERIAS 3 DIAS'!G$3=TRUE,'FERIAS DE 7 DIAS EN ADELANTE'!E326/'FERIAS 3 DIAS'!I$3,E326)","v":710073},710073]
[{"$f":"CONCATENATE(B327:B537,\" \",C327:C537)","v":"3071293 Caja para periodistas conexión canon de 10 CH / (No incluye operario permanente) Valor evento 1 día"},3071293,"Caja para periodistas conexión canon de 10 CH / (No incluye operario permanente) Valor evento 1 día",{"$f":"IF('FERIAS 3 DIAS'!G$3=TRUE,'FERIAS DE 7 DIAS EN ADELANTE'!E327/'FERIAS 3 DIAS'!I$3,E327)","v":122570},122570]
[{"$f":"CONCATENATE(B328:B538,\" \",C328:C538)","v":"3071293 Caja para periodistas conexión canon de 10 CH / (No incluye operario permanente) Valor evento 2 dias (Valor dia)"},3071293,"Caja para periodistas conexión canon de 10 CH / (No incluye operario permanente) Valor evento 2 dias (Valor dia)",{"$f":"IF('FERIAS 3 DIAS'!G$3=TRUE,'FERIAS DE 7 DIAS EN ADELANTE'!E328/'FERIAS 3 DIAS'!I$3,E328)","v":122570},122570]
[{"$f":"CONCATENATE(B329:B539,\" \",C329:C539)","v":"3071293 Caja para periodistas conexión canon de 10 CH / (No incluye operario permanente) Valor de 3 a 6 dias (Valor dia)"},3071293,"Caja para periodistas conexión canon de 10 CH / (No incluye operario permanente) Valor de 3 a 6 dias (Valor dia)",{"$f":"IF('FERIAS 3 DIAS'!G$3=TRUE,'FERIAS DE 7 DIAS EN ADELANTE'!E329/'FERIAS 3 DIAS'!I$3,E329)","v":110313},110313]
[{"$f":"CONCATENATE(B330:B540,\" \",C330:C540)","v":"3071293 Caja para periodistas conexión canon de 10 CH / (No incluye operario permanente) Valor de 7 a 18 días (Valor feria)"},3071293,"Caja para periodistas conexión canon de 10 CH / (No incluye operario permanente) Valor de 7 a 18 días (Valor feria)",{"$f":"IF('FERIAS 3 DIAS'!G$3=TRUE,'FERIAS DE 7 DIAS EN ADELANTE'!E330/'FERIAS 3 DIAS'!I$3,E330)","v":882147},882147]
[{"$f":"CONCATENATE(B331:B541,\" \",C331:C541)","v":"3070411 Sonido de 1 a 100 Pax (Incluye 2 cabinas activas / 1 Microfono alambrico / cable XLR / 2 tripodes) (No incluye operario permanente) Valor evento 1 día"},3070411,"Sonido de 1 a 100 Pax (Incluye 2 cabinas activas / 1 Microfono alambrico / cable XLR / 2 tripodes) (No incluye operario permanente) Valor evento 1 día",{"$f":"IF('FERIAS 3 DIAS'!G$3=TRUE,'FERIAS DE 7 DIAS EN ADELANTE'!E331/'FERIAS 3 DIAS'!I$3,E331)","v":192780},192780]
[{"$f":"CONCATENATE(B332:B542,\" \",C332:C542)","v":"3070411 Sonido de 1 a 100 Pax (Incluye 2 cabinas activas / 1 Microfono alambrico / cable XLR / 2 tripodes) (No incluye operario permanente) Valor evento 2 dias (Valor dia)"},3070411,"Sonido de 1 a 100 Pax (Incluye 2 cabinas activas / 1 Microfono alambrico / cable XLR / 2 tripodes) (No incluye operario permanente) Valor evento 2 dias (Valor dia)",{"$f":"IF('FERIAS 3 DIAS'!G$3=TRUE,'FERIAS DE 7 DIAS EN ADELANTE'!E332/'FERIAS 3 DIAS'!I$3,E332)","v":192780},192780]
[{"$f":"CONCATENATE(B333:B543,\" \",C333:C543)","v":"3070411 Sonido de 1 a 100 Pax (Incluye 2 cabinas activas / 1 Microfono alambrico / cable XLR / 2 tripodes) (No incluye operario permanente) Valor de 3 a 6 dias (Valor dia)"},3070411,"Sonido de 1 a 100 Pax (Incluye 2 cabinas activas / 1 Microfono alambrico / cable XLR / 2 tripodes) (No incluye operario permanente) Valor de 3 a 6 dias (Valor dia)",{"$f":"IF('FERIAS 3 DIAS'!G$3=TRUE,'FERIAS DE 7 DIAS EN ADELANTE'!E333/'FERIAS 3 DIAS'!I$3,E333)","v":175763},175763]
[{"$f":"CONCATENATE(B334:B544,\" \",C334:C544)","v":"3070411 Sonido de 1 a 100 Pax (Incluye 2 cabinas activas / 1 Microfono alambrico / cable XLR / 2 tripodes) (No incluye operario permanente) Valor de 7 a 18 días (Valor feria)"},3070411,"Sonido de 1 a 100 Pax (Incluye 2 cabinas activas / 1 Microfono alambrico / cable XLR / 2 tripodes) (No incluye operario permanente) Valor de 7 a 18 días (Valor feria)",{"$f":"IF('FERIAS 3 DIAS'!G$3=TRUE,'FERIAS DE 7 DIAS EN ADELANTE'!E334/'FERIAS 3 DIAS'!I$3,E334)","v":1254498},1254498]
[{"$f":"CONCATENATE(B335:B545,\" \",C335:C545)","v":"3071347 Sonido de 100 a 200 Pax (Incluye 4 cabinas activas / 2 Microfono alambrico / 2 cables XLR / 4 tripodes) (No incluye operario permanente) Valor evento 1 día"},3071347,"Sonido de 100 a 200 Pax (Incluye 4 cabinas activas / 2 Microfono alambrico / 2 cables XLR / 4 tripodes) (No incluye operario permanente) Valor evento 1 día",{"$f":"IF('FERIAS 3 DIAS'!G$3=TRUE,'FERIAS DE 7 DIAS EN ADELANTE'!E335/'FERIAS 3 DIAS'!I$3,E335)","v":286076},286076]
[{"$f":"CONCATENATE(B336:B546,\" \",C336:C546)","v":"3071347 Sonido de 100 a 200 Pax (Incluye 4 cabinas activas / 2 Microfono alambrico / 2 cables XLR / 4 tripodes) (No incluye operario permanente) Valor evento 2 dias (Valor dia)"},3071347,"Sonido de 100 a 200 Pax (Incluye 4 cabinas activas / 2 Microfono alambrico / 2 cables XLR / 4 tripodes) (No incluye operario permanente) Valor evento 2 dias (Valor dia)",{"$f":"IF('FERIAS 3 DIAS'!G$3=TRUE,'FERIAS DE 7 DIAS EN ADELANTE'!E336/'FERIAS 3 DIAS'!I$3,E336)","v":286076},286076]
[{"$f":"CONCATENATE(B337:B547,\" \",C337:C547)","v":"3071347 Sonido de 100 a 200 Pax (Incluye 4 cabinas activas / 2 Microfono alambrico / 2 cables XLR / 4 tripodes) (No incluye operario permanente) Valor de 3 a 6 dias (Valor dia)"},3071347,"Sonido de 100 a 200 Pax (Incluye 4 cabinas activas / 2 Microfono alambrico / 2 cables XLR / 4 tripodes) (No incluye operario permanente) Valor de 3 a 6 dias (Valor dia)",{"$f":"IF('FERIAS 3 DIAS'!G$3=TRUE,'FERIAS DE 7 DIAS EN ADELANTE'!E337/'FERIAS 3 DIAS'!I$3,E337)","v":259777},259777]
[{"$f":"CONCATENATE(B338:B548,\" \",C338:C548)","v":"3071347 Sonido de 100 a 200 Pax (Incluye 4 cabinas activas / 2 Microfono alambrico / 2 cables XLR / 4 tripodes) (No incluye operario permanente) Valor de 7 a 18 días (Valor feria)"},3071347,"Sonido de 100 a 200 Pax (Incluye 4 cabinas activas / 2 Microfono alambrico / 2 cables XLR / 4 tripodes) (No incluye operario permanente) Valor de 7 a 18 días (Valor feria)",{"$f":"IF('FERIAS 3 DIAS'!G$3=TRUE,'FERIAS DE 7 DIAS EN ADELANTE'!E338/'FERIAS 3 DIAS'!I$3,E338)","v":1854496},1854496]
[{"$f":"CONCATENATE(B339:B549,\" \",C339:C549)","v":"3071294 Sonido de 200 a 300 Pax (Incluye 6 cabinas activas / 2 Microfono alambrico / 2 cables XLR / 6 tripodes) (No incluye operario permanente) Valor evento 1 día"},3071294,"Sonido de 200 a 300 Pax (Incluye 6 cabinas activas / 2 Microfono alambrico / 2 cables XLR / 6 tripodes) (No incluye operario permanente) Valor evento 1 día",{"$f":"IF('FERIAS 3 DIAS'!G$3=TRUE,'FERIAS DE 7 DIAS EN ADELANTE'!E339/'FERIAS 3 DIAS'!I$3,E339)","v":528479},528479]
[{"$f":"CONCATENATE(B340:B550,\" \",C340:C550)","v":"3071294 Sonido de 200 a 300 Pax (Incluye 6 cabinas activas / 2 Microfono alambrico / 2 cables XLR / 6 tripodes) (No incluye operario permanente) Valor evento 2 dias (Valor dia)"},3071294,"Sonido de 200 a 300 Pax (Incluye 6 cabinas activas / 2 Microfono alambrico / 2 cables XLR / 6 tripodes) (No incluye operario permanente) Valor evento 2 dias (Valor dia)",{"$f":"IF('FERIAS 3 DIAS'!G$3=TRUE,'FERIAS DE 7 DIAS EN ADELANTE'!E340/'FERIAS 3 DIAS'!I$3,E340)","v":528479},528479]
[{"$f":"CONCATENATE(B341:B551,\" \",C341:C551)","v":"3071294 Sonido de 200 a 300 Pax (Incluye 6 cabinas activas / 2 Microfono alambrico / 2 cables XLR / 6 tripodes) (No incluye operario permanente) Valor de 3 a 6 dias (Valor dia)"},3071294,"Sonido de 200 a 300 Pax (Incluye 6 cabinas activas / 2 Microfono alambrico / 2 cables XLR / 6 tripodes) (No incluye operario permanente) Valor de 3 a 6 dias (Valor dia)",{"$f":"IF('FERIAS 3 DIAS'!G$3=TRUE,'FERIAS DE 7 DIAS EN ADELANTE'!E341/'FERIAS 3 DIAS'!I$3,E341)","v":482426},482426]
[{"$f":"CONCATENATE(B342:B552,\" \",C342:C552)","v":"3071294 Sonido de 200 a 300 Pax (Incluye 6 cabinas activas / 2 Microfono alambrico / 2 cables XLR / 6 tripodes) (No incluye operario permanente) Valor de 7 a 18 días (Valor feria)"},3071294,"Sonido de 200 a 300 Pax (Incluye 6 cabinas activas / 2 Microfono alambrico / 2 cables XLR / 6 tripodes) (No incluye operario permanente) Valor de 7 a 18 días (Valor feria)",{"$f":"IF('FERIAS 3 DIAS'!G$3=TRUE,'FERIAS DE 7 DIAS EN ADELANTE'!E342/'FERIAS 3 DIAS'!I$3,E342)","v":3445288},3445288]
[{"$f":"CONCATENATE(B343:B553,\" \",C343:C553)","v":"3071295 Sonido de 300 a 400 Pax (Incluye 8 cabinas activas / 3 Microfono alambrico / 3 cables XLR / 8 tripodes) (No incluye operario permanente) Valor evento 1 día"},3071295,"Sonido de 300 a 400 Pax (Incluye 8 cabinas activas / 3 Microfono alambrico / 3 cables XLR / 8 tripodes) (No incluye operario permanente) Valor evento 1 día",{"$f":"IF('FERIAS 3 DIAS'!G$3=TRUE,'FERIAS DE 7 DIAS EN ADELANTE'!E343/'FERIAS 3 DIAS'!I$3,E343)","v":659141},659141]
[{"$f":"CONCATENATE(B344:B554,\" \",C344:C554)","v":"3071295 Sonido de 300 a 400 Pax (Incluye 8 cabinas activas / 3 Microfono alambrico / 3 cables XLR / 8 tripodes) (No incluye operario permanente) Valor evento 2 dias (Valor dia)"},3071295,"Sonido de 300 a 400 Pax (Incluye 8 cabinas activas / 3 Microfono alambrico / 3 cables XLR / 8 tripodes) (No incluye operario permanente) Valor evento 2 dias (Valor dia)",{"$f":"IF('FERIAS 3 DIAS'!G$3=TRUE,'FERIAS DE 7 DIAS EN ADELANTE'!E344/'FERIAS 3 DIAS'!I$3,E344)","v":659141},659141]
[{"$f":"CONCATENATE(B345:B555,\" \",C345:C555)","v":"3071295 Sonido de 300 a 400 Pax (Incluye 8 cabinas activas / 3 Microfono alambrico / 3 cables XLR / 8 tripodes) (No incluye operario permanente) Valor de 3 a 6 dias (Valor dia)"},3071295,"Sonido de 300 a 400 Pax (Incluye 8 cabinas activas / 3 Microfono alambrico / 3 cables XLR / 8 tripodes) (No incluye operario permanente) Valor de 3 a 6 dias (Valor dia)",{"$f":"IF('FERIAS 3 DIAS'!G$3=TRUE,'FERIAS DE 7 DIAS EN ADELANTE'!E345/'FERIAS 3 DIAS'!I$3,E345)","v":597142},597142]
[{"$f":"CONCATENATE(B346:B556,\" \",C346:C556)","v":"3071295 Sonido de 300 a 400 Pax (Incluye 8 cabinas activas / 3 Microfono alambrico / 3 cables XLR / 8 tripodes) (No incluye operario permanente) Valor de 7 a 18 días (Valor feria)"},3071295,"Sonido de 300 a 400 Pax (Incluye 8 cabinas activas / 3 Microfono alambrico / 3 cables XLR / 8 tripodes) (No incluye operario permanente) Valor de 7 a 18 días (Valor feria)",{"$f":"IF('FERIAS 3 DIAS'!G$3=TRUE,'FERIAS DE 7 DIAS EN ADELANTE'!E346/'FERIAS 3 DIAS'!I$3,E346)","v":4264127},4264127]
[{"$f":"CONCATENATE(B347:B557,\" \",C347:C557)","v":"3071296 Sonido de 400 a 500 Pax (Incluye 8 cabinas activas / 4 Microfono alambrico / 4 cables XLR / 1 consola analoga de 4CH / 8 tripodes) (No incluye operario permanente) Valor evento 1 día"},3071296,"Sonido de 400 a 500 Pax (Incluye 8 cabinas activas / 4 Microfono alambrico / 4 cables XLR / 1 consola analoga de 4CH / 8 tripodes) (No incluye operario permanente) Valor evento 1 día",{"$f":"IF('FERIAS 3 DIAS'!G$3=TRUE,'FERIAS DE 7 DIAS EN ADELANTE'!E347/'FERIAS 3 DIAS'!I$3,E347)","v":684012},684012]
[{"$f":"CONCATENATE(B348:B558,\" \",C348:C558)","v":"3071296 Sonido de 400 a 500 Pax (Incluye 8 cabinas activas / 4 Microfono alambrico / 4 cables XLR / 1 consola analoga de 4CH / 8 tripodes) (No incluye operario permanente) Valor evento 2 dias (Valor dia)"},3071296,"Sonido de 400 a 500 Pax (Incluye 8 cabinas activas / 4 Microfono alambrico / 4 cables XLR / 1 consola analoga de 4CH / 8 tripodes) (No incluye operario permanente) Valor evento 2 dias (Valor dia)",{"$f":"IF('FERIAS 3 DIAS'!G$3=TRUE,'FERIAS DE 7 DIAS EN ADELANTE'!E348/'FERIAS 3 DIAS'!I$3,E348)","v":684012},684012]
[{"$f":"CONCATENATE(B349:B559,\" \",C349:C559)","v":"3071296 Sonido de 400 a 500 Pax (Incluye 8 cabinas activas / 4 Microfono alambrico / 4 cables XLR / 1 consola analoga de 4CH / 8 tripodes) (No incluye operario permanente) Valor de 3 a 6 dias (Valor dia)"},3071296,"Sonido de 400 a 500 Pax (Incluye 8 cabinas activas / 4 Microfono alambrico / 4 cables XLR / 1 consola analoga de 4CH / 8 tripodes) (No incluye operario permanente) Valor de 3 a 6 dias (Valor dia)",{"$f":"IF('FERIAS 3 DIAS'!G$3=TRUE,'FERIAS DE 7 DIAS EN ADELANTE'!E349/'FERIAS 3 DIAS'!I$3,E349)","v":622013},622013]
[{"$f":"CONCATENATE(B350:B560,\" \",C350:C560)","v":"3071296 Sonido de 400 a 500 Pax (Incluye 8 cabinas activas / 4 Microfono alambrico / 4 cables XLR / 1 consola analoga de 4CH / 8 tripodes) (No incluye operario permanente) Valor de 7 a 18 días (Valor feria)"},3071296,"Sonido de 400 a 500 Pax (Incluye 8 cabinas activas / 4 Microfono alambrico / 4 cables XLR / 1 consola analoga de 4CH / 8 tripodes) (No incluye operario permanente) Valor de 7 a 18 días (Valor feria)",{"$f":"IF('FERIAS 3 DIAS'!G$3=TRUE,'FERIAS DE 7 DIAS EN ADELANTE'!E350/'FERIAS 3 DIAS'!I$3,E350)","v":4442032},4442032]
[{"$f":"CONCATENATE(B351:B561,\" \",C351:C561)","v":"3071297 Sonido de 500 a 800 Pax - Sistema Line Array sin estructura (Incluye 4 cajas Hi -Mid / 2 Subs) servicio sujeto a reunion tecnica de produccion Valor evento 1 día"},3071297,"Sonido de 500 a 800 Pax - Sistema Line Array sin estructura (Incluye 4 cajas Hi -Mid / 2 Subs) servicio sujeto a reunion tecnica de produccion Valor evento 1 día",{"$f":"IF('FERIAS 3 DIAS'!G$3=TRUE,'FERIAS DE 7 DIAS EN ADELANTE'!E351/'FERIAS 3 DIAS'!I$3,E351)","v":1467389},1467389]
[{"$f":"CONCATENATE(B352:B562,\" \",C352:C562)","v":"3071297 Sonido de 500 a 800 Pax - Sistema Line Array sin estructura (Incluye 4 cajas Hi -Mid / 2 Subs) servicio sujeto a reunion tecnica de produccion Valor evento 2 dias (Valor dia)"},3071297,"Sonido de 500 a 800 Pax - Sistema Line Array sin estructura (Incluye 4 cajas Hi -Mid / 2 Subs) servicio sujeto a reunion tecnica de produccion Valor evento 2 dias (Valor dia)",{"$f":"IF('FERIAS 3 DIAS'!G$3=TRUE,'FERIAS DE 7 DIAS EN ADELANTE'!E352/'FERIAS 3 DIAS'!I$3,E352)","v":1467389},1467389]
[{"$f":"CONCATENATE(B353:B563,\" \",C353:C563)","v":"3071297 Sonido de 500 a 800 Pax - Sistema Line Array sin estructura (Incluye 4 cajas Hi -Mid / 2 Subs) servicio sujeto a reunion tecnica de produccion Valor de 3 a 6 dias (Valor dia)"},3071297,"Sonido de 500 a 800 Pax - Sistema Line Array sin estructura (Incluye 4 cajas Hi -Mid / 2 Subs) servicio sujeto a reunion tecnica de produccion Valor de 3 a 6 dias (Valor dia)",{"$f":"IF('FERIAS 3 DIAS'!G$3=TRUE,'FERIAS DE 7 DIAS EN ADELANTE'!E353/'FERIAS 3 DIAS'!I$3,E353)","v":1336846},1336846]
[{"$f":"CONCATENATE(B354:B564,\" \",C354:C564)","v":"3071297 Sonido de 500 a 800 Pax - Sistema Line Array sin estructura (Incluye 4 cajas Hi -Mid / 2 Subs) servicio sujeto a reunion tecnica de produccion Valor de 7 a 18 días (Valor feria)"},3071297,"Sonido de 500 a 800 Pax - Sistema Line Array sin estructura (Incluye 4 cajas Hi -Mid / 2 Subs) servicio sujeto a reunion tecnica de produccion Valor de 7 a 18 días (Valor feria)",{"$f":"IF('FERIAS 3 DIAS'!G$3=TRUE,'FERIAS DE 7 DIAS EN ADELANTE'!E354/'FERIAS 3 DIAS'!I$3,E354)","v":9568552},9568552]
[{"$f":"CONCATENATE(B355:B565,\" \",C355:C565)","v":"3071298 Sonido de 800 a 1500 Pax - Sistema Line Array sin estructura (Incluye 8 cajas Hi -Mid / 2 Subs) servicio sujeto a reunion tecnica de produccion Valor evento 1 día"},3071298,"Sonido de 800 a 1500 Pax - Sistema Line Array sin estructura (Incluye 8 cajas Hi -Mid / 2 Subs) servicio sujeto a reunion tecnica de produccion Valor evento 1 día",{"$f":"IF('FERIAS 3 DIAS'!G$3=TRUE,'FERIAS DE 7 DIAS EN ADELANTE'!E355/'FERIAS 3 DIAS'!I$3,E355)","v":2337874},2337874]
[{"$f":"CONCATENATE(B356:B566,\" \",C356:C566)","v":"3071298 Sonido de 800 a 1500 Pax - Sistema Line Array sin estructura (Incluye 8 cajas Hi -Mid / 2 Subs) servicio sujeto a reunion tecnica de produccion Valor evento 2 dias (Valor dia)"},3071298,"Sonido de 800 a 1500 Pax - Sistema Line Array sin estructura (Incluye 8 cajas Hi -Mid / 2 Subs) servicio sujeto a reunion tecnica de produccion Valor evento 2 dias (Valor dia)",{"$f":"IF('FERIAS 3 DIAS'!G$3=TRUE,'FERIAS DE 7 DIAS EN ADELANTE'!E356/'FERIAS 3 DIAS'!I$3,E356)","v":2337874},2337874]
[{"$f":"CONCATENATE(B357:B567,\" \",C357:C567)","v":"3071298 Sonido de 800 a 1500 Pax - Sistema Line Array sin estructura (Incluye 8 cajas Hi -Mid / 2 Subs) servicio sujeto a reunion tecnica de produccion Valor de 3 a 6 dias (Valor dia)"},3071298,"Sonido de 800 a 1500 Pax - Sistema Line Array sin estructura (Incluye 8 cajas Hi -Mid / 2 Subs) servicio sujeto a reunion tecnica de produccion Valor de 3 a 6 dias (Valor dia)",{"$f":"IF('FERIAS 3 DIAS'!G$3=TRUE,'FERIAS DE 7 DIAS EN ADELANTE'!E357/'FERIAS 3 DIAS'!I$3,E357)","v":2104158},2104158]
[{"$f":"CONCATENATE(B358:B568,\" \",C358:C568)","v":"3071298 Sonido de 800 a 1500 Pax - Sistema Line Array sin estructura (Incluye 8 cajas Hi -Mid / 2 Subs) servicio sujeto a reunion tecnica de produccion Valor de 7 a 18 días (Valor feria)"},3071298,"Sonido de 800 a 1500 Pax - Sistema Line Array sin estructura (Incluye 8 cajas Hi -Mid / 2 Subs) servicio sujeto a reunion tecnica de produccion Valor de 7 a 18 días (Valor feria)",{"$f":"IF('FERIAS 3 DIAS'!G$3=TRUE,'FERIAS DE 7 DIAS EN ADELANTE'!E358/'FERIAS 3 DIAS'!I$3,E358)","v":16832669},16832669]
[{"$f":"CONCATENATE(B359:B569,\" \",C359:C569)","v":"3071299 Sonido de 1500 a 2500 Pax - Sistema Line Array sin estructura (Incluye 12 cajas Hi -Mid / 4 Subs) servicio sujeto a reunion tecnica de produccion Valor evento 1 día"},3071299,"Sonido de 1500 a 2500 Pax - Sistema Line Array sin estructura (Incluye 12 cajas Hi -Mid / 4 Subs) servicio sujeto a reunion tecnica de produccion Valor evento 1 día",{"$f":"IF('FERIAS 3 DIAS'!G$3=TRUE,'FERIAS DE 7 DIAS EN ADELANTE'!E359/'FERIAS 3 DIAS'!I$3,E359)","v":2611455},2611455]
[{"$f":"CONCATENATE(B360:B570,\" \",C360:C570)","v":"3071299 Sonido de 1500 a 2500 Pax - Sistema Line Array sin estructura (Incluye 12 cajas Hi -Mid / 4 Subs) servicio sujeto a reunion tecnica de produccion Valor evento 2 dias (Valor dia)"},3071299,"Sonido de 1500 a 2500 Pax - Sistema Line Array sin estructura (Incluye 12 cajas Hi -Mid / 4 Subs) servicio sujeto a reunion tecnica de produccion Valor evento 2 dias (Valor dia)",{"$f":"IF('FERIAS 3 DIAS'!G$3=TRUE,'FERIAS DE 7 DIAS EN ADELANTE'!E360/'FERIAS 3 DIAS'!I$3,E360)","v":2611455},2611455]
[{"$f":"CONCATENATE(B361:B571,\" \",C361:C571)","v":"3071299 Sonido de 1500 a 2500 Pax - Sistema Line Array sin estructura (Incluye 12 cajas Hi -Mid / 4 Subs) servicio sujeto a reunion tecnica de produccion Valor de 3 a 6 dias (Valor dia)"},3071299,"Sonido de 1500 a 2500 Pax - Sistema Line Array sin estructura (Incluye 12 cajas Hi -Mid / 4 Subs) servicio sujeto a reunion tecnica de produccion Valor de 3 a 6 dias (Valor dia)",{"$f":"IF('FERIAS 3 DIAS'!G$3=TRUE,'FERIAS DE 7 DIAS EN ADELANTE'!E361/'FERIAS 3 DIAS'!I$3,E361)","v":2350369},2350369]
[{"$f":"CONCATENATE(B362:B572,\" \",C362:C572)","v":"3071299 Sonido de 1500 a 2500 Pax - Sistema Line Array sin estructura (Incluye 12 cajas Hi -Mid / 4 Subs) servicio sujeto a reunion tecnica de produccion Valor de 7 a 18 días (Valor feria)"},3071299,"Sonido de 1500 a 2500 Pax - Sistema Line Array sin estructura (Incluye 12 cajas Hi -Mid / 4 Subs) servicio sujeto a reunion tecnica de produccion Valor de 7 a 18 días (Valor feria)",{"$f":"IF('FERIAS 3 DIAS'!G$3=TRUE,'FERIAS DE 7 DIAS EN ADELANTE'!E362/'FERIAS 3 DIAS'!I$3,E362)","v":18802476},18802476]
[{"$f":"CONCATENATE(B363:B573,\" \",C363:C573)","v":"3071258 Sonido de 2500 a 3500 Pax - Sistema Line Array sin estructura (Incluye 16 cajas Hi -Mid / 6 Subs) servicio sujeto a reunion tecnica de produccion Valor evento 1 día"},3071258,"Sonido de 2500 a 3500 Pax - Sistema Line Array sin estructura (Incluye 16 cajas Hi -Mid / 6 Subs) servicio sujeto a reunion tecnica de produccion Valor evento 1 día",{"$f":"IF('FERIAS 3 DIAS'!G$3=TRUE,'FERIAS DE 7 DIAS EN ADELANTE'!E363/'FERIAS 3 DIAS'!I$3,E363)","v":3158617},3158617]
[{"$f":"CONCATENATE(B364:B574,\" \",C364:C574)","v":"3071258 Sonido de 2500 a 3500 Pax - Sistema Line Array sin estructura (Incluye 16 cajas Hi -Mid / 6 Subs) servicio sujeto a reunion tecnica de produccion Valor evento 2 dias (Valor dia)"},3071258,"Sonido de 2500 a 3500 Pax - Sistema Line Array sin estructura (Incluye 16 cajas Hi -Mid / 6 Subs) servicio sujeto a reunion tecnica de produccion Valor evento 2 dias (Valor dia)",{"$f":"IF('FERIAS 3 DIAS'!G$3=TRUE,'FERIAS DE 7 DIAS EN ADELANTE'!E364/'FERIAS 3 DIAS'!I$3,E364)","v":3158617},3158617]
[{"$f":"CONCATENATE(B365:B575,\" \",C365:C575)","v":"3071258 Sonido de 2500 a 3500 Pax - Sistema Line Array sin estructura (Incluye 16 cajas Hi -Mid / 6 Subs) servicio sujeto a reunion tecnica de produccion Valor de 3 a 6 dias (Valor dia)"},3071258,"Sonido de 2500 a 3500 Pax - Sistema Line Array sin estructura (Incluye 16 cajas Hi -Mid / 6 Subs) servicio sujeto a reunion tecnica de produccion Valor de 3 a 6 dias (Valor dia)",{"$f":"IF('FERIAS 3 DIAS'!G$3=TRUE,'FERIAS DE 7 DIAS EN ADELANTE'!E365/'FERIAS 3 DIAS'!I$3,E365)","v":2842791},2842791]
[{"$f":"CONCATENATE(B366:B576,\" \",C366:C576)","v":"3071258 Sonido de 2500 a 3500 Pax - Sistema Line Array sin estructura (Incluye 16 cajas Hi -Mid / 6 Subs) servicio sujeto a reunion tecnica de produccion Valor de 7 a 18 días (Valor feria)"},3071258,"Sonido de 2500 a 3500 Pax - Sistema Line Array sin estructura (Incluye 16 cajas Hi -Mid / 6 Subs) servicio sujeto a reunion tecnica de produccion Valor de 7 a 18 días (Valor feria)",{"$f":"IF('FERIAS 3 DIAS'!G$3=TRUE,'FERIAS DE 7 DIAS EN ADELANTE'!E366/'FERIAS 3 DIAS'!I$3,E366)","v":22742090},22742090]
[{"$f":"CONCATENATE(B367:B577,\" \",C367:C577)","v":"3071259 Sonido de 3500 a 4500 Pax - Sistema Line Array sin estructura (Incluye 20 cajas Hi -Mid / 8 Subs) servicio sujeto a reunion tecnica de produccion Valor evento 1 día"},3071259,"Sonido de 3500 a 4500 Pax - Sistema Line Array sin estructura (Incluye 20 cajas Hi -Mid / 8 Subs) servicio sujeto a reunion tecnica de produccion Valor evento 1 día",{"$f":"IF('FERIAS 3 DIAS'!G$3=TRUE,'FERIAS DE 7 DIAS EN ADELANTE'!E367/'FERIAS 3 DIAS'!I$3,E367)","v":3432198},3432198]
[{"$f":"CONCATENATE(B368:B578,\" \",C368:C578)","v":"3071259 Sonido de 3500 a 4500 Pax - Sistema Line Array sin estructura (Incluye 20 cajas Hi -Mid / 8 Subs) servicio sujeto a reunion tecnica de produccion Valor evento 2 dias (Valor dia)"},3071259,"Sonido de 3500 a 4500 Pax - Sistema Line Array sin estructura (Incluye 20 cajas Hi -Mid / 8 Subs) servicio sujeto a reunion tecnica de produccion Valor evento 2 dias (Valor dia)",{"$f":"IF('FERIAS 3 DIAS'!G$3=TRUE,'FERIAS DE 7 DIAS EN ADELANTE'!E368/'FERIAS 3 DIAS'!I$3,E368)","v":3432198},3432198]
[{"$f":"CONCATENATE(B369:B579,\" \",C369:C579)","v":"3071259 Sonido de 3500 a 4500 Pax - Sistema Line Array sin estructura (Incluye 20 cajas Hi -Mid / 8 Subs) servicio sujeto a reunion tecnica de produccion Valor de 3 a 6 dias (Valor dia)"},3071259,"Sonido de 3500 a 4500 Pax - Sistema Line Array sin estructura (Incluye 20 cajas Hi -Mid / 8 Subs) servicio sujeto a reunion tecnica de produccion Valor de 3 a 6 dias (Valor dia)",{"$f":"IF('FERIAS 3 DIAS'!G$3=TRUE,'FERIAS DE 7 DIAS EN ADELANTE'!E369/'FERIAS 3 DIAS'!I$3,E369)","v":3089002},3089002]
[{"$f":"CONCATENATE(B370:B580,\" \",C370:C580)","v":"3071259 Sonido de 3500 a 4500 Pax - Sistema Line Array sin estructura (Incluye 20 cajas Hi -Mid / 8 Subs) servicio sujeto a reunion tecnica de produccion Valor de 7 a 18 días (Valor feria)"},3071259,"Sonido de 3500 a 4500 Pax - Sistema Line Array sin estructura (Incluye 20 cajas Hi -Mid / 8 Subs) servicio sujeto a reunion tecnica de produccion Valor de 7 a 18 días (Valor feria)",{"$f":"IF('FERIAS 3 DIAS'!G$3=TRUE,'FERIAS DE 7 DIAS EN ADELANTE'!E370/'FERIAS 3 DIAS'!I$3,E370)","v":24711897},24711897]
[{"$f":"CONCATENATE(B371:B581,\" \",C371:C581)","v":"3071280 Consola DMX 16 CH / (No incluye operario permanente) Valor evento 1 día"},3071280,"Consola DMX 16 CH / (No incluye operario permanente) Valor evento 1 día",{"$f":"IF('FERIAS 3 DIAS'!G$3=TRUE,'FERIAS DE 7 DIAS EN ADELANTE'!E371/'FERIAS 3 DIAS'!I$3,E371)","v":83300},83300]
[{"$f":"CONCATENATE(B372:B582,\" \",C372:C582)","v":"3071280 Consola DMX 16 CH / (No incluye operario permanente) Valor evento 2 dias (Valor dia)"},3071280,"Consola DMX 16 CH / (No incluye operario permanente) Valor evento 2 dias (Valor dia)",{"$f":"IF('FERIAS 3 DIAS'!G$3=TRUE,'FERIAS DE 7 DIAS EN ADELANTE'!E372/'FERIAS 3 DIAS'!I$3,E372)","v":83300},83300]
[{"$f":"CONCATENATE(B373:B583,\" \",C373:C583)","v":"3071280 Consola DMX 16 CH / (No incluye operario permanente) Valor de 3 a 6 dias (Valor dia)"},3071280,"Consola DMX 16 CH / (No incluye operario permanente) Valor de 3 a 6 dias (Valor dia)",{"$f":"IF('FERIAS 3 DIAS'!G$3=TRUE,'FERIAS DE 7 DIAS EN ADELANTE'!E373/'FERIAS 3 DIAS'!I$3,E373)","v":81991},81991]
[{"$f":"CONCATENATE(B374:B584,\" \",C374:C584)","v":"3071280 Consola DMX 16 CH / (No incluye operario permanente) Valor de 7 a 18 días (Valor feria)"},3071280,"Consola DMX 16 CH / (No incluye operario permanente) Valor de 7 a 18 días (Valor feria)",{"$f":"IF('FERIAS 3 DIAS'!G$3=TRUE,'FERIAS DE 7 DIAS EN ADELANTE'!E374/'FERIAS 3 DIAS'!I$3,E374)","v":655809},655809]
[{"$f":"CONCATENATE(B375:B585,\" \",C375:C585)","v":"3071275 Par Led RGB Indoor - según cantidad se requiere consola DMX Valor evento 1 día"},3071275,"Par Led RGB Indoor - según cantidad se requiere consola DMX Valor evento 1 día",{"$f":"IF('FERIAS 3 DIAS'!G$3=TRUE,'FERIAS DE 7 DIAS EN ADELANTE'!E375/'FERIAS 3 DIAS'!I$3,E375)","v":35700},35700]
[{"$f":"CONCATENATE(B376:B586,\" \",C376:C586)","v":"3071275 Par Led RGB Indoor - según cantidad se requiere consola DMX Valor evento 2 dias (Valor dia)"},3071275,"Par Led RGB Indoor - según cantidad se requiere consola DMX Valor evento 2 dias (Valor dia)",{"$f":"IF('FERIAS 3 DIAS'!G$3=TRUE,'FERIAS DE 7 DIAS EN ADELANTE'!E376/'FERIAS 3 DIAS'!I$3,E376)","v":35700},35700]
[{"$f":"CONCATENATE(B377:B587,\" \",C377:C587)","v":"3071275 Par Led RGB Indoor - según cantidad se requiere consola DMX Valor de 3 a 6 dias (Valor dia)"},3071275,"Par Led RGB Indoor - según cantidad se requiere consola DMX Valor de 3 a 6 dias (Valor dia)",{"$f":"IF('FERIAS 3 DIAS'!G$3=TRUE,'FERIAS DE 7 DIAS EN ADELANTE'!E377/'FERIAS 3 DIAS'!I$3,E377)","v":32249},32249]
[{"$f":"CONCATENATE(B378:B588,\" \",C378:C588)","v":"3071275 Par Led RGB Indoor - según cantidad se requiere consola DMX Valor de 7 a 18 días (Valor feria)"},3071275,"Par Led RGB Indoor - según cantidad se requiere consola DMX Valor de 7 a 18 días (Valor feria)",{"$f":"IF('FERIAS 3 DIAS'!G$3=TRUE,'FERIAS DE 7 DIAS EN ADELANTE'!E378/'FERIAS 3 DIAS'!I$3,E378)","v":229908},229908]
[{"$f":"CONCATENATE(B379:B589,\" \",C379:C589)","v":"3071281 Cabeza movil (Beam - Spot - Matrix) Se requiere consola DMX adicional - No incluye Gobo personalizado Valor evento 1 día"},3071281,"Cabeza movil (Beam - Spot - Matrix) Se requiere consola DMX adicional - No incluye Gobo personalizado Valor evento 1 día",{"$f":"IF('FERIAS 3 DIAS'!G$3=TRUE,'FERIAS DE 7 DIAS EN ADELANTE'!E379/'FERIAS 3 DIAS'!I$3,E379)","v":235025},235025]
[{"$f":"CONCATENATE(B380:B590,\" \",C380:C590)","v":"3071281 Cabeza movil (Beam - Spot - Matrix) Se requiere consola DMX adicional - No incluye Gobo personalizado Valor evento 2 dias (Valor dia)"},3071281,"Cabeza movil (Beam - Spot - Matrix) Se requiere consola DMX adicional - No incluye Gobo personalizado Valor evento 2 dias (Valor dia)",{"$f":"IF('FERIAS 3 DIAS'!G$3=TRUE,'FERIAS DE 7 DIAS EN ADELANTE'!E380/'FERIAS 3 DIAS'!I$3,E380)","v":235025},235025]
[{"$f":"CONCATENATE(B381:B591,\" \",C381:C591)","v":"3071281 Cabeza movil (Beam - Spot - Matrix) Se requiere consola DMX adicional - No incluye Gobo personalizado Valor de 3 a 6 dias (Valor dia)"},3071281,"Cabeza movil (Beam - Spot - Matrix) Se requiere consola DMX adicional - No incluye Gobo personalizado Valor de 3 a 6 dias (Valor dia)",{"$f":"IF('FERIAS 3 DIAS'!G$3=TRUE,'FERIAS DE 7 DIAS EN ADELANTE'!E381/'FERIAS 3 DIAS'!I$3,E381)","v":211582},211582]
[{"$f":"CONCATENATE(B382:B592,\" \",C382:C592)","v":"3071281 Cabeza movil (Beam - Spot - Matrix) Se requiere consola DMX adicional - No incluye Gobo personalizado Valor de 7 a 18 días (Valor feria)"},3071281,"Cabeza movil (Beam - Spot - Matrix) Se requiere consola DMX adicional - No incluye Gobo personalizado Valor de 7 a 18 días (Valor feria)",{"$f":"IF('FERIAS 3 DIAS'!G$3=TRUE,'FERIAS DE 7 DIAS EN ADELANTE'!E382/'FERIAS 3 DIAS'!I$3,E382)","v":1692180},1692180]
[{"$f":"CONCATENATE(B383:B593,\" \",C383:C593)","v":"3071282 Seguidor profesional para espectaculos Valor evento 1 día"},3071282,"Seguidor profesional para espectaculos Valor evento 1 día",{"$f":"IF('FERIAS 3 DIAS'!G$3=TRUE,'FERIAS DE 7 DIAS EN ADELANTE'!E383/'FERIAS 3 DIAS'!I$3,E383)","v":305711},305711]
[{"$f":"CONCATENATE(B384:B594,\" \",C384:C594)","v":"3071282 Seguidor profesional para espectaculos Valor evento 2 dias (Valor dia)"},3071282,"Seguidor profesional para espectaculos Valor evento 2 dias (Valor dia)",{"$f":"IF('FERIAS 3 DIAS'!G$3=TRUE,'FERIAS DE 7 DIAS EN ADELANTE'!E384/'FERIAS 3 DIAS'!I$3,E384)","v":305711},305711]
[{"$f":"CONCATENATE(B385:B595,\" \",C385:C595)","v":"3071282 Seguidor profesional para espectaculos Valor de 3 a 6 dias (Valor dia)"},3071282,"Seguidor profesional para espectaculos Valor de 3 a 6 dias (Valor dia)",{"$f":"IF('FERIAS 3 DIAS'!G$3=TRUE,'FERIAS DE 7 DIAS EN ADELANTE'!E385/'FERIAS 3 DIAS'!I$3,E385)","v":275128},275128]
[{"$f":"CONCATENATE(B386:B596,\" \",C386:C596)","v":"3071282 Seguidor profesional para espectaculos Valor de 7 a 18 días (Valor feria)"},3071282,"Seguidor profesional para espectaculos Valor de 7 a 18 días (Valor feria)",{"$f":"IF('FERIAS 3 DIAS'!G$3=TRUE,'FERIAS DE 7 DIAS EN ADELANTE'!E386/'FERIAS 3 DIAS'!I$3,E386)","v":2200667},2200667]
[{"$f":"CONCATENATE(B387:B597,\" \",C387:C597)","v":"3071287 Tramo de estructura Truss de 2 mts para monontaje de Pantalla Led, sonido Line Array, Iluminacion. (No incluye: Instalacion y operario permanente) Valor evento 1 día"},3071287,"Tramo de estructura Truss de 2 mts para monontaje de Pantalla Led, sonido Line Array, Iluminacion. (No incluye: Instalacion y operario permanente) Valor evento 1 día",{"$f":"IF('FERIAS 3 DIAS'!G$3=TRUE,'FERIAS DE 7 DIAS EN ADELANTE'!E387/'FERIAS 3 DIAS'!I$3,E387)","v":70805},70805]
[{"$f":"CONCATENATE(B388:B598,\" \",C388:C598)","v":"3071287 Tramo de estructura Truss de 2 mts para monontaje de Pantalla Led, sonido Line Array, Iluminacion. (No incluye: Instalacion y operario permanente) Valor evento 2 dias (Valor dia)"},3071287,"Tramo de estructura Truss de 2 mts para monontaje de Pantalla Led, sonido Line Array, Iluminacion. (No incluye: Instalacion y operario permanente) Valor evento 2 dias (Valor dia)",{"$f":"IF('FERIAS 3 DIAS'!G$3=TRUE,'FERIAS DE 7 DIAS EN ADELANTE'!E388/'FERIAS 3 DIAS'!I$3,E388)","v":70805},70805]
[{"$f":"CONCATENATE(B389:B599,\" \",C389:C599)","v":"3071287 Tramo de estructura Truss de 2 mts para monontaje de Pantalla Led, sonido Line Array, Iluminacion. (No incluye: Instalacion y operario permanente) Valor de 3 a 6 dias (Valor dia)"},3071287,"Tramo de estructura Truss de 2 mts para monontaje de Pantalla Led, sonido Line Array, Iluminacion. (No incluye: Instalacion y operario permanente) Valor de 3 a 6 dias (Valor dia)",{"$f":"IF('FERIAS 3 DIAS'!G$3=TRUE,'FERIAS DE 7 DIAS EN ADELANTE'!E389/'FERIAS 3 DIAS'!I$3,E389)","v":63665},63665]
[{"$f":"CONCATENATE(B390:B600,\" \",C390:C600)","v":"3071287 Tramo de estructura Truss de 2 mts para monontaje de Pantalla Led, sonido Line Array, Iluminacion. (No incluye: Instalacion y operario permanente) Valor de 7 a 18 días (Valor feria)"},3071287,"Tramo de estructura Truss de 2 mts para monontaje de Pantalla Led, sonido Line Array, Iluminacion. (No incluye: Instalacion y operario permanente) Valor de 7 a 18 días (Valor feria)",{"$f":"IF('FERIAS 3 DIAS'!G$3=TRUE,'FERIAS DE 7 DIAS EN ADELANTE'!E390/'FERIAS 3 DIAS'!I$3,E390)","v":509439},509439]
[{"$f":"CONCATENATE(B391:B601,\" \",C391:C601)","v":"3070532 Diferencial Manual de 1 Tonelada (No incluye: Instalacion y  operario permanente) Valor evento 1 día"},3070532,"Diferencial Manual de 1 Tonelada (No incluye: Instalacion y  operario permanente) Valor evento 1 día",{"$f":"IF('FERIAS 3 DIAS'!G$3=TRUE,'FERIAS DE 7 DIAS EN ADELANTE'!E391/'FERIAS 3 DIAS'!I$3,E391)","v":60809},60809]
[{"$f":"CONCATENATE(B392:B602,\" \",C392:C602)","v":"3070532 Diferencial Manual de 1 Tonelada (No incluye: Instalacion y  operario permanente) Valor evento 2 dias (Valor dia)"},3070532,"Diferencial Manual de 1 Tonelada (No incluye: Instalacion y  operario permanente) Valor evento 2 dias (Valor dia)",{"$f":"IF('FERIAS 3 DIAS'!G$3=TRUE,'FERIAS DE 7 DIAS EN ADELANTE'!E392/'FERIAS 3 DIAS'!I$3,E392)","v":60809},60809]
[{"$f":"CONCATENATE(B393:B603,\" \",C393:C603)","v":"3070532 Diferencial Manual de 1 Tonelada (No incluye: Instalacion y  operario permanente) Valor de 3 a 6 dias (Valor dia)"},3070532,"Diferencial Manual de 1 Tonelada (No incluye: Instalacion y  operario permanente) Valor de 3 a 6 dias (Valor dia)",{"$f":"IF('FERIAS 3 DIAS'!G$3=TRUE,'FERIAS DE 7 DIAS EN ADELANTE'!E393/'FERIAS 3 DIAS'!I$3,E393)","v":54740},54740]
[{"$f":"CONCATENATE(B394:B604,\" \",C394:C604)","v":"3070532 Diferencial Manual de 1 Tonelada (No incluye: Instalacion y  operario permanente) Valor de 7 a 18 días (Valor feria)"},3070532,"Diferencial Manual de 1 Tonelada (No incluye: Instalacion y  operario permanente) Valor de 7 a 18 días (Valor feria)",{"$f":"IF('FERIAS 3 DIAS'!G$3=TRUE,'FERIAS DE 7 DIAS EN ADELANTE'!E394/'FERIAS 3 DIAS'!I$3,E394)","v":437920},437920]
[{"$f":"CONCATENATE(B395:B605,\" \",C395:C605)","v":"3070533 Motor de elevacion para estructuras de 2 Toneladas (No incluye: Instalacion y operario permanente) Valor evento 1 día"},3070533,"Motor de elevacion para estructuras de 2 Toneladas (No incluye: Instalacion y operario permanente) Valor evento 1 día",{"$f":"IF('FERIAS 3 DIAS'!G$3=TRUE,'FERIAS DE 7 DIAS EN ADELANTE'!E395/'FERIAS 3 DIAS'!I$3,E395)","v":447678},447678]
[{"$f":"CONCATENATE(B396:B606,\" \",C396:C606)","v":"3070533 Motor de elevacion para estructuras de 2 Toneladas (No incluye: Instalacion y operario permanente) Valor evento 2 dias (Valor dia)"},3070533,"Motor de elevacion para estructuras de 2 Toneladas (No incluye: Instalacion y operario permanente) Valor evento 2 dias (Valor dia)",{"$f":"IF('FERIAS 3 DIAS'!G$3=TRUE,'FERIAS DE 7 DIAS EN ADELANTE'!E396/'FERIAS 3 DIAS'!I$3,E396)","v":447678},447678]
[{"$f":"CONCATENATE(B397:B607,\" \",C397:C607)","v":"3070533 Motor de elevacion para estructuras de 2 Toneladas (No incluye: Instalacion y operario permanente) Valor de 3 a 6 dias (Valor dia)"},3070533,"Motor de elevacion para estructuras de 2 Toneladas (No incluye: Instalacion y operario permanente) Valor de 3 a 6 dias (Valor dia)",{"$f":"IF('FERIAS 3 DIAS'!G$3=TRUE,'FERIAS DE 7 DIAS EN ADELANTE'!E397/'FERIAS 3 DIAS'!I$3,E397)","v":402934},402934]
[{"$f":"CONCATENATE(B398:B608,\" \",C398:C608)","v":"3070533 Motor de elevacion para estructuras de 2 Toneladas (No incluye: Instalacion y operario permanente) Valor de 7 a 18 días (Valor feria)"},3070533,"Motor de elevacion para estructuras de 2 Toneladas (No incluye: Instalacion y operario permanente) Valor de 7 a 18 días (Valor feria)",{"$f":"IF('FERIAS 3 DIAS'!G$3=TRUE,'FERIAS DE 7 DIAS EN ADELANTE'!E398/'FERIAS 3 DIAS'!I$3,E398)","v":2910026},2910026]
[{"$f":"CONCATENATE(B399:B609,\" \",C399:C609)","v":"3071285 Pasador de diapositivas USB de mediano alcance con puntero Laser (Incluye: 2 baterias) Valor evento 1 día"},3071285,"Pasador de diapositivas USB de mediano alcance con puntero Laser (Incluye: 2 baterias) Valor evento 1 día",{"$f":"IF('FERIAS 3 DIAS'!G$3=TRUE,'FERIAS DE 7 DIAS EN ADELANTE'!E399/'FERIAS 3 DIAS'!I$3,E399)","v":24871},24871]
[{"$f":"CONCATENATE(B400:B610,\" \",C400:C610)","v":"3071285 Pasador de diapositivas USB de mediano alcance con puntero Laser (Incluye: 2 baterias) Valor evento 2 dias (Valor dia)"},3071285,"Pasador de diapositivas USB de mediano alcance con puntero Laser (Incluye: 2 baterias) Valor evento 2 dias (Valor dia)",{"$f":"IF('FERIAS 3 DIAS'!G$3=TRUE,'FERIAS DE 7 DIAS EN ADELANTE'!E400/'FERIAS 3 DIAS'!I$3,E400)","v":24871},24871]
[{"$f":"CONCATENATE(B401:B611,\" \",C401:C611)","v":"3071285 Pasador de diapositivas USB de mediano alcance con puntero Laser (Incluye: 2 baterias) Valor de 3 a 6 dias (Valor dia)"},3071285,"Pasador de diapositivas USB de mediano alcance con puntero Laser (Incluye: 2 baterias) Valor de 3 a 6 dias (Valor dia)",{"$f":"IF('FERIAS 3 DIAS'!G$3=TRUE,'FERIAS DE 7 DIAS EN ADELANTE'!E401/'FERIAS 3 DIAS'!I$3,E401)","v":22729},22729]
[{"$f":"CONCATENATE(B402:B612,\" \",C402:C612)","v":"3071285 Pasador de diapositivas USB de mediano alcance con puntero Laser (Incluye: 2 baterias) Valor de 7 a 18 días (Valor feria)"},3071285,"Pasador de diapositivas USB de mediano alcance con puntero Laser (Incluye: 2 baterias) Valor de 7 a 18 días (Valor feria)",{"$f":"IF('FERIAS 3 DIAS'!G$3=TRUE,'FERIAS DE 7 DIAS EN ADELANTE'!E402/'FERIAS 3 DIAS'!I$3,E402)","v":160769},160769]
[{"$f":"CONCATENATE(B403:B613,\" \",C403:C613)","v":"3070534 Tecnico Audiovisual de soporte y apoyo / valor por 8 horas Valor evento 1 día"},3070534,"Tecnico Audiovisual de soporte y apoyo / valor por 8 horas Valor evento 1 día",{"$f":"IF('FERIAS 3 DIAS'!G$3=TRUE,'FERIAS DE 7 DIAS EN ADELANTE'!E403/'FERIAS 3 DIAS'!I$3,E403)","v":198968},198968]
[{"$f":"CONCATENATE(B404:B614,\" \",C404:C614)","v":"3070534 Tecnico Audiovisual de soporte y apoyo / valor por 8 horas Valor evento 2 dias (Valor dia)"},3070534,"Tecnico Audiovisual de soporte y apoyo / valor por 8 horas Valor evento 2 dias (Valor dia)",{"$f":"IF('FERIAS 3 DIAS'!G$3=TRUE,'FERIAS DE 7 DIAS EN ADELANTE'!E404/'FERIAS 3 DIAS'!I$3,E404)","v":198968},198968]
[{"$f":"CONCATENATE(B405:B615,\" \",C405:C615)","v":"3070534 Tecnico Audiovisual de soporte y apoyo / valor por 8 horas Valor de 3 a 6 dias (Valor dia)"},3070534,"Tecnico Audiovisual de soporte y apoyo / valor por 8 horas Valor de 3 a 6 dias (Valor dia)",{"$f":"IF('FERIAS 3 DIAS'!G$3=TRUE,'FERIAS DE 7 DIAS EN ADELANTE'!E405/'FERIAS 3 DIAS'!I$3,E405)","v":191233},191233]
[{"$f":"CONCATENATE(B406:B616,\" \",C406:C616)","v":"3070534 Tecnico Audiovisual de soporte y apoyo / valor por 8 horas Valor de 7 a 18 días (Valor feria)"},3070534,"Tecnico Audiovisual de soporte y apoyo / valor por 8 horas Valor de 7 a 18 días (Valor feria)",{"$f":"IF('FERIAS 3 DIAS'!G$3=TRUE,'FERIAS DE 7 DIAS EN ADELANTE'!E406/'FERIAS 3 DIAS'!I$3,E406)","v":1364930},1364930]
[{"$f":"CONCATENATE(B407:B617,\" \",C407:C617)","v":"3071300 Tecnico Audiovisual de soporte hora adicional, despues de 8 horas (diurno, nocturno, festivo diurno, festivo nocturno) Valor evento 1 día"},3071300,"Tecnico Audiovisual de soporte hora adicional, despues de 8 horas (diurno, nocturno, festivo diurno, festivo nocturno) Valor evento 1 día",{"$f":"IF('FERIAS 3 DIAS'!G$3=TRUE,'FERIAS DE 7 DIAS EN ADELANTE'!E407/'FERIAS 3 DIAS'!I$3,E407)","v":41769},41769]
[{"$f":"CONCATENATE(B408:B618,\" \",C408:C618)","v":"3071300 Tecnico Audiovisual de soporte hora adicional, despues de 8 horas (diurno, nocturno, festivo diurno, festivo nocturno) Valor evento 2 dias (Valor dia)"},3071300,"Tecnico Audiovisual de soporte hora adicional, despues de 8 horas (diurno, nocturno, festivo diurno, festivo nocturno) Valor evento 2 dias (Valor dia)",{"$f":"IF('FERIAS 3 DIAS'!G$3=TRUE,'FERIAS DE 7 DIAS EN ADELANTE'!E408/'FERIAS 3 DIAS'!I$3,E408)","v":41769},41769]
[{"$f":"CONCATENATE(B409:B619,\" \",C409:C619)","v":"3071300 Tecnico Audiovisual de soporte hora adicional, despues de 8 horas (diurno, nocturno, festivo diurno, festivo nocturno) Valor de 3 a 6 dias (Valor dia)"},3071300,"Tecnico Audiovisual de soporte hora adicional, despues de 8 horas (diurno, nocturno, festivo diurno, festivo nocturno) Valor de 3 a 6 dias (Valor dia)",{"$f":"IF('FERIAS 3 DIAS'!G$3=TRUE,'FERIAS DE 7 DIAS EN ADELANTE'!E409/'FERIAS 3 DIAS'!I$3,E409)","v":41769},41769]
[{"$f":"CONCATENATE(B410:B620,\" \",C410:C620)","v":"3071300 Tecnico Audiovisual de soporte hora adicional, despues de 8 horas (diurno, nocturno, festivo diurno, festivo nocturno) Valor de 7 a 18 días (Valor feria)"},3071300,"Tecnico Audiovisual de soporte hora adicional, despues de 8 horas (diurno, nocturno, festivo diurno, festivo nocturno) Valor de 7 a 18 días (Valor feria)",{"$f":"IF('FERIAS 3 DIAS'!G$3=TRUE,'FERIAS DE 7 DIAS EN ADELANTE'!E410/'FERIAS 3 DIAS'!I$3,E410)","v":41769},41769]
[{"$f":"CONCATENATE(B411:B621,\" \",C411:C621)","v":"30713209 Leeko Led White Valor evento 1 día"},30713209,"Leeko Led White Valor evento 1 día",{"$f":"IF('FERIAS 3 DIAS'!G$3=TRUE,'FERIAS DE 7 DIAS EN ADELANTE'!E411/'FERIAS 3 DIAS'!I$3,E411)","v":198968},198968]
[{"$f":"CONCATENATE(B412:B622,\" \",C412:C622)","v":"30713209 Leeko Led White Valor evento 2 dias (Valor dia)"},30713209,"Leeko Led White Valor evento 2 dias (Valor dia)",{"$f":"IF('FERIAS 3 DIAS'!G$3=TRUE,'FERIAS DE 7 DIAS EN ADELANTE'!E412/'FERIAS 3 DIAS'!I$3,E412)","v":198968},198968]
[{"$f":"CONCATENATE(B413:B623,\" \",C413:C623)","v":"30713209 Leeko Led White Valor de 3 a 6 dias (Valor dia)"},30713209,"Leeko Led White Valor de 3 a 6 dias (Valor dia)",{"$f":"IF('FERIAS 3 DIAS'!G$3=TRUE,'FERIAS DE 7 DIAS EN ADELANTE'!E413/'FERIAS 3 DIAS'!I$3,E413)","v":180166},180166]
[{"$f":"CONCATENATE(B414:B624,\" \",C414:C624)","v":"30713209 Leeko Led White Valor de 7 a 18 días (Valor feria)"},30713209,"Leeko Led White Valor de 7 a 18 días (Valor feria)",{"$f":"IF('FERIAS 3 DIAS'!G$3=TRUE,'FERIAS DE 7 DIAS EN ADELANTE'!E414/'FERIAS 3 DIAS'!I$3,E414)","v":1261519},1261519]
[{"$f":"CONCATENATE(B415:B625,\" \",C415:C625)","v":"30713210 Camara de Humo - incluye 200 mlt de liquido de Humo Valor evento 1 día"},30713210,"Camara de Humo - incluye 200 mlt de liquido de Humo Valor evento 1 día",{"$f":"IF('FERIAS 3 DIAS'!G$3=TRUE,'FERIAS DE 7 DIAS EN ADELANTE'!E415/'FERIAS 3 DIAS'!I$3,E415)","v":167671},167671]
[{"$f":"CONCATENATE(B416:B626,\" \",C416:C626)","v":"30713210 Camara de Humo - incluye 200 mlt de liquido de Humo Valor evento 2 dias (Valor dia)"},30713210,"Camara de Humo - incluye 200 mlt de liquido de Humo Valor evento 2 dias (Valor dia)",{"$f":"IF('FERIAS 3 DIAS'!G$3=TRUE,'FERIAS DE 7 DIAS EN ADELANTE'!E416/'FERIAS 3 DIAS'!I$3,E416)","v":167671},167671]
[{"$f":"CONCATENATE(B417:B627,\" \",C417:C627)","v":"30713210 Camara de Humo - incluye 200 mlt de liquido de Humo Valor de 3 a 6 dias (Valor dia)"},30713210,"Camara de Humo - incluye 200 mlt de liquido de Humo Valor de 3 a 6 dias (Valor dia)",{"$f":"IF('FERIAS 3 DIAS'!G$3=TRUE,'FERIAS DE 7 DIAS EN ADELANTE'!E417/'FERIAS 3 DIAS'!I$3,E417)","v":150892},150892]
[{"$f":"CONCATENATE(B418:B628,\" \",C418:C628)","v":"30713210 Camara de Humo - incluye 200 mlt de liquido de Humo Valor de 7 a 18 días (Valor feria)"},30713210,"Camara de Humo - incluye 200 mlt de liquido de Humo Valor de 7 a 18 días (Valor feria)",{"$f":"IF('FERIAS 3 DIAS'!G$3=TRUE,'FERIAS DE 7 DIAS EN ADELANTE'!E418/'FERIAS 3 DIAS'!I$3,E418)","v":1206898},1206898]
[{"$f":"CONCATENATE(B419:B629,\" \",C419:C629)","v":"30713211 Barra de Luz Led RGB Valor evento 1 día"},30713211,"Barra de Luz Led RGB Valor evento 1 día",{"$f":"IF('FERIAS 3 DIAS'!G$3=TRUE,'FERIAS DE 7 DIAS EN ADELANTE'!E419/'FERIAS 3 DIAS'!I$3,E419)","v":95795},95795]
[{"$f":"CONCATENATE(B420:B630,\" \",C420:C630)","v":"30713211 Barra de Luz Led RGB Valor evento 2 dias (Valor dia)"},30713211,"Barra de Luz Led RGB Valor evento 2 dias (Valor dia)",{"$f":"IF('FERIAS 3 DIAS'!G$3=TRUE,'FERIAS DE 7 DIAS EN ADELANTE'!E420/'FERIAS 3 DIAS'!I$3,E420)","v":95795},95795]
[{"$f":"CONCATENATE(B421:B631,\" \",C421:C631)","v":"30713211 Barra de Luz Led RGB Valor de 3 a 6 dias (Valor dia)"},30713211,"Barra de Luz Led RGB Valor de 3 a 6 dias (Valor dia)",{"$f":"IF('FERIAS 3 DIAS'!G$3=TRUE,'FERIAS DE 7 DIAS EN ADELANTE'!E421/'FERIAS 3 DIAS'!I$3,E421)","v":86156},86156]
[{"$f":"CONCATENATE(B422:B632,\" \",C422:C632)","v":"30713211 Barra de Luz Led RGB Valor de 7 a 18 días (Valor feria)"},30713211,"Barra de Luz Led RGB Valor de 7 a 18 días (Valor feria)",{"$f":"IF('FERIAS 3 DIAS'!G$3=TRUE,'FERIAS DE 7 DIAS EN ADELANTE'!E422/'FERIAS 3 DIAS'!I$3,E422)","v":689367},689367]
[{"$f":"CONCATENATE(B423:B633,\" \",C423:C633)","v":"30713212 Sistema de monitoreo In-Ear (No incluye: Baterias y audifonos) Valor evento 1 día"},30713212,"Sistema de monitoreo In-Ear (No incluye: Baterias y audifonos) Valor evento 1 día",{"$f":"IF('FERIAS 3 DIAS'!G$3=TRUE,'FERIAS DE 7 DIAS EN ADELANTE'!E423/'FERIAS 3 DIAS'!I$3,E423)","v":232407},232407]
[{"$f":"CONCATENATE(B424:B634,\" \",C424:C634)","v":"30713212 Sistema de monitoreo In-Ear (No incluye: Baterias y audifonos) Valor evento 2 dias (Valor dia)"},30713212,"Sistema de monitoreo In-Ear (No incluye: Baterias y audifonos) Valor evento 2 dias (Valor dia)",{"$f":"IF('FERIAS 3 DIAS'!G$3=TRUE,'FERIAS DE 7 DIAS EN ADELANTE'!E424/'FERIAS 3 DIAS'!I$3,E424)","v":232407},232407]
[{"$f":"CONCATENATE(B425:B635,\" \",C425:C635)","v":"30713212 Sistema de monitoreo In-Ear (No incluye: Baterias y audifonos) Valor de 3 a 6 dias (Valor dia)"},30713212,"Sistema de monitoreo In-Ear (No incluye: Baterias y audifonos) Valor de 3 a 6 dias (Valor dia)",{"$f":"IF('FERIAS 3 DIAS'!G$3=TRUE,'FERIAS DE 7 DIAS EN ADELANTE'!E425/'FERIAS 3 DIAS'!I$3,E425)","v":209202},209202]
[{"$f":"CONCATENATE(B426:B636,\" \",C426:C636)","v":"30713212 Sistema de monitoreo In-Ear (No incluye: Baterias y audifonos) Valor de 7 a 18 días (Valor feria)"},30713212,"Sistema de monitoreo In-Ear (No incluye: Baterias y audifonos) Valor de 7 a 18 días (Valor feria)",{"$f":"IF('FERIAS 3 DIAS'!G$3=TRUE,'FERIAS DE 7 DIAS EN ADELANTE'!E426/'FERIAS 3 DIAS'!I$3,E426)","v":1673497},1673497]
[{"$f":"CONCATENATE(B427:B637,\" \",C427:C637)","v":"30713213 Tarima en madera negra / valor por Mt2 instalado (incluye faldon para tarima negro) Valor evento 1 día"},30713213,"Tarima en madera negra / valor por Mt2 instalado (incluye faldon para tarima negro) Valor evento 1 día",{"$f":"IF('FERIAS 3 DIAS'!G$3=TRUE,'FERIAS DE 7 DIAS EN ADELANTE'!E427/'FERIAS 3 DIAS'!I$3,E427)","v":18683},18683]
[{"$f":"CONCATENATE(B428:B638,\" \",C428:C638)","v":"30713213 Tarima en madera negra / valor por Mt2 instalado (incluye faldon para tarima negro) Valor evento 2 dias (Valor dia)"},30713213,"Tarima en madera negra / valor por Mt2 instalado (incluye faldon para tarima negro) Valor evento 2 dias (Valor dia)",{"$f":"IF('FERIAS 3 DIAS'!G$3=TRUE,'FERIAS DE 7 DIAS EN ADELANTE'!E428/'FERIAS 3 DIAS'!I$3,E428)","v":18683},18683]
[{"$f":"CONCATENATE(B429:B639,\" \",C429:C639)","v":"30713213 Tarima en madera negra / valor por Mt2 instalado (incluye faldon para tarima negro) Valor de 3 a 6 dias (Valor dia)"},30713213,"Tarima en madera negra / valor por Mt2 instalado (incluye faldon para tarima negro) Valor de 3 a 6 dias (Valor dia)",{"$f":"IF('FERIAS 3 DIAS'!G$3=TRUE,'FERIAS DE 7 DIAS EN ADELANTE'!E429/'FERIAS 3 DIAS'!I$3,E429)","v":17017},17017]
[{"$f":"CONCATENATE(B430:B640,\" \",C430:C640)","v":"30713213 Tarima en madera negra / valor por Mt2 instalado (incluye faldon para tarima negro) Valor de 7 a 18 días (Valor feria)"},30713213,"Tarima en madera negra / valor por Mt2 instalado (incluye faldon para tarima negro) Valor de 7 a 18 días (Valor feria)",{"$f":"IF('FERIAS 3 DIAS'!G$3=TRUE,'FERIAS DE 7 DIAS EN ADELANTE'!E430/'FERIAS 3 DIAS'!I$3,E430)","v":119238},119238]
[{"$f":"CONCATENATE(B431:B641,\" \",C431:C641)","v":"3071212 Computador portatil de 14\" sistema operativo Windows 10, tarjeta Ram de 4GB, DD 256GB Valor evento 1 día"},3071212,"Computador portatil de 14\" sistema operativo Windows 10, tarjeta Ram de 4GB, DD 256GB Valor evento 1 día",{"$f":"IF('FERIAS 3 DIAS'!G$3=TRUE,'FERIAS DE 7 DIAS EN ADELANTE'!E431/'FERIAS 3 DIAS'!I$3,E431)","v":99484},99484]
[{"$f":"CONCATENATE(B432:B642,\" \",C432:C642)","v":"3071212 Computador portatil de 14\" sistema operativo Windows 10, tarjeta Ram de 4GB, DD 256GB Valor evento 2 dias (Valor dia)"},3071212,"Computador portatil de 14\" sistema operativo Windows 10, tarjeta Ram de 4GB, DD 256GB Valor evento 2 dias (Valor dia)",{"$f":"IF('FERIAS 3 DIAS'!G$3=TRUE,'FERIAS DE 7 DIAS EN ADELANTE'!E432/'FERIAS 3 DIAS'!I$3,E432)","v":99484},99484]
[{"$f":"CONCATENATE(B433:B643,\" \",C433:C643)","v":"3071212 Computador portatil de 14\" sistema operativo Windows 10, tarjeta Ram de 4GB, DD 256GB Valor de 3 a 6 dias (Valor dia)"},3071212,"Computador portatil de 14\" sistema operativo Windows 10, tarjeta Ram de 4GB, DD 256GB Valor de 3 a 6 dias (Valor dia)",{"$f":"IF('FERIAS 3 DIAS'!G$3=TRUE,'FERIAS DE 7 DIAS EN ADELANTE'!E433/'FERIAS 3 DIAS'!I$3,E433)","v":90083},90083]
[{"$f":"CONCATENATE(B434:B644,\" \",C434:C644)","v":"3071212 Computador portatil de 14\" sistema operativo Windows 10, tarjeta Ram de 4GB, DD 256GB Valor de 7 a 18 días (Valor feria)"},3071212,"Computador portatil de 14\" sistema operativo Windows 10, tarjeta Ram de 4GB, DD 256GB Valor de 7 a 18 días (Valor feria)",{"$f":"IF('FERIAS 3 DIAS'!G$3=TRUE,'FERIAS DE 7 DIAS EN ADELANTE'!E434/'FERIAS 3 DIAS'!I$3,E434)","v":642600},642600]
[{"$f":"CONCATENATE(B435:B645,\" \",C435:C645)","v":"3071212 Portátil Apple Macbook Air Core I5 1.6Ghz 8Gb 128Gb Ssd 13.3 pulgadas Silver Valor evento 1 día"},3071212,"Portátil Apple Macbook Air Core I5 1.6Ghz 8Gb 128Gb Ssd 13.3 pulgadas Silver Valor evento 1 día",{"$f":"IF('FERIAS 3 DIAS'!G$3=TRUE,'FERIAS DE 7 DIAS EN ADELANTE'!E435/'FERIAS 3 DIAS'!I$3,E435)","v":309519},309519]
[{"$f":"CONCATENATE(B436:B646,\" \",C436:C646)","v":"3071212 Portátil Apple Macbook Air Core I5 1.6Ghz 8Gb 128Gb Ssd 13.3 pulgadas Silver Valor evento 2 dias (Valor dia)"},3071212,"Portátil Apple Macbook Air Core I5 1.6Ghz 8Gb 128Gb Ssd 13.3 pulgadas Silver Valor evento 2 dias (Valor dia)",{"$f":"IF('FERIAS 3 DIAS'!G$3=TRUE,'FERIAS DE 7 DIAS EN ADELANTE'!E436/'FERIAS 3 DIAS'!I$3,E436)","v":309519},309519]
[{"$f":"CONCATENATE(B437:B647,\" \",C437:C647)","v":"3071212 Portátil Apple Macbook Air Core I5 1.6Ghz 8Gb 128Gb Ssd 13.3 pulgadas Silver Valor de 3 a 6 dias (Valor dia)"},3071212,"Portátil Apple Macbook Air Core I5 1.6Ghz 8Gb 128Gb Ssd 13.3 pulgadas Silver Valor de 3 a 6 dias (Valor dia)",{"$f":"IF('FERIAS 3 DIAS'!G$3=TRUE,'FERIAS DE 7 DIAS EN ADELANTE'!E437/'FERIAS 3 DIAS'!I$3,E437)","v":278579},278579]
[{"$f":"CONCATENATE(B438:B648,\" \",C438:C648)","v":"3071212 Portátil Apple Macbook Air Core I5 1.6Ghz 8Gb 128Gb Ssd 13.3 pulgadas Silver Valor de 7 a 18 días (Valor feria)"},3071212,"Portátil Apple Macbook Air Core I5 1.6Ghz 8Gb 128Gb Ssd 13.3 pulgadas Silver Valor de 7 a 18 días (Valor feria)",{"$f":"IF('FERIAS 3 DIAS'!G$3=TRUE,'FERIAS DE 7 DIAS EN ADELANTE'!E438/'FERIAS 3 DIAS'!I$3,E438)","v":2236010},2236010]
[{"$f":"CONCATENATE(B439:B649,\" \",C439:C649)","v":"3071237 Computador de escritorio, sistema operativo Windows 10, tarjeta Ram de 8GB, DD 256GB Valor evento 1 día"},3071237,"Computador de escritorio, sistema operativo Windows 10, tarjeta Ram de 8GB, DD 256GB Valor evento 1 día",{"$f":"IF('FERIAS 3 DIAS'!G$3=TRUE,'FERIAS DE 7 DIAS EN ADELANTE'!E439/'FERIAS 3 DIAS'!I$3,E439)","v":99484},99484]
[{"$f":"CONCATENATE(B440:B650,\" \",C440:C650)","v":"3071237 Computador de escritorio, sistema operativo Windows 10, tarjeta Ram de 8GB, DD 256GB Valor evento 2 dias (Valor dia)"},3071237,"Computador de escritorio, sistema operativo Windows 10, tarjeta Ram de 8GB, DD 256GB Valor evento 2 dias (Valor dia)",{"$f":"IF('FERIAS 3 DIAS'!G$3=TRUE,'FERIAS DE 7 DIAS EN ADELANTE'!E440/'FERIAS 3 DIAS'!I$3,E440)","v":99484},99484]
[{"$f":"CONCATENATE(B441:B651,\" \",C441:C651)","v":"3071237 Computador de escritorio, sistema operativo Windows 10, tarjeta Ram de 8GB, DD 256GB Valor de 3 a 6 dias (Valor dia)"},3071237,"Computador de escritorio, sistema operativo Windows 10, tarjeta Ram de 8GB, DD 256GB Valor de 3 a 6 dias (Valor dia)",{"$f":"IF('FERIAS 3 DIAS'!G$3=TRUE,'FERIAS DE 7 DIAS EN ADELANTE'!E441/'FERIAS 3 DIAS'!I$3,E441)","v":90559},90559]
[{"$f":"CONCATENATE(B442:B652,\" \",C442:C652)","v":"3071237 Computador de escritorio, sistema operativo Windows 10, tarjeta Ram de 8GB, DD 256GB Valor de 7 a 18 días (Valor feria)"},3071237,"Computador de escritorio, sistema operativo Windows 10, tarjeta Ram de 8GB, DD 256GB Valor de 7 a 18 días (Valor feria)",{"$f":"IF('FERIAS 3 DIAS'!G$3=TRUE,'FERIAS DE 7 DIAS EN ADELANTE'!E442/'FERIAS 3 DIAS'!I$3,E442)","v":646527},646527]
[{"$f":"CONCATENATE(B443:B653,\" \",C443:C653)","v":"3071312 Aseo permanente 8 horas 1 Operario (valor por dia) Día ordinario"},3071312,"Aseo permanente 8 horas 1 Operario (valor por dia) Día ordinario",{"$f":"IF('FERIAS 3 DIAS'!G$3=TRUE,'FERIAS DE 7 DIAS EN ADELANTE'!E443/'FERIAS 3 DIAS'!I$3,E443)","v":102221},102221]
[{"$f":"CONCATENATE(B444:B654,\" \",C444:C654)","v":"3071312 Aseo permanente 8 horas 1 Operario (valor por dia) Día dominical o festivo"},3071312,"Aseo permanente 8 horas 1 Operario (valor por dia) Día dominical o festivo",{"$f":"IF('FERIAS 3 DIAS'!G$3=TRUE,'FERIAS DE 7 DIAS EN ADELANTE'!E444/'FERIAS 3 DIAS'!I$3,E444)","v":179571},179571]
[{"$f":"CONCATENATE(B445:B655,\" \",C445:C655)","v":"3071433 Corferias Conecta  APP (incluye el internet para un equipo)"},3071433,"Corferias Conecta  APP (incluye el internet para un equipo)",{"$f":"IF('FERIAS 3 DIAS'!G$3=TRUE,'FERIAS DE 7 DIAS EN ADELANTE'!E445/'FERIAS 3 DIAS'!I$3,E445)","v":336889},336889]
[{"$f":"CONCATENATE(B446:B656,\" \",C446:C656)","v":"3071432 Corferias Conecta  APP + Tablet con internet"},3071432,"Corferias Conecta  APP + Tablet con internet",{"$f":"IF('FERIAS 3 DIAS'!G$3=TRUE,'FERIAS DE 7 DIAS EN ADELANTE'!E446/'FERIAS 3 DIAS'!I$3,E446)","v":466599},466599]
[{"$f":"CONCATENATE(B447:B657,\" \",C447:C657)","v":"3071431 Tablet adicional con internet"},3071431,"Tablet adicional con internet",{"$f":"IF('FERIAS 3 DIAS'!G$3=TRUE,'FERIAS DE 7 DIAS EN ADELANTE'!E447/'FERIAS 3 DIAS'!I$3,E447)","v":311066},311066]
[{"$f":"CONCATENATE(B448:B656,\" \",C448:C656)","v":"3071326 Internet adicional para la app por equipo"},3071326,"Internet adicional para la app por equipo",{"$f":"IF('FERIAS 3 DIAS'!G$3=TRUE,'FERIAS DE 7 DIAS EN ADELANTE'!E448/'FERIAS 3 DIAS'!I$3,E448)","v":111265},111265]

{"sheet":"SOLICITUD DE SERVICIOS","index":4,"n_rows":57,"n_cols":12,"rows_kept":57,"cut":false,"hidden":false,"merged":[[57,8,57,10],[51,11,56,11],[56,1,56,5],[56,6,56,7],[56,8,56,10],[54,1,54,2],[52,1,52,2],[54,3,54,10],[51,1,51,10],[44,6,45,10],[50,1,50,10],[35,6,35,7],[39,2,39,3],[40,2,40,3],[41,2,41,3],[45,2,45,3],[38,2,38,3],[44,2,44,3],[35,2,35,4],[48,6,48,10],[48,1,48,5],[35,8,35,10],[37,1,37,10],[43,1,43,10],[38,6,41,10],[28,1,28,3],[19,4,19,5],[22,4,22,5],[21,4,21,5],[20,4,20,5],[24,1,24,3],[24,4,24,5],[23,4,23,5],[26,4,26,5],[25,1,25,3],[27,1,27,3],[1,8,5,10],[1,7,5,7],[5,1,5,5],[26,1,26,3],[7,1,7,10],[21,1,21,3],[22,1,22,3],[15,1,15,10],[16,1,16,10],[20,1,20,3],[9,1,9,10],[23,1,23,3],[10,1,10,10],[11,5,11,10],[12,5,12,10],[14,1,14,10],[31,4,31,5],[31,1,31,3],[32,4,32,5],[32,1,32,3],[34,1,34,5],[33,4,33,5],[33,1,33,3],[34,8,34,10],[46,1,46,10],[53,1,53,2],[11,2,11,3],[12,2,12,3],[13,2,13,3],[52,3,52,10],[53,3,53,10],[30,4,30,5],[29,4,29,5],[29,1,29,3],[30,1,30,3],[27,4,27,5],[28,4,28,5],[19,1,19,3],[25,4,25,5]]}
[]
[null,"SOLICITUD DE SERVICIOS EN ALQUILER"]
[null,"www.corferias.com"]
[null,"Cra. 37 No. 24-67 BOGOTÁ, COLOMBIA"]
[null,"PBX: 381 0000 Ext. 5613 - Correo electrónico: serviciosplus@corferias.com"]
[null,"SOMOS AUTORETENEDORES RESOLUCIÓN No. 000006 Enero 21 de 1993 y GRANDES CONTRIBUYENTES RESOLUCIÓN  No. 012635   Diciembre 14 de 2018. NIT: 860.002.464-3"]
[]
[null,"Recuerde diligenciar todos los campos de este formulario"]
[]
[null,"INFORMACIÓN DEL EXPOSITOR "]
[null,"*No olvide diligenciar todos los campos"]
[null,"Razón social del expositor:",null,null,"NIT / C.C:"]
[null,"Facturar a nombre de:",null,null,"NIT / C.C:"]
[null,"Feria:",null,null,"Pabellon:",null,"Nivel:",null,"Stand:"]
[]
[null,"SOLICITUD DE SERVICIOS EN ALQUILER"]
[null,"Por favor seleccione el tipo de feria en la cual va a participar: "]
[]
[null,"Digite el codigo del servicio y seleccione el servicio que desea alquilar de acuerdo con el tipo de feria:"]
[null,"CODIGO / DESCRIPCIÓN DEL SERVICIO",null,null,"OBSERVACIONES",null,"CANTIDAD","CANTIDAD DE DIAS","VALOR UNITARIO",null,"VALOR TOTAL"]
[null,"",null,null,null,null,null,null,{"$f":"IF('FERIAS 3 DIAS'!$F$3=1,VLOOKUP('SOLICITUD DE SERVICIOS'!B21:D21,'FERIAS 3 DIAS'!$A$1:$D$494,4,FALSE),IF('FERIAS 3 DIAS'!$F$3=2,VLOOKUP('SOLICITUD DE SERVICIOS'!B21:D21,'FERIAS DE 4 A 6 DIAS'!$A$1:$D$495,4,FALSE),IF('FERIAS 3 DIAS'!$F$3=3,VLOOKUP('SOLICITUD DE SERVICIOS'!B21:D21,'FERIAS DE 7 DIAS EN ADELANTE'!$A$1:$D$517,4,FALSE),FALSE)))","v":false},false,{"$f":"PRODUCT(G21,H21,I21)","v":0}]
[null,"",null,null,null,null,null,null,{"$f":"IF('FERIAS 3 DIAS'!$F$3=1,VLOOKUP('SOLICITUD DE SERVICIOS'!B22:D22,'FERIAS 3 DIAS'!$A$1:$D$494,4,FALSE),IF('FERIAS 3 DIAS'!$F$3=2,VLOOKUP('SOLICITUD DE SERVICIOS'!B22:D22,'FERIAS DE 4 A 6 DIAS'!$A$1:$D$495,4,FALSE),IF('FERIAS 3 DIAS'!$F$3=3,VLOOKUP('SOLICITUD DE SERVICIOS'!B22:D22,'FERIAS DE 7 DIAS EN ADELANTE'!$A$1:$D$517,4,FALSE),FALSE)))","v":false},false,{"$f":"PRODUCT(G22,H22,I22)","v":0}]
[null,"",null,null,null,null,null,null,{"$f":"IF('FERIAS 3 DIAS'!$F$3=1,VLOOKUP('SOLICITUD DE SERVICIOS'!B23:D23,'FERIAS 3 DIAS'!$A$1:$D$494,4,FALSE),IF('FERIAS 3 DIAS'!$F$3=2,VLOOKUP('SOLICITUD DE SERVICIOS'!B23:D23,'FERIAS DE 4 A 6 DIAS'!$A$1:$D$495,4,FALSE),IF('FERIAS 3 DIAS'!$F$3=3,VLOOKUP('SOLICITUD DE SERVICIOS'!B23:D23,'FERIAS DE 7 DIAS EN ADELANTE'!$A$1:$D$517,4,FALSE),FALSE)))","v":false},false,0]
[null,"",null,null,null,null,null,null,{"$f":"IF('FERIAS 3 DIAS'!$F$3=1,VLOOKUP('SOLICITUD DE SERVICIOS'!B24:D24,'FERIAS 3 DIAS'!$A$1:$D$494,4,FALSE),IF('FERIAS 3 DIAS'!$F$3=2,VLOOKUP('SOLICITUD DE SERVICIOS'!B24:D24,'FERIAS DE 4 A 6 DIAS'!$A$1:$D$495,4,FALSE),IF('FERIAS 3 DIAS'!$F$3=3,VLOOKUP('SOLICITUD DE SERVICIOS'!B24:D24,'FERIAS DE 7 DIAS EN ADELANTE'!$A$1:$D$517,4,FALSE),FALSE)))","v":false},false,0]
[null,"",null,null,null,null,null,null,{"$f":"IF('FERIAS 3 DIAS'!$F$3=1,VLOOKUP('SOLICITUD DE SERVICIOS'!B25:D25,'FERIAS 3 DIAS'!$A$1:$D$494,4,FALSE),IF('FERIAS 3 DIAS'!$F$3=2,VLOOKUP('SOLICITUD DE SERVICIOS'!B25:D25,'FERIAS DE 4 A 6 DIAS'!$A$1:$D$495,4,FALSE),IF('FERIAS 3 DIAS'!$F$3=3,VLOOKUP('SOLICITUD DE SERVICIOS'!B25:D25,'FERIAS DE 7 DIAS EN ADELANTE'!$A$1:$D$517,4,FALSE),FALSE)))","v":false},false,0]
[null,"",null,null,null,null,null,null,{"$f":"IF('FERIAS 3 DIAS'!$F$3=1,VLOOKUP('SOLICITUD DE SERVICIOS'!B26:D26,'FERIAS 3 DIAS'!$A$1:$D$494,4,FALSE),IF('FERIAS 3 DIAS'!$F$3=2,VLOOKUP('SOLICITUD DE SERVICIOS'!B26:D26,'FERIAS DE 4 A 6 DIAS'!$A$1:$D$495,4,FALSE),IF('FERIAS 3 DIAS'!$F$3=3,VLOOKUP('SOLICITUD DE SERVICIOS'!B26:D26,'FERIAS DE 7 DIAS EN ADELANTE'!$A$1:$D$517,4,FALSE),FALSE)))","v":false},false,0]
[null,"",null,null,null,null,null,null,{"$f":"IF('FERIAS 3 DIAS'!$F$3=1,VLOOKUP('SOLICITUD DE SERVICIOS'!B27:D27,'FERIAS 3 DIAS'!$A$1:$D$494,4,FALSE),IF('FERIAS 3 DIAS'!$F$3=2,VLOOKUP('SOLICITUD DE SERVICIOS'!B27:D27,'FERIAS DE 4 A 6 DIAS'!$A$1:$D$495,4,FALSE),IF('FERIAS 3 DIAS'!$F$3=3,VLOOKUP('SOLICITUD DE SERVICIOS'!B27:D27,'FERIAS DE 7 DIAS EN ADELANTE'!$A$1:$D$517,4,FALSE),FALSE)))","v":false},false,0]
[null,"",null,null,null,null,null,null,{"$f":"IF('FERIAS 3 DIAS'!$F$3=1,VLOOKUP('SOLICITUD DE SERVICIOS'!B28:D28,'FERIAS 3 DIAS'!$A$1:$D$494,4,FALSE),IF('FERIAS 3 DIAS'!$F$3=2,VLOOKUP('SOLICITUD DE SERVICIOS'!B28:D28,'FERIAS DE 4 A 6 DIAS'!$A$1:$D$495,4,FALSE),IF('FERIAS 3 DIAS'!$F$3=3,VLOOKUP('SOLICITUD DE SERVICIOS'!B28:D28,'FERIAS DE 7 DIAS EN ADELANTE'!$A$1:$D$517,4,FALSE),FALSE)))","v":false},false,0]
[null,"",null,null,null,null,null,null,{"$f":"IF('FERIAS 3 DIAS'!$F$3=1,VLOOKUP('SOLICITUD DE SERVICIOS'!B29:D29,'FERIAS 3 DIAS'!$A$1:$D$494,4,FALSE),IF('FERIAS 3 DIAS'!$F$3=2,VLOOKUP('SOLICITUD DE SERVICIOS'!B29:D29,'FERIAS DE 4 A 6 DIAS'!$A$1:$D$495,4,FALSE),IF('FERIAS 3 DIAS'!$F$3=3,VLOOKUP('SOLICITUD DE SERVICIOS'!B29:D29,'FERIAS DE 7 DIAS EN ADELANTE'!$A$1:$D$517,4,FALSE),FALSE)))","v":false},false,0]
[null,"",null,null,null,null,null,null,{"$f":"IF('FERIAS 3 DIAS'!$F$3=1,VLOOKUP('SOLICITUD DE SERVICIOS'!B30:D30,'FERIAS 3 DIAS'!$A$1:$D$494,4,FALSE),IF('FERIAS 3 DIAS'!$F$3=2,VLOOKUP('SOLICITUD DE SERVICIOS'!B30:D30,'FERIAS DE 4 A 6 DIAS'!$A$1:$D$495,4,FALSE),IF('FERIAS 3 DIAS'!$F$3=3,VLOOKUP('SOLICITUD DE SERVICIOS'!B30:D30,'FERIAS DE 7 DIAS EN ADELANTE'!$A$1:$D$517,4,FALSE),FALSE)))","v":false},false,0]
[null,"",null,null,null,null,null,null,{"$f":"IF('FERIAS 3 DIAS'!$F$3=1,VLOOKUP('SOLICITUD DE SERVICIOS'!B31:D31,'FERIAS 3 DIAS'!$A$1:$D$494,4,FALSE),IF('FERIAS 3 DIAS'!$F$3=2,VLOOKUP('SOLICITUD DE SERVICIOS'!B31:D31,'FERIAS DE 4 A 6 DIAS'!$A$1:$D$495,4,FALSE),IF('FERIAS 3 DIAS'!$F$3=3,VLOOKUP('SOLICITUD DE SERVICIOS'!B31:D31,'FERIAS DE 7 DIAS EN ADELANTE'!$A$1:$D$517,4,FALSE),FALSE)))","v":false},false,0]
[null,"",null,null,null,null,null,null,{"$f":"IF('FERIAS 3 DIAS'!$F$3=1,VLOOKUP('SOLICITUD DE SERVICIOS'!B32:D32,'FERIAS 3 DIAS'!$A$1:$D$494,4,FALSE),IF('FERIAS 3 DIAS'!$F$3=2,VLOOKUP('SOLICITUD DE SERVICIOS'!B32:D32,'FERIAS DE 4 A 6 DIAS'!$A$1:$D$495,4,FALSE),IF('FERIAS 3 DIAS'!$F$3=3,VLOOKUP('SOLICITUD DE SERVICIOS'!B32:D32,'FERIAS DE 7 DIAS EN ADELANTE'!$A$1:$D$517,4,FALSE),FALSE)))","v":false},false,0]
[null,"",null,null,null,null,null,null,{"$f":"IF('FERIAS 3 DIAS'!$F$3=1,VLOOKUP('SOLICITUD DE SERVICIOS'!B33:D33,'FERIAS 3 DIAS'!$A$1:$D$494,4,FALSE),IF('FERIAS 3 DIAS'!$F$3=2,VLOOKUP('SOLICITUD DE SERVICIOS'!B33:D33,'FERIAS DE 4 A 6 DIAS'!$A$1:$D$495,4,FALSE),IF('FERIAS 3 DIAS'!$F$3=3,VLOOKUP('SOLICITUD DE SERVICIOS'!B33:D33,'FERIAS DE 7 DIAS EN ADELANTE'!$A$1:$D$517,4,FALSE),FALSE)))","v":false},false,0]
[null,"",null,null,null,null,null,null,{"$f":"IF('FERIAS 3 DIAS'!$F$3=1,VLOOKUP('SOLICITUD DE SERVICIOS'!B34:D34,'FERIAS 3 DIAS'!$A$1:$D$494,4,FALSE),IF('FERIAS 3 DIAS'!$F$3=2,VLOOKUP('SOLICITUD DE SERVICIOS'!B34:D34,'FERIAS DE 4 A 6 DIAS'!$A$1:$D$495,4,FALSE),IF('FERIAS 3 DIAS'!$F$3=3,VLOOKUP('SOLICITUD DE SERVICIOS'!B34:D34,'FERIAS DE 7 DIAS EN ADELANTE'!$A$1:$D$517,4,FALSE),FALSE)))","v":false},null,0]
[null,"Si desea la cotización en dólares de click en el botón  →\n(Tenga en cuenta que la cotización quedará con la TRM del día en que se realice o se modifique)",null,null,null,null,"TRM",{"$f":"IF('FERIAS 3 DIAS'!G3=TRUE,'FERIAS 3 DIAS'!I3,\"N/A\")","v":"N/A"},{"$f":"'FERIAS 3 DIAS'!G2","v":"DÓLARES"}]
[null,"OBSERVACIONES GENERALES",null,null,null,"SUBTOTAL",{"$f":"IF('FERIAS 3 DIAS'!G3=TRUE,\"VALOR USD\",\"VALOR COP\")","v":"VALOR COP"},null,{"$f":"_xlfn.AGGREGATE(9,7,K21:K34)","v":0}]
[]
[null,"SOLICITUD DE CREDENCIALES E INVITACIONES ADICIONALES POR COMPRA"]
[null,"CODIGO","DESCRIPCION",null,"CANTIDAD","VALOR","Si desea verificar los precios de las Credenciales e Invitaciones, recuerde que puede consultarlos la Guia del Expositor de la feria que va a participar."]
[null,3040107,"Credencial de expositor"]
[null,3040107,"Credencial de servicio"]
[null,3040108,"Invitación"]
[]
[null,"SOLICITUD DE BONO DE PARQUEADEO PARA EXPOSITORES"]
[null,"CODIGO","DESCRIPCION",null,"CANTIDAD","VALOR CON IVA","Este precio será indicado por el área del Plus Corferias o puede consultarlo en la guía del expositor\nEl área de parqueo se habilita de acuerdo a la ubicación geográfica de la feria o evento:\n  ● Parqueadero Torre: Carrera 40 # 22 - 60\n  ● Parqueadero Verde: Calle 25 # 33 - 60\n  ● Parqueadero Ágora: Calle 24 No 38-71 "]
[null,3050103,"Bono de expositor"]
[null,"IMPORTANTE\n1.Esta tarjeta le da derecho al expositor a un cupo de parqueadero, durante el desarrollo de la Feria o Evento. \n2.Señor Expositor tenga en cuenta que al ingresar a los parqueaderos de Corferias, usted está aceptando las CONDICIONES DE USO de parqueaderos, que se encuentran debidamente publicadas en los mismos\n3. CORFERIAS no se hace responsable por la pérdida de la Tarjeta. En caso de pérdida de la Tarjeta, usted debe informar la perdida al personal del parqueadero y cancelar en las cajas del parqueadero el valor equivalente a ½ SMDLV.\n5. Es requisito indispensable ubicar la Tarjeta en el lector de la talanquera para que esta suba, por cada ingreso y salida del vehículo.\n6. Si llega a presentar alguna novedad con la tarjeta, se deberá reportar de inmediato con el líder de parqueaderos quien le brindara una solución.\n7. Por favor NO tomar tiquete, esta acción genera cobro.  \n8. La validez de la tarjeta de parqueadero dará inicio al día siguiente de la compra. En caso de que la tarjeta sea adquirida durante la ejecución de la feria y/o evento, el expositor podrá solicitar al cajero del Plus el sello respectivo en el tiquete de entrada, el cual deberá presentar en las cajas del parqueadero para homologar el beneficio de la tarjeta por una única vez."]
[]
[null,"TOTAL A PAGAR",null,null,null,null,{"$f":"I36+F40+F41+F42+F46","v":0}]
[]
[null,"ACEPTO TERMINOS Y CONDICIONES"]
[null,"*No olvide diligenciar todos los campos.",null,null,null,null,null,null,null,null,null,"PI-FO-2091 (V.6)"]
[null,"Nombre Completo:"]
[null,"Teléfono movíl:"]
[null,"Correo Electrónico:"]
[]
[null,"*Corferias se reserva el derecho de realizar cambios a este formulario*",null,null,null,null,"Fecha",null,{"$f":"TODAY()","v":"2022-05-31"}]

{"sheet":"TARIFAS SERVICIOS","index":5,"n_rows":280,"n_cols":13,"rows_kept":280,"cut":false,"hidden":false,"merged":[[266,1,266,7],[265,1,265,7],[179,1,181,1],[163,1,168,1],[278,1,278,6],[279,1,279,6],[273,8,277,8],[68,4,68,7],[268,4,268,5],[268,6,268,7],[192,1,223,1],[274,4,274,7],[275,4,275,7],[276,4,276,7],[277,4,277,7],[224,1,245,1],[246,1,263,1],[273,1,277,1],[271,1,271,7],[272,1,272,7],[267,1,269,1],[269,2,269,7],[181,4,181,7],[182,4,182,7],[162,4,162,7],[163,4,163,7],[164,4,164,7],[165,4,165,7],[166,4,166,7],[167,4,167,7],[168,4,168,7],[169,4,169,7],[182,1,187,1],[183,4,183,7],[184,4,184,7],[185,4,185,7],[186,4,186,7],[138,4,138,7],[139,4,139,7],[267,6,267,7],[176,4,176,7],[177,4,177,7],[178,4,178,7],[179,4,179,7],[180,4,180,7],[157,4,157,7],[158,4,158,7],[159,4,159,7],[160,4,160,7],[189,1,189,7],[187,4,187,7],[267,4,267,5],[190,1,190,7],[149,2,150,2],[170,4,170,7],[171,4,171,7],[172,4,172,7],[173,4,173,7],[174,4,174,7],[175,4,175,7],[161,4,161,7],[73,4,73,7],[75,4,75,7],[76,4,76,7],[77,4,77,7],[78,4,78,7],[74,4,74,7],[90,4,90,7],[80,1,80,7],[82,1,86,1],[89,4,89,7],[98,2,101,2],[53,2,53,7],[55,1,56,7],[57,1,57,7],[22,1,29,1],[69,4,69,7],[70,4,70,7],[38,4,38,7],[39,4,39,7],[74,1,78,1],[87,1,97,1],[41,1,53,1],[40,2,40,7],[43,4,43,7],[44,4,44,7],[45,4,45,7],[46,4,46,7],[47,4,47,7],[48,4,48,7],[23,4,23,5],[24,4,24,5],[25,4,25,5],[71,4,71,7],[72,4,72,7],[1,6,2,7],[27,6,27,7],[59,4,59,7],[1,3,2,4],[20,4,20,7],[21,4,21,7],[30,4,30,7],[31,4,31,7],[32,4,32,7],[33,4,33,7],[35,4,35,7],[36,4,36,7],[11,4,11,5],[12,4,12,5],[13,4,13,7],[14,4,14,7],[6,4,6,7],[26,4,26,5],[27,4,27,5],[28,4,28,5],[22,4,22,5],[42,4,42,7],[22,6,22,7],[23,6,23,7],[109,1,112,1],[104,1,108,1],[105,2,108,2],[98,1,103,1],[82,4,82,7],[83,4,83,7],[84,4,84,7],[85,4,85,7],[86,4,86,7],[87,4,87,7],[88,4,88,7],[91,4,91,7],[92,4,92,7],[93,4,93,7],[94,4,94,7],[95,4,95,7],[97,4,97,7],[98,4,98,7],[99,4,99,7],[100,4,100,7],[101,4,101,7],[103,4,103,7],[104,4,104,7],[105,4,105,7],[261,2,262,2],[113,1,126,1],[113,2,116,2],[169,1,175,1],[156,1,162,1],[154,1,154,7],[155,1,155,7],[141,2,142,2],[116,4,116,7],[117,4,117,7],[118,4,118,7],[119,4,119,7],[120,4,120,7],[121,4,121,7],[129,1,131,1],[132,1,138,1],[139,1,152,1],[122,4,122,7],[123,4,123,7],[125,4,125,7],[126,4,126,7],[127,1,128,1],[127,4,127,7],[128,4,128,7],[4,1,4,7],[8,1,9,7],[10,1,10,7],[11,6,11,7],[12,6,12,7],[6,1,6,2],[11,1,21,1],[31,9,31,10],[28,6,28,7],[29,2,29,7],[30,1,33,1],[24,6,24,7],[25,6,25,7],[26,6,26,7],[15,4,15,7],[16,4,16,7],[17,4,17,7],[18,4,18,7],[19,4,19,7],[273,4,273,7],[156,4,156,7],[35,13,35,14],[68,1,73,1],[34,1,40,1],[81,1,81,7],[34,4,34,7],[41,4,41,7],[49,4,49,7],[50,4,50,7],[51,4,51,7],[52,4,52,7],[37,4,37,7],[58,4,58,7],[58,1,67,1],[67,3,67,7],[60,4,60,7],[62,4,62,5],[63,4,63,5],[61,4,61,5],[64,4,64,5],[65,4,65,5],[66,4,66,5],[176,1,178,1],[134,4,134,7],[135,4,135,7],[136,4,136,7],[137,4,137,7],[106,4,106,7],[107,4,107,7],[108,4,108,7],[109,4,109,7],[110,4,110,7],[111,4,111,7],[112,4,112,7],[113,4,113,7],[96,4,96,7],[102,4,102,7],[124,4,124,7],[232,2,233,2],[114,4,114,7],[115,4,115,7],[149,4,149,7],[150,4,150,7],[151,4,151,7],[152,4,152,7],[140,4,140,7],[141,4,141,7],[142,4,142,7],[143,4,143,7],[144,4,144,7],[145,4,145,7],[146,4,146,7],[147,4,147,7],[148,4,148,7],[129,4,129,7],[130,4,130,7],[131,4,131,7],[132,4,132,7],[133,4,133,7],[157,12,157,15],[158,12,158,15],[159,12,159,15],[160,12,160,15],[161,12,161,15],[162,12,162,15],[163,12,163,15],[164,12,164,15],[165,12,165,15],[166,12,166,15],[167,12,167,15],[168,12,168,15],[169,12,169,15],[170,12,170,15],[171,12,171,15],[172,12,172,15],[173,12,173,15],[174,12,174,15],[184,12,184,15],[185,12,185,15],[186,12,186,15],[187,12,187,15],[175,12,175,15],[176,12,176,15],[177,12,177,15],[178,12,178,15],[179,12,179,15],[180,12,180,15],[181,12,181,15],[182,12,182,15],[183,12,183,15]]}
[]
[null,null,null,"TARIFAS DE SERVICIOS EN ALQUILER "]
[]
[]
[null,"Apreciado cliente, en este formulario podrá encontrar un completo listado con los servicios que Corferias pone a su disposición durante la planificación y desarrollo de la feria."]
[]
[null,"Los valores a continuación incluyen IVA del 19%",null,"Pensando en nuestros expositores, Corferias lo invita a conocer los nuevos Combos de Servicios en alquiler para que ahorre entre 5% y 20% según sus necesidades","Consulte las imágenes de referencia en nuestro catálogo: https://corferias.com/pdf/corferias-catalogo-de-servicios-2021.pdf"]
[]
[null,"SERVICIOS TÉCNICOS"]
[]
[null,"IMPORTANTE                                                                                                                                                                                                                                                                                                                                           ● Recuerde que las instalaciones de servicios de Agua, Desagüe, Gas, Aire comprimido y Electricidad se hacen según especificaciones técinas de Corferias.\n● Los equipos eléctricos deben estar protegidos por un estabilizador de voltaje, o supresor de picos, que el expositor debe proveer. "]
[null,"ELECTRICIDAD","CODIGO","DESCRIPCIÓN DEL SERVICIO","Ferias 1 a 6 días",null,"Ferias 7 días en adelante"]
[null,null,3070101,"Instalación Monofásica (Toma corriente doble, consumo hasta 2KW/110V)",364140,397460,397460,397460]
[null,null,3070103,"Instalación kilovatio adicional monofásico (Debe contar con punto principal, MAX 2KW por punto)",127092,127092,127092,127092]
[null,null,3070102,"Instalación trifásica (Regleta plastica, consumo hasta 4KW/208V)",678062,678062,678062,678062]
[null,null,3070104,"Instalación kilovatio adicional trifásico (Debe contar con punto principal)",165886,165886,165886,165886]
[null,null,3071372,"De 21 a 50 kilovatios adicionales trifásicos (Valor por KW) (Debe contar con punto principal)",150892,150892,150892,150892]
[null,null,3071373,"De 51 a 100 kilovatios adicionales trifásicos (Valor por KW) (Debe contar con punto principal)",144228,144228,144228,144228]
[null,null,3071374,"Mas de100 kilovatios adicionales trifásicos (Valor por KW) (Debe contar con punto principal)",138278,138278,138278,138278]
[null,null,3070402,"Lampara de pared ajustable (150W/110V)",73542,73542,73542,73542]
[null,null,3070405,"Reflector Led (50W- mltV)",77350,77350,77350,77350]
[null,null,3070403,"Extensión – tomacorriente doble con polo a tierra (1500W/110V) Máx 6mts No incluye electricidad",38080,38080,38080,38080]
[null,"AGUA, AIRE Y GAS","CODIGO","DESCRIPCIÓN DEL SERVICIO","Ferias 1 a 6 días",null,"Ferias 7 días en adelante"]
[null,null,3071345,"Lavaplatos 90XL* 60XH* 90 (No incluye agua y desagüe)",168028,181832,181832,181832]
[null,null,3070301,"Punto de Agua en 1/2\" (incluye consumo)",355096,355096,460054,460054]
[null,null,3070302,"Desagüe en 1/2\" Por toda la feria (Ubicación asignada por Corferias en su stand)",328678,404838,404838,404838]
[null,null,3071341,"Aire comprimido para punto con presión máx. de 100 PSI, y caudal máx. 35CFM.",475286,565488,565488,565488]
[null,null,3070307,"Punto de Agua en 1/2\" (Incluye consumo) + Desagüe en 1 1/2\" + Lavaplatos ",766598,766598,951524,951524]
[null,null,3071321,"Instalación de UN (1) punto de gas propano por UN (1) Equipo (Incluye materiales y mano de obra) (No incluye consumo de gas, este será liquidado a través de un medidor una vez finalice la feria y/o evento)",102102,306068,204680,306068]
[null,null,"Tenga en cuenta:\n● El valor de los kilogramos de Gas Propano se liquida al final de la feria a través de un medidor de consumo que se instala en cada stand.\n● El valor aproximado del consumo puede ser calculado teniendo en cuenta la información de la ficha tecnica del equipo que describe el consumo de kilogramos por hora."]
[null,"SISTEMA DIVISORIO","CODIGO","DESCRIPCIÓN DEL SERVICIO","VALOR FERIA"]
[null,null,3070601,"Panel adicional sistema cfe 100cm x 240cm",39151,39151,39151,39151]
[null,null,3070801,"Puerta sistema cfe 90cm x 240cm",97104,97104,97104,97104]
[null,null,3070803,"Bodega estándar con puerta 150cm x 150cm (Sistema Corferias)",154938,154938,154938,154938]
[null,"BRAZO MECÁNICO","CODIGO","DESCRIPCIÓN DEL SERVICIO","VALOR FERIA"]
[null,null,3071319,"Brazo Mecánico por Fracciòn de 15 min (Solo para primer nivel)",66400,66400,66400,66400]
[null,null,3071319,"Brazo Mecánico por Fracciòn de 30 min (Solo para primer nivel)",113500,113500,113500,113500]
[null,null,3071319,"Brazo Mecánico por Fracciòn de 60 min (Solo para primer nivel)",201700,201700,201700,201700]
[null,null,3070413,"Diferencial (Cap. 1 Ton.) + Brazo mecánico (Montaje y desmontaje) ",313300,313300,313300,313300]
[null,null,3070414,"Plataforma Tijera eléctrica por Fracciòn /30 min (Uso para segundos niveles)",78000,78000,78000,78000]
[null,null,"El servicio de Brazo mecánico por fracciones aplica según disponibilidad para los días y horarios oficiales de montaje y desmontaje (entre 8:00 a.m y 8:00 p.m.); para servicios por fuera de estos horarios puede comunicarse con la oficina del PLUS para brindarle asesoría y cotización a través de nuestros asesores. La prestación del servicio se coordina con el operario de la máquina de acuerdo a disponibilidad.\nEl tiempo de alquiler debe ser consumido en la feria."]
[null,"COMBOS","CODIGO","DESCRIPCIÓN DEL SERVICIO","VALOR FERIA"]
[null,null,3071387,"Brazo mecánico + Diferencial + TRUSS 2,60 X 2,60",3147920]
[null,null,3071351,"Brazo mecánico + Diferencial + TRUSS 3,60 X 2,60",3147920]
[null,null,3071395,"Brazo mecánico + Diferencial + TRUSS 3,60 X 3,60",3147920]
[null,null,3071324,"Brazo mecánico + Diferencial + TRUSS 5,90 X 5,90",3968650]
[null,null,3071436,"Brazo mecánico + Diferencial + TRUSS 6,90 X 6,90",3968650]
[null,null,3071350,"Brazo mecánico + Diferencial + TRUSS 5,60 X 5,60",3968650]
[null,null,3071371,"Brazo mecánico + Diferencial + TRUSS 6,60 X 6,60",3968650]
[null,null,3071393,"Brazo mecánico + Diferencial + TRUSS 9,60 X 2,60",3968650]
[null,null,3071394,"Brazo mecánico + Diferencial + TRUSS 9,60 X 3,60",3968650]
[null,null,3071396,"Brazo mecánico + Diferencial + TRUSS 9,60 X 5,60",5255040]
[null,null,3071397,"Brazo mecánico + Diferencial + TRUSS 9,60 X 6,60",5255040]
[null,null,"El alquiler de este servicio incluye: Equipo de elevación de alturas certificado,Operario certificado en alturas, Diferenciales, Eslingas,Grilletes y demas accesorios que se requieran para la instalación del truss. Incluye montaje y desmontaje."]
[]
[null,"TELECOMUNICACIONES Y REDES"]
[]
[null,"IMPORTANTE                                                                                                                                                                                                                                                                                                                                      \n● El servicio de Internet ofrecido por Corferias tiene un ancho de banda compartido, Corferias entrega un PIN (Clave) como sistema de autenticación válido para un equipo.\n● Requiere tecnologías con Tarjeta de red de 5 GHz o mínimo 2,4 802.11n, cobertura sobre los pabellones de la feria, excluyendo áreas libres.\nWiFi: Por su naturaleza inalámbria puede presentar algunas intermitencias en la efectividad de su conexión.\nCableado: Aplica para equipos que cuenten con una tarjeta de red con puerto RJ45."]
[null,"SERVICIO DE INTERNET Y REDES","CODIGO","DESCRIPCIÓN DEL SERVICIO","VALOR DÍA"]
[null,null,3071418,"Servicio de Internet Cableado \"PARA UN EQUIPO - DURANTE UN DÍA\"  \n(Debe contar con puerto RJ45) *Ancho de banda compartido",74970,74970,74970,74970]
[null,null,3071419,"Clave de acceso para la red WiFi  \"PARA UN EQUIPO - DURANTE UN DÍA\" \n(Incluye el servicio de navegación en Internet básico para consulta de correos y redes sociales)",74970,74970,74970,74970]
[null,null,"CODIGO","DESCRIPCIÓN DEL SERVICIO","VALOR FERIAS DE 3 DÍAS",null,"VALOR FERIAS DE 4 A 6 DÍAS","VALOR FERIAS A PARTIR DE 7 DÍAS EN ADELANTE"]
[null,null,3071417,"Servicio de Internet Cableado \"PARA UN EQUIPO - DURANTE TODA LA FERIA\"\n(Debe contar con puerto RJ45) *Ancho de banda compartido",180404,203490,203490,278460]
[null,null,3071420,"Clave de acceso para la Red WiFi \"PARA UN EQUIPO - DURANTE TODA LA FERIA\"\n(Incluye el servicio de navegación en Internet básico para consulta de correos y redes sociales) ",180404,203490,203490,278460]
[null,null,3071423,"Conexión para Datafono + Clave de acceso WIFI (Para un equipo durante toda la feria)",289765,314160,314160,385322]
[null,null,3071424,"Conexión para Datafono + Servicio de Internet Cableado (Para un equipo durante toda la feria)",289765,314160,314160,385322]
[null,null,3071425,"Servicio de Internet Cableado + Clave de acceso WIFI (Para un equipo durante toda la feria)",324751,366282,366282,501228]
[null,null,3071437,"Internet Dedicado: Si requiere conexión banda ancha para diferentes servicios o redes locales, contáctese con el área del PLUS de Corferias para brindarle asesoria y cotización."]
[null,"SERVICIO DE INTERNET Y REDES","CODIGO","DESCRIPCIÓN DEL SERVICIO","VALOR FERIA"]
[null,null,3071406,"Instalación Punto de Red: Incluye un cable UTP por punto,equipos de cominicación necesarios para la conexión de red (En caso de ser necesarios en calidad de prestamo), asesoria para el diseño de red). No incluye servicio de Internet.",90797,90797,90797,90797]
[null,null,3071407,"Switch: Equipos para soportar redes de datos. Incluye: Cable de poder (Necesita toma eléctrica), velocidad soportada 100/1000 BASE-T y capacidad de 1, 26 o 48 puertos. No incluye servicio de Internet, Incluye un punto de red.  VALOR POR FERIA ",87346,87346,87346,87346]
[null,null,3071402,"Servicio de VLAN: Servicio virtual de red. Permite la conexión de red interna, entre dispositivos en diferentes pabellones del Recinto Ferial. No incluye servicio de Internet, Incluye un punto de red.  VALOR POR FERIA",367115,367115,367115,367115]
[null,null,3071430,"Extension LAN: Servicio virtual para la extensión de una red externa al interior del Recinto Ferial.  Permite llevar el servicio a otro destino o ubicación dentro del recinto ferial. No incluye servicio de Internet.  VALOR POR FERIA  (Incluye punto de red y aplica para extender el servicio de internet contratado con terceros)",1401344,1401344,1401344,1401344]
[null,null,3071442,"Soporte técnico permanente (Por espacio de 8 horas) de un técnico. Solicitar con 24 horas de anterioridad VALOR DÍARIO ",243474,243474,243474,243474]
[null,"TELECOMUNICACIONES","CODIGO","DESCRIPCIÓN DEL SERVICIO","VALOR FERIA"]
[null,null,3070202,"Servicio Telefónico Urbano con Aparato (Incluye consumo local ilimitado)",42483,42483,42483,42483]
[null,null,3070203,"Servicio Telefónico Larga Distancia con aparato: Incluye consumo local ilimitado. El valor no incluye los consumos de larga distacia nacional, local extendida, internacional o celular (Estos consumos se cobran al final de la feria)",42483,42483,42483,42483]
[null,null,3070201,"Línea Externa no conmutada (Previa solicitud a Etb, Claro, EPM, Colomsat u otro operador): Servicio para traer troncales de una empresa o líneas dedicadas, incluye el traslado del strip telefónico del operador al stand del expositor.",120071,120071,120071,120071]
[null,null,3070207,"Conexión cableada para Datafono: (No incluye Datafono) Para el datafono el expositor debe contactarse con la Red transaccional: Redeban o Credibanco",127092,127092,127092,127092]
[]
[null,"MOBILIARIO Y ELEMENTOS DE DECORACIÓN"]
[null,"IMPORTANTE: El mobiliario será entregado por nuestro cotratista es su stand, en el desmontaje este mismo será el encargado de retirarlo."]
[null,"COMBOS","CODIGO","DESCRIPCIÓN DEL SERVICIO","VALOR FERIA"]
[null,null,3071105,"KIT básico oficina 2 (2 sillas interlocutoras negras, 1 silla ejecutiva cuero, 1 mesa oficina)",237286,199400,199400,199400]
[null,null,3071036,"Mesa plegable plastico + 2 sillas interlocutoras negras",190400,171100,171100,171100]
[null,null,3071039,"Mesa alta Daysa + 2 sillas neumaticas altas marsella",247163,227700,227700,227700]
[null,null,3071054,"Mesa estandar lotus vidrio + 2 sillas tipo huevo",272153,248800,248800,248800]
[null,"SILLAS",null,"Silla Bombonera Roja",65926]
[null,null,30713198,"Silla Gerencial (100cm x 49cm x 49cm)",155176,130400,130400,130400]
[null,null,3071081,"Silla Ejecutiva Malla",155176,130400,130400,130400]
[null,null,3071081,"Silla Ejecutiva Cuero (57cm x 93cm x 52cm)",75327,63300,63300,63300]
[null,null,3071061,"Silla estandar Suiza (48cm x 46cm x 45cm)",68901,57900,57900,57900]
[null,null,3071008,"Silla estandar Tipo Huevo (48cm x 46cm x 45cm)",68901,57900,57900,57900]
[null,null,3071006,"Silla Interlocutora Negra (79cm x 53cm x 42cm)",49504,41600,41600,41600]
[null,null,3071022,"Silla Neumatica alta Versalles (80cm x 40 cm x 40cm",104125,87500,87500,87500]
[null,null,3071077,"Silla Neumática alta Marsella (80cm x 40cm x 40cm)",82824,69600,69600,69600]
[null,null,null,"Silla Oslo Blanca",75327,69600,69600,69600]
[null,null,null,"Silla Tipo Bar Madera",81872,69600,69600,69600]
[null,"ESTANTERIAS",3070503,"Estantería Polo (Melaminico)   (200cm x 93cm x 35cm)",181951,152900,152900,152900]
[null,null,null,"Estantería Polo (Miel)  (200cm x 93cm x 35cm)",181951,152900,152900,152900]
[null,null,null,"Estantería Polo (OSB)  (200cm x 93cm x 35cm)",181951,152900,152900,152900]
[null,null,null,"Estantería Polo (Roble Gris)  (200cm x 93cm x 35cm)",181951,152900,152900,152900]
[null,null,null,"Estantería Polo (Rovere)  (200cm x 93cm x 35cm)",181951,152900,152900,152900]
[null,null,3071108,"Estantería Shelf 4E (190cm x 125cm x 41cm)",151606,127400,127400,127400]
[null,"COUNTERS",3071107,"Archivador Regina (70cm x 37cm x50cm)",158151,132900,132900,132900]
[null,null,3070954,"Counter Mónaco (Melaminico) (100cm x 100cm x 30cm)",171241,179900,179900,179900]
[null,null,null,"Counter Mónaco (Miel) (100cm x 100cm x 30cm)",171241,179900,179900,179900]
[null,null,null,"Counter Mónaco (Rovere) (100cm x 100cm x 30cm)",171241,179900,179900,179900]
[null,null,null,"Counter Mónaco (Roble Gris) (100cm x 100cm x 30cm)",171241,179900,179900,179900]
[null,"VITRINAS",3070535,"Vitrina Isla 2E (200cm x 50cm x 50cm)",286671,208400,208400,208400]
[null,null,3070517,"Vitrina Mostrador 2E (100cm x 100cm x 40cm)",214081,179900,179900,179900]
[null,null,3070518,"Vitrina Mostrador Tipo 2 1E (92cm x 90 cm x 40cm)",214081,179900,179900,179900]
[null,null,3071111,"Vitrina Rectangular 2E (200cm x 100cm x 40cm)",286671,240900,240900,240900]
[null,"MESAS",3071115,"Mesa alta Daysa (Melaminico) (100cm x 60cm)",105553,88700,88700,88700]
[null,null,null,"Mesa alta Daysa (Miel) (100cm x 60cm)",105553,88700,88700,88700]
[null,null,null,"Mesa alta Daysa (Roble Gris) (100cm x 60cm)",105553,88700,88700,88700]
[null,null,null,"Mesa alta Daysa (Rovere) (100cm x 60cm)",105553,88700,88700,88700]
[null,null,3071093,"Mesa alta Daysa vidrio (100cm x 60cm)",118643,99700,99700,99700]
[null,null,3071104,"Mesa Centro Cuadrada 2 Niveles (melaminico) (50cm x 60cm x 60)",85442,71800,71800,71800]
[null,null,3071100,"Mesa Centro Circular doble nivel (melaminico) (50cm x 110cm x 60cm)",117453,98700,98700,98700]
[null,null,3071068,"Mesa Centro Rectangular doble nivel (melaminico) (50cm x 75cm x 50cm)",85442,71800,71800,71800]
[null,null,3071097,"Mesa estandar Daysa (76cm x 60cm)",105553,88700,88700,88700]
[null,null,3071116,"Mesa estandar Lotus (70cm x 64cm x 81cm)",158151,132900,132900,132900]
[null,null,3071098,"Mesa estandar Shia Blanca (76cm x 60cm x 60cm)",105553,88700,88700,88700]
[null,null,3071098,"Mesa estandar Shia Negra (76cm x 60cm x 60cm)",105553,88700,88700,88700]
[null,null,30713200,"Mesa Oficina (78cm x 120cm x 50cm)",133042,111800,111800,111800]
[null,null,3070936,"Mesón plegable plástico (Blanco) (73cm x 182cm x 76cm)",104601,87900,87900,87900]
[null,"SALAS",3071113,"Sala Osaka (1 sofá Toronto, 2 puffs Donna, 1 mesa centro cuadrada 2 niveles)",461244,387600,387600,387600]
[null,null,3071095,"Sala VIP (1 sofá Victoria derecho, 1 sofá Victoria izquierdo, 2 poltronas, 1 mesa centro cuadrada 2 niveles)",690200,642500,642500,642500]
[null,"PUFF",3071090,"Puff estandar cuadrado (43cm x 43cm x 43cm)",55216,111800,111800,111800]
[null,null,3071091,"Puff Trunk 2 cuerpos (48cm x 81cm x 40cm)",105553,111800,111800,111800]
[null,null,3071114,"Puff Trunk 3 cuerpos (46cm x 120cm x 54cm)",105553,111800,111800,111800]
[null,"SOFAS",3071085,"Sofa Otawa 2 cuerpos (85cm x 120cm x 76cm)",210987,177300,177300,177300]
[null,null,3071083,"Sofa Toronto 3 cuerpos (88cm x 173cm x 80cm)",224077,188300,188300,188300]
[null,null,3071031,"Sofa Terranova 2 cuerpos (88cm x 173cm x 80cm)",224077,188300,188300,188300]
[null,null,3071013,"Sofa Victoria derecho (70cm x 100cm x 75cm)",182070,153000,153000,153000]
[null,null,3071023,"Sofa Victoria izquierdo (70cm x 100cm x 75cm)",182070,153000,153000,153000]
[null,null,30713201,"Poltrona Buggy (72cm x 64cm)",155176,130400,130400,130400]
[null,null,3071059,"Poltrona Levis (73cm x 86cm x 73cm)",197778,166200,166200,166200]
[null,"ACCESORIOS",3071302,"Papelera plastica negra",23443,19700,19700,19700]
[null,null,3071325,"Poste separador 120cm de alto",46291,38900,38900,38900]
[null,null,3070521,"Perchero básico 1 pedestal (120cm Ancho - Altura) graduable + 5 ganchos",89369,65100,65100,65100]
[null,null,null,"Perchero doble 2 pedestal (120cm Ancho-Altura) graduable + 5 ganchos",155176,75100,75100,75100]
[null,null,3070512,"Locker 12 puestos",337000,64900,64900,64900]
[null,null,3070714,"Cubo de exhibición (40cm x 40cm x 25cm)",34391,30000,30000,30000]
[null,null,3070957,"Pedestal cuadrado (30cm x 30cm x 30cm)",34391,28900,28900,28900]
[null,null,3070956,"Pedestal rectangular 60cm (60cm x 30cm x 30cm)",39627,33300,33300,33300]
[null,null,3070955,"Pedestal rectangular 90cm (90cm x 30cm x 30cm)",44982,37800,37800,37800]
[null,null,3071370,"Revistero plegable (140cm x 25cm x 29cm)",78540,66000,66000,66000]
[null,null,3071103,"Nevera Minibar 121 LT (48.5cm X 85.1cm X 60cm)",203371,170900,170900,170900]
[null,null,null,"Nevera Estandar 230LT ( 55.6cm X 157.6cm X 67cm)",299999,252100,252100,252100]
[null,null,3070505,"Tarima 120x120x60, (Previa verificación con área de montaje)",44030,37000,37000,37000]
[null,null,3071388,"Módulo de carga 20 puntos 110V",247163,207700,207700,207700]
[]
[null,"ELEMENTOS Y SUMINISTROS VIVERO"]
[null,"IMPORTANTE\nLo invitamos a visitar el vivero que se encuentra dentro de las instaciones de Corferias"]
[null,"COMBOS","CODIGO","DESCRIPCIÓN DEL SERVICIO","VALOR FERIA"]
[null,null,3071375,"Planta + matera plástica (Pequeña)",{"$f":"M158*1.19","v":24514},null,null,null,null,null,null,null,20600]
[null,null,3071376,"Planta + matera plástica (Mediana)",{"$f":"M159*1.19","v":55216},null,null,null,null,null,null,null,46400]
[null,null,3071377,"Planta + matera plástica (Grande)",{"$f":"M160*1.19","v":70448},null,null,null,null,null,null,null,59200]
[null,null,3071378,"Jardinera en madera + 3 Plantas grandes",119357,null,null,null,null,null,null,null,100300]
[null,null,3071379,"Jardinera en madera + 3 Plantas medianas",96509,null,null,null,null,null,null,null,81100]
[null,null,3071380,"Jardinera en madera + 7 Plantas pequeñas",99365,null,null,null,null,null,null,null,83500]
[null,"PLANTAS",3071381,"Cajoneras con flores",185402,null,null,null,null,null,null,null,155800]
[null,null,3071314,"Plantas Grandes (61cm x 120cm)",37723,null,null,null,null,null,null,null,31700]
[null,null,3071301,"Plantas Medianas (31cm x 120cm)",29750,null,null,null,null,null,null,null,25000]
[null,null,3071317,"Plantas Pequeñas (10cm x 30cm)",13209,null,null,null,null,null,null,null,11100]
[null,null,3071382,"Suculentas (10cm x 15cm)",13209,null,null,null,null,null,null,null,11100]
[null,null,3071383,"Chamizos",13209,null,null,null,null,null,null,null,11100]
[null,"MATERAS (no incluye planta)",3071355,"Materas de barro grande",36533,null,null,null,null,null,null,null,30700]
[null,null,3071356,"Materas de barro mediana",28441,null,null,null,null,null,null,null,23900]
[null,null,3071384,"Materas de barro pequeña",12614,null,null,null,null,null,null,null,10600]
[null,null,3071357,"Materas Plástica grande",36533,null,null,null,null,null,null,null,30700]
[null,null,3071358,"Materas Plástica mediana",28441,null,null,null,null,null,null,null,23900]
[null,null,3071359,"Materas Plástica pequeña",12614,null,null,null,null,null,null,null,10600]
[null,null,3071360,"Jardinera en madera (35cm x 100cm x 35cm)",12614,null,null,null,null,null,null,null,10600]
[null,"ARREGLOS FLORALES",3071352,"Arreglos florales Grandes",111622,null,null,null,null,null,null,null,93800]
[null,null,3071353,"Arreglos florales Medianos",64974,null,null,null,null,null,null,null,54600]
[null,null,3071354,"Arreglos florales Pequeños",28560,null,null,null,null,null,null,null,24000]
[null,"TOPIARIOS",3071364,"Topiario en forma de animales o frutas ",271915,null,null,null,null,null,null,null,228500]
[null,null,3071365,"Topiario en bolas grandes",271915,null,null,null,null,null,null,null,228500]
[null,null,3071385,"Topiario en bolas pequeñas",247163,null,null,null,null,null,null,null,207700]
[null,"SUMINISTROS",3071363,"Piedras (Por m2)",28441,null,null,null,null,null,null,null,23900]
[null,null,3071367,"Pino patula (Por bulto)",12614,null,null,null,null,null,null,null,10600]
[null,null,3071361,"Gravilla (Por m2)",12614,null,null,null,null,null,null,null,10600]
[null,null,3071386,"Muros verticales (Por m2)",390915,null,null,null,null,null,null,null,328500]
[null,null,3071366,"Cascarilla (Por bulto)",12614,null,null,null,null,null,null,null,10600]
[null,null,3071362,"Rocas (Por unidad)",{"$f":"M188*1.19","v":75327},null,null,null,null,null,null,null,63300]
[]
[null,"EQUIPOS"]
[null,"IMPORTANTE: Corferias cuenta con servicios técnicos adicionales para soluciones de Audio y Vídeo, contáctese con el área del PLUS de Corferias para brindarle asesoria y cotización."]
[null,null,"CODIGO","DESCRIPCIÓN DEL SERVICIO","VALOR  EVENTO 1 DIA ","VALOR EVENTO 2 DIAS                (VALOR DIARIO)","VALOR  DE 3 A 6 DIAS                        (VALOR DIARIO)","VALOR FERIAS\n DE 7 A 18 DIAS                   (VALOR FERIA)"]
[null,"VIDEO",3071346,"Base para Tv Led - LCD adaptable  (No Incluye Instalacion)",44744,44744,40698,289765]
[null,null,3071204,"Tv Smart  42\" 106cms ( Incluye base para tv / cable de corriente / 1 cable HDMI) IN: HDMI, USB ",149226,149226,136136,971635]
[null,null,3071206,"Tv Smart  55\" 140cms ( Incluye base para tv / cable de corriente / 1 cable HDMI) IN: HDMI, USB",223839,223839,203966,1455251]
[null,null,30713202,"Tv Smart  65\" 165cms ( Incluye base para tv / cable de corriente /1 cable HDMI) IN: HDMI, USB",348194,348194,329035,1666595]
[null,null,3071279,"Tv Smart  70\" 177,8cms ( Incluye base para tv / cable de corriente /1 cable HDMI) IN: HDMI, USB",559657,559657,509320,3637711]
[null,null,3071222,"Tv Smart  82\" 204cms ( Incluye base para tv / cable de corriente /1 cable HDMI) IN: HDMI, USB",1039584,1039584,945931,6755273]
[null,null,3071261,"Monitor tactil 65\" 165cms ( Incluye base para monitor / cableado) IN: HDMI",702100,702100,511462,5105100]
[null,null,3071284,"Tablet tactil 7\" RAM:1GB / Conectividad: 3G / Sistema Operativo Android 9.0",87108,87108,79373,565845]
[null,null,3071260,"Pantalla Led Full Hd Indoor / Medida 3,20mts x 2,96mts / Pitch 3,9 / No incluye estructura para montaje",1545453,1545453,1390872,13078100]
[null,null,3071260,"Pantalla Led Full Hd Indoor / Medida 4,48mts x 3,20mts / Pitch 3,9 / No incluye estructura para montaje",1790831,1790831,1611736,18857811]
[null,null,3071260,"Pantalla Led Full Hd Indoor / Medida 6,4mts x 3,20mts /mts2: 20,48 / Pitch 3,9 / No incluye estructura para montaje",2126530,2126530,1926015,13756043]
[null,null,3071264,"Pantalla Led Full Hd Indoor / Medida 6,4mts x 4,48mts /mts2: 28,67 / Pitch 3,9 / No incluye estructura para montaje",2835294,2835294,2567782,18341351]
[null,null,3071265,"Pantalla Led Full Hd Indoor / Medida 7,4mts x 5,12mts /mts2: 36,04 / Pitch 3,9 / No incluye estructura para montaje",4134774,4134774,3744692,26747749]
[null,null,3071266,"Pantalla Led Full Hd Indoor / Medida 8,32mts x 6,40mts /mts2: 53,25 / Pitch 3,9 / No incluye estructura para montaje",5670588,5670588,5135802,36682702]
[null,null,3071267,"Pantalla Led Full Hd Outdoor / Medida 6,4mts x 4,48mts  /mts2: 28,67 / Pitch 4,8 / No incluye estructura para montaje",2835294,2835294,2566235,18328856]
[null,null,3071268,"Pantalla Led Full Hd Outdoor / Medida 7,4mts x 5,12mts /mts2: 36,04/ Pitch 4,8 / No incluye estructura para montaje",4134774,4134774,3742193,26729423]
[null,null,3071269,"Pantalla Led Full Hd Outdoor / Medida 8,32mts x 6,40mts /mts2: 53,25/ Pitch 4,8 / No incluye estructura para montaje",5670588,5670588,5132232,36657355]
[null,null,3071234,"Video Proyector de 4.500 Lumens HD - El lugar de Proyeccion debe estar lo mas oscuro posible",435302,435302,422331,2622046]
[null,null,3071244,"Video Proyector de 6.000 Lumens HD - El lugar de Proyeccion debe estar lo mas oscuro posible",583100,583100,499800,4033505]
[null,null,3071271,"Video Proyector de 10.000 Lumens HD - El lugar de Proyeccion debe estar lo mas oscuro posible",1740970,1803207,1651125,11410077]
[null,null,3071232,"Telon proyección estructura profesional tela frontal y retro 1,80x1,20 cms",43554,43554,39865,283577]
[null,null,3071231,"Telon proyección estructura profesional tela frontal y retro 3,05x2,29 cms",221459,221459,202181,1443232]
[null,null,3071219,"Telon proyección estructura profesional tela frontal y retro 3,66x2,74 cms",186473,186473,167790,1342201]
[null,null,3071217,"Telon proyección estructura profesional tela frontal y retro 4,27x3,20 cms",391748,391748,355572,2539103]
[null,null,3071273,"Telon proyección estructura profesional tela frontal y retro 4,87x2,74 cms",559657,559657,556206,4449886]
[null,null,3071288,"Scalador de presentaciones / HDMI / SDI ",273700,273700,256802,2054654]
[null,null,3071289,"Switcher HDMI de 6 entradas ",310114,310114,282387,1575560]
[null,null,3071290,"Distribuidor de señales HDMI / SDI",126854,126854,115073,820981]
[null,null,3071387,"Punto Fijo de Video HD (Incluye: 1 Switcher de video / 1 computador portatil / 1 Monitor / 1 multi viewer/ 1 Tecnico de Video 8 horas)",746130,746130,681394,4865791]
[null,null,3071291,"CCTV Tipo 1 (Incluye: 1 Camara de video  profesional HD / 1 tripode de cabeza fluida / 1 Camarografo / 1 Switcher de video / 1 computador portatil / 1 Monitor / 1 multi viewer/ 1 Tecnico de Video 8 horas)",1094324,1094324,993650,7096446]
[null,null,30713203,"CCTV Tipo 2 (Incluye: 2 Camara de video  profesional HD / 1 tripode de cabeza fluida / 2 Camarografo / 1 Switcher de video / 1 computador portatil / 1 Monitor / 1 multi viewer/ 1 Tecnico de Video 8 horas / 1 sistema de comunicación Intercom)",1499043,1499043,1349103,10792586]
[null,null,3071292,"CCTV Tipo 3 (Incluye: 3 Camara de video  profesional HD / 1 tripode de cabeza fluida / 3 Camarografo / 1 Switcher de video / 1 computador portatil / 1 Monitor / 1 multi viewer/ 1 Tecnico de Video 8 horas / 1 sistema de comunicación Intercom)",1809871,1809871,1628991,7714056]
[null,"AUDIO",3071236,"Sistema de Audio tipo Minicomponente / conexión Bluetooh / Usb  ( No aplica para microfono)",111979,111979,101388,723401]
[null,null,30713204,"Sistema de Audio compacto Db Technologies Es 503 (Incluye 2 Sub / 2 Cabinas compacta de audio / Conexión Bluetooth / cable de corriente)",246211,246211,224672,1572347]
[null,null,30713205,"Sistema de Audio compacto Db Technologies Es 802 (Incluye 4 Sub / 2 Cabinas compacta de audio / cable de corriente)",547162,547162,517174,3619980]
[null,null,3071348,"Microfono Inalambrico de mano (Incluye Receptor de señal / cable XLR/ 2 baterias AA, no incluye instalación) ",95795,95795,87465,623441]
[null,null,3071349,"Microfono Inalambrico de diadema (Incluye Receptor de señal / cable XLR / 2 baterias AA, no incluye instalación) ",95795,95795,87465,623441]
[null,null,30713206,"Microfono alambrico (Incluye cable XLR, no incluye instalación) ",32725,32725,29393,205394]
[null,null,30713207,"Microfono Country Man (Incluye Receptor de señal / cable XLR / 2 baterias AA, no incluye instalación) ",186592,186592,169099,1184050]
[null,null,3071283,"Microfono Cuello de Ganso  (Incluye cable XLR, no incluye instalación)",232764,232883,209559,1676472]
[null,null,3071280,"Consola de Audio Analoga de 4CH (Se Requiere Operario)",190400,190400,171360,2159136]
[null,null,null,"Consola de Audio Analoga de 8CH (Se Requiere Operiario)",380800,380800,342720,3842510]
[null,null,30713208,"Cabina Activa (Incluye Cable conexión de audio RCA - Plug 1/4 / Cable de corriente)",111979,111979,101507,710073]
[null,null,3071293,"Caja para periodistas conexión canon de 10 CH / (No incluye operario permanente)",122570,122570,110313,882147]
[null,null,3070411,"Sonido de 1 a 100 Pax (Incluye 2 cabinas activas / 1 Microfono alambrico / cable XLR / 2 tripodes) (No incluye operario permanente)",192780,192780,175763,1254498]
[null,null,3071347,"Sonido de 100 a 200 Pax (Incluye 4 cabinas activas / 2 Microfono alambrico / 2 cables XLR / 4 tripodes) (No incluye operario permanente)",286076,286076,259777,1854496]
[null,null,3071294,"Sonido de 200 a 300 Pax (Incluye 6 cabinas activas / 2 Microfono alambrico / 2 cables XLR / 6 tripodes) (No incluye operario permanente)",528479,528479,482426,3445288]
[null,null,3071295,"Sonido de 300 a 400 Pax (Incluye 8 cabinas activas / 3 Microfono alambrico / 3 cables XLR / 8 tripodes) (No incluye operario permanente)",659141,659141,597142,4264127]
[null,null,3071296,"Sonido de 400 a 500 Pax (Incluye 8 cabinas activas / 4 Microfono alambrico / 4 cables XLR / 1 consola analoga de 4CH / 8 tripodes) (No incluye operario permanente)",684012,684012,622013,4442032]
[null,null,3071297,"Sonido de 500 a 800 Pax - Sistema Line Array sin estructura (Incluye 4 cajas Hi -Mid / 2 Subs) servicio sujeto a reunion tecnica de produccion",1467389,1467389,1336846,9568552]
[null,null,3071298,"Sonido de 800 a 1500 Pax - Sistema Line Array sin estructura (Incluye 8 cajas Hi -Mid / 2 Subs) servicio sujeto a reunion tecnica de produccion",2337874,2337874,2104158,16832669]
[null,null,3071299,"Sonido de 1500 a 2500 Pax - Sistema Line Array sin estructura (Incluye 12 cajas Hi -Mid / 4 Subs) servicio sujeto a reunion tecnica de produccion",2611455,2611455,2350369,18802476]
[null,null,3071258,"Sonido de 2500 a 3500 Pax - Sistema Line Array sin estructura (Incluye 16 cajas Hi -Mid / 6 Subs) servicio sujeto a reunion tecnica de produccion",3158617,3158617,2842791,22742090]
[null,null,3071259,"Sonido de 3500 a 4500 Pax - Sistema Line Array sin estructura (Incluye 20 cajas Hi -Mid / 8 Subs) servicio sujeto a reunion tecnica de produccion",3432198,3432198,3089002,24711897]
[null,"SERVICIOS COMPLEMENTARIOS",3071280,"Consola DMX 16 CH / (No incluye operario permanente) ",83300,83300,81991,655809]
[null,null,3071275,"Par Led RGB Indoor - según cantidad se requiere consola DMX ",35700,35700,32249,229908]
[null,null,3071281,"Cabeza movil (Beam - Spot - Matrix) Se requiere consola DMX adicional - No incluye Gobo personalizado",235025,235025,211582,1692180]
[null,null,3071282,"Seguidor profesional para espectaculos",305711,305711,275128,2200667]
[null,null,3071287,"Tramo de estructura Truss de 2 mts para montaje de Pantalla Led, sonido Line Array, Iluminacion. (No incluye: Instalacion y operario permanente)",70805,70805,63665,509439]
[null,null,3070532,"Diferencial Manual de 1 Tonelada (No incluye: Instalacion y  operario permanente)",60809,60809,54740,437920]
[null,null,3070533,"Motor de elevacion para estructuras de 2 Toneladas (No incluye: Instalacion y operario permanente)",447678,447678,402934,2910026]
[null,null,3071285,"Pasador de diapositivas USB de mediano alcance con puntero Laser (Incluye: 2 baterias)",24871,24871,22729,160769]
[null,null,3070534,"Tecnico Audiovisual de soporte y apoyo / valor por 8 horas ",198968,198968,191233,1364930]
[null,null,3071300,"Tecnico Audiovisual de soporte hora adicional, despues de 8 horas (diurno, nocturno, festivo diurno, festivo nocturno)",41769,41769,41769,41769]
[null,null,30713209,"Leeko Led White",198968,198968,180166,1261519]
[null,null,30713210,"Camara de Humo - incluye 200 mlt de liquido de Humo",167671,167671,150892,1206898]
[null,null,30713211,"Barra de Luz Led RGB ",95795,95795,86156,689367]
[null,null,30713212,"Sistema de monitoreo In-Ear (No incluye: Baterias y audifonos)",232407,232407,209202,1673497]
[null,null,30713213,"Tarima en madera negra / valor por Mt2 instalado (incluye faldon para tarima negro)",18683,18683,17017,119238]
[null,null,3071256,"Computador portatil de 14\" sistema operativo Windows 10, tarjeta Ram de 4GB, DD 256GB",99484,99484,90083,642600]
[null,null,null,"Portátil Apple Macbook Air Core I5 1.6Ghz 8Gb 128Gb Ssd 13.3 pulgadas Silver",309519,309519,278579,2236010]
[null,null,3071237,"Computador de escritorio, sistema operativo Windows 10, tarjeta Ram de 8GB, DD 256GB",99484,99484,90559,646527]
[]
[null,"SERVICIOS DE ASEO BÁSICO PARA STANDS"]
[null,"IMPORTANTE                                                                                                                                                                                                                                                                                                                                 \nCorferias pone a su disposición el servicio de Aseo para su área de exhibición, este servicio consta de las siguientes caracteristicas (limpieza del polvo y desinfección de superficies en estanterias, mesas y mesones, limpieza de canecas y retiro del material de desecho, aspirada del tapete o trapeado de piso duro); suministro de elementos e insumos para el aseo de las actividades relacionadas; operario uniformado, identificado y con las prestaciones correspondientes de ley.\n● Los elementos tales como: gel antibacterial, alcohol glicerinado u otros insumos para desinfección de visitantes o expositores NO estan incluidos en el servicio.\n● Corferias le informa que en el diligenciamiento del \"INSTRUCTIVO PROTOCOLO DE BIOSEGURIDAD PARA FERIAS Y EVENTOS\", Numeral 5 \"Protocolo de limpieza y desinfección\"  debe solo diligenciar en el espacio de \"Responsable(s) de aplicar y supervisar el procedimiento\" colocando CORFERIAS.\n●  Los registros propios del proveedor de aseo de las actividades y frecuencias serán diligenciados y de uso exclusivo del operario de aseo, en caso de requerirse, solo serán entregados a entes de control (propiedad intelectual empresarial).\nPara más información consulte los términos y condiciones del servicio"]
[null,"ASEO  BÁSICO","CODIGO","DESCRIPCIÓN DEL SERVICIO","VALOR DÍA ORDINARIO",null,"VALOR DÍA DOMINICAL O FESTIVO"]
[null,null,3071312,"Servicio de Aseo Permanente 8 horas - 1 Operario de aseo",102221,102221,179571,179571]
[null,null,"Nota:Para el cálculo de los metros cuadrados, por favor tener en cuenta el área total del stand, segundos niveles o mezzanines."]
[]
[null,"CORFERIAS CONECTA"]
[null,"IMPORTANTE                                                                                                                                                                                                                                                                                                                           \nServicio para ferias con contenido profesional que permite la captura de los datos de contacto registrados por los visistantes.\nEl internet configurado en la Tablet es para el uso exclusivo de la aplicación (No es de navegación).\nConsulte términos y condiciones del servicio en la página web www.corferias.com - Expositores - Servicios para expositores - Corferias Conecta"]
[null,"COMBOS","CODIGO","DESCRIPCIÓN DEL SERVICIO","VALOR FERIA",null,null,null,"PI-FO-2091 (V.6)"]
[null,null,3071433,"Corferias Conecta  APP (incluye el internet para un equipo)",336889,336889,336889,336889]
[null,null,3071432,"Corferias Conecta  APP + Tablet con internet",466599,466599,466599,466599]
[null,null,"3071431  ","Tablet adicional con internet",311066,311066,311066,311066]
[null,null,"3071326  ","Internet adicional para la app por equipo",111265,111265,111265,111265]
[]
[null,"*Corferias se reserva el derecho de realizar cambios a este documento*"]

{"sheet":"TERMINOS Y CONDICIONES","index":6,"n_rows":43,"n_cols":13,"rows_kept":43,"cut":false,"hidden":false,"merged":[[42,1,42,6],[40,1,40,11],[2,1,2,11],[35,1,35,11],[36,1,36,11],[37,1,37,11],[38,1,38,11],[39,1,39,11],[34,1,34,11],[27,1,27,11],[28,1,28,11],[29,1,29,11],[30,1,30,11],[31,1,31,11],[32,1,32,11],[33,1,33,11],[26,1,26,11],[23,1,23,11],[24,1,24,11],[25,1,25,11],[13,1,13,11],[14,1,14,11],[15,1,15,11],[16,1,16,11],[17,1,17,11],[18,1,18,11],[19,1,19,11],[20,1,20,11],[21,1,21,11],[22,1,22,11],[8,1,8,11],[9,1,9,11],[10,1,10,11],[11,1,11,11],[12,1,12,11],[7,1,7,11],[1,1,1,11],[3,1,3,11],[4,1,4,11],[5,1,5,11],[6,1,6,11]]}
[]
[null,"TERMINOS Y CONDICIONES"]
[null,"Gracias por dedicar unos minutos a leer los Términos y Condiciones, para nosotros es significativo que conozcan algunas recomendaciones importantes para la contratación de los servicios en alquiler que pone a disposición Corferias: "]
[null,"Por favor verifique"]
[null,"● La cantidad de servicios según las dimensiones de su stand"]
[null,"● Viabilidad de la instalación de los servicios técnicos, escribiéndonos al correo serviciosplus@corferias.com "]
[null,"● Disponibilidad del inventario"]
[null,"Tenga en cuenta "]
[null,"● Los servicios sin cancelar no serán instalados"]
[null,"● El servicio será entregado en la medida que se encuentre un responsable\n\n"]
[null,"● Si durante la feria el servicio alquilado llega a presentar algún inconveniente, usted debe informarlo al Supervisor Logístico o al Plus para brindar la solución correspondiente"]
[null,"● La pérdida o daño de los elementos alquilados es responsabilidad del expositor, por lo tanto, deberá asumir todos los gastos correspondientes a su reparación o reposición. "]
[null,"● Al finalizar la feria y durante los días de montaje el proveedor encargado de la entrega será quien retire los bienes y servicios alquilados."]
[null,"● Las tarifas aquí presentadas incluyen la instalación, el soporte técnico, no incluyen el IVA del 19%."]
[null,"Tiempos de instalación"]
[null,"● Para su comodidad, le sugerimos realizar el pago mínimo 5 días antes del inicio del montaje de la feria"]
[null,"● Los servicios pagos hasta el último día de montaje (hasta las 4:30 p.m.), serán instalados ese día."]
[null,"● Los servicios pagos a partir de las 4:30 p.m. del último día de montaje serán instalados máximo en 6 horas hábiles (8:30 a.m. – 5:30p.m.)"]
[null,"CONSIDERACIONES ADICIONALES"]
[null," SERVICIOS TÉCNICOS "]
[null,"● Recuerde que la instalación de Agua, Desagüe, Gas, Aire Comprimido y Electricidad, se hacen según especificaciones técnicas de Corferias"]
[null,"● La instalación de los servicios técnicos se debe realizar antes de la disposición y/o construcción de pisos o estructuras"]
[null,"Electricidad"]
[null,"●  Los equipos eléctricos deben estar protegidos por un estabilizador de voltaje o supresor de picos, que el expositor debe proveer. \n●  El voltaje y kilovatio suministrado es de 110V/2KW en monofásica y 208V/4KW en trifásica, (con un rango de máximo 5%), las dos con una frecuencia de 60 Hz. ​ \n●  A partir de 3 kilovatios monofásicos y 4 kilovatios trifásicos se entrega una regleta plástica, el expositor es el encargado de distribuir la energía y llevarla  hasta sus equipos. ​ \n●  La extensión tomacorriente no incluye electricidad. ​ \n●  La instalación monofásica no permite más de 3kw adicionales. ​ \n● El servicio eléctrico es deshabilitado al cierre del pabellón, si requiere del servicio permanente 24 horas, para dar suministro a frigoríficos maquinas, agradecemos comunicarlo al supervisor del pabellón. ​ \n●  Recuerde no sobrecargar la toma corriente eléctrica superando la capacidad de kilovatios, verifique los Watts de los equipos que desea utilizar en su stand. ​ "]
[null,"Agua, desagüe y lavaplatos"]
[null,"● El alquiler del lavaplatos no incluye servicio de agua y desagüe. ​ \n● El valor del punto de agua este incluye consumo durante la feria. ​ \n● La instalación del Punto de agua y desagüe se realiza con manguera de ½ pulgada. ​ "]
[null,"Aire comprimido  "]
[null,"● El aire comprimido está dispuesto para un punto con presión de máximo 100PSI y caudal de 35CFM​ \n● Corferias hace entrega de una manguera de conexión hembra, el expositor realiza la conexión de esta a la maquinaria. "]
[null,"Servicio de gas "]
[null,"● La instalación de UN (1) punto de gas propano por UN (1) Equipo (Incluye materiales y mano de obra) (No incluye consumo de gas, este será liquidado a través de un medidor una vez finalice la feria y/o evento)\n● El valor de los kilogramos de Gas Propano se liquida al final de la feria a través de un medidor de consumo que se instala en cada stand. \n● El valor aproximado del consumo puede ser calculado teniendo en cuenta la información de la ficha tecnica del equipo que describe el consumo de kilogramos por hora."]
[null,"Brazo mecánico y plataforma tijera "]
[null,"● El servicio de brazo mecánico aplica para primeros niveles y el servicio de plataforma eléctrica aplica para los segundos niveles de los pabellones. ​ \n● El servicio de maquinaria no incluye instalador, ni elementos de instalación. ​ \n● Estos servicios se rentan por fracción de minutos. \n● El servicio de brazo mecánico por fracciones aplica según disponibilidad para los días y horarios oficiales de montaje y desmontaje (entre 8:00a.m. – 8:00 p.m.); para servicios fuera de estos horarios pude comunicarse con la oficina del PLUS para brindarle asesoría y cotización. El tiempo de alquiler debe ser consumido en la feria."]
[null,"TELECOMUNICACIONES Y REDES "]
[null,"Internet básico​  "]
[null,"El servicio de internet básico ofrecido por Corferias permite navegación básica (consulta de correos y páginas web), cuenta con una red oscilante de 25MB en un ancho de banda compartido entre los expositores que adquieran el servicio. ​ \nCorferias ingresa en el equipo un PIN (Clave) valido para un equipo que permita su autenticación. ​ "]
[null,"Internet dedicado​ "]
[null,"Este servicio cuenta con una conexión simétrica y protocolo DHCP que permite una navegación compleja, servicios de streaming y aplicaciones en línea, para este servicio se destina una cantidad específica de megas como mínimo de 5MB de acuerdo a las necesidades de los expositores. ​ "]
[null,"Importante: "]
[null,"● El servicio de internet básico tiene cobertura dentro de los pabellones, no aplica en áreas libres. ​ \n● El servicio de internet cableado aplica para equipos que cuenten con un puerto de ethernet RJ45. ​ \n● El servicio de internet WIFI por su naturaleza inalámbrica puede presentar algunas intermitencias en la efectividad de su conexión. ​ \n● Los servicios de internet prestados por Corferias requieren tecnologías con Tarjeta de red de 5 Ghz y sistema operativo mínimo de Windows 10. "]
[null,"SERVICIO DE ASEO BÁSICO PARA STANDS"]
[null,"● El servicio debe ser confirmado y cancelado con 4 dias de antelacion al inicio del mismo\n●  Corferias pone a disposición las siguientes actividades: desinfección de superficies en estanterías, mesas, mesones (aprox cada 3hrs segun normas de bioseguridad), limpieza de polvo, canecas y retiro de material de desecho; aspirado de tapete y/o trapeado de piso duro. Los elementos de exhibición como obras de arte, maquinaria, entre otros, es responsabilidad del expositor su limpieza, aseo y desinfección.\n●  Las actividades a realizar son las que estan al alcance desde el piso; limpiezas especiales en altura no están contempladas en la presente cotización.\n●  El aseo de recuperación por montaje no está incluido, se entiende que el espacio se entregará en condiciones de limpieza básica, por parte de la empresa de montaje.\n●  El valor descrito incluye: salarios y costos de ley del operario de aseo, dotación, EPPs, elementos de aseo e insumos de aseo.\n●  Para procesos de desinfección se utilizará amonio cuaternario de quinta generación, la solicitud de insumos diferentes se realizará bajo responsabilidad y compra por parte del expositor.\n●  Elementos de bioseguridad como gel desinfectante, alcohol para expositores y visitantes o actividades de desinfección de elementos de muestra y/o venta NO están contemplados.\n●  El operario de aseo por razones de seguridad ingresará al stand cuando se encuentre el expositor o personal encargado. \n●  Previamente al inico de la feria se acordará con el expositor el horario de inicio de prestación del servicio, por lo anterior agradecemos estar puntual en el stand, ya que no se podrá reponer el tiempo en caso de retrasos.\n● Servicio permanente: la limpieza es continúa cumpliendo con la norma de desinfección de superficies de alto contacto, mínimo cada tres (3) horas. El servicio se prestará en turno de nueve (9) horas, durante el turno el personal se ausentará durante 15 minutos para el break y una (1) hora para el almuerzo. \tDe requerirse prorrogar el horario por actividades adicionales; se facturará como un adicional, pagándose por anticipado antes de realizar el servicio.\n● Corferias le informa que en el diligenciamiento del \"INSTRUCTIVO PROTOCOLO DE BIOSEGURIDAD PARA FERIAS Y EVENTOS\", Numeral 5 \"Protocolo de limpieza y desinfección\"  debe solo diligenciar en el espacio de \"Responsable(s) de aplicar y supervisar el procedimiento\" colocando CORFERIAS.\n● Los registros propios del proveedor de aseo de las actividades y frecuencias serán diligenciados y de uso exclusivo del operario de aseo, en caso de requerise, solo serán entregados a entes de control (propiedad intelectual empresarial).",null,null,null,null,null,null,null,null,null,null,"PI-F-2091 (V.6)"]
[]
[null,"*Corferias se reserva el derecho de realizar cambios a este documento*"]